BEGIN:VCALENDAR
VERSION:2.0
PRODID:-//EZFacility.com, Inc.//EZL 2.5.5.28621
BEGIN:VEVENT
UID:17009681@ezleagues.ezfacility.com
DTSTAMP:20260426T033534Z
CREATED:20260426T033534Z
DTSTART:20260212T024000Z
DTEND:20260212T033000Z
LOCATION:Indoor Field
CONTACT:
SUMMARY:Freseros AC VS. La Banca FC
DESCRIPTION:League Name: Men's 30+ Premier League Spring 2026\nGame Type: R
 egular\nGame Status: Complete\nHome Team: Freseros AC\nAway Team: La Banca
  FC\nHome Score: 8\nAway Score: 16
END:VEVENT
BEGIN:VEVENT
UID:17009686@ezleagues.ezfacility.com
DTSTAMP:20260426T033534Z
CREATED:20260426T033534Z
DTSTART:20260219T010000Z
DTEND:20260219T015000Z
LOCATION:Outdoor Field
CONTACT:
SUMMARY:La Banca FC VS. FC Viejos
DESCRIPTION:League Name: Men's 30+ Premier League Spring 2026\nGame Type: R
 egular\nGame Status: Complete\nHome Team: La Banca FC\nAway Team: FC Viejo
 s\nHome Score: 8\nAway Score: 6
END:VEVENT
BEGIN:VEVENT
UID:17009691@ezleagues.ezfacility.com
DTSTAMP:20260426T033534Z
CREATED:20260426T033534Z
DTSTART:20260226T015000Z
DTEND:20260226T024000Z
LOCATION:Indoor Field
CONTACT:
SUMMARY:La Banca FC VS. American Outlaws
DESCRIPTION:League Name: Men's 30+ Premier League Spring 2026\nGame Type: R
 egular\nGame Status: Complete\nHome Team: La Banca FC\nAway Team: American
  Outlaws\nHome Score: 16\nAway Score: 6
END:VEVENT
BEGIN:VEVENT
UID:17009698@ezleagues.ezfacility.com
DTSTAMP:20260426T033534Z
CREATED:20260426T033534Z
DTSTART:20260305T010000Z
DTEND:20260305T015000Z
LOCATION:Outdoor Field
CONTACT:
SUMMARY:Spartans FC VS. La Banca FC
DESCRIPTION:League Name: Men's 30+ Premier League Spring 2026\nGame Type: R
 egular\nGame Status: Complete\nHome Team: Spartans FC\nAway Team: La Banca
  FC\nHome Score: 7\nAway Score: 8
END:VEVENT
BEGIN:VEVENT
UID:17009712@ezleagues.ezfacility.com
DTSTAMP:20260426T033534Z
CREATED:20260426T033534Z
DTSTART:20260319T014000Z
DTEND:20260319T023000Z
LOCATION:Indoor Field
CONTACT:
SUMMARY:Guerreros VS. La Banca FC
DESCRIPTION:League Name: Men's 30+ Premier League Spring 2026\nGame Type: R
 egular\nGame Status: Complete\nHome Team: Guerreros\nAway Team: La Banca F
 C\nHome Score: 7\nAway Score: 8
END:VEVENT
BEGIN:VEVENT
UID:17010211@ezleagues.ezfacility.com
DTSTAMP:20260426T033534Z
CREATED:20260426T033534Z
DTSTART:20260402T023000Z
DTEND:20260402T032000Z
LOCATION:Indoor Field
CONTACT:
SUMMARY:Leon  VS. La Banca FC
DESCRIPTION:League Name: Men's 30+ Premier League Spring 2026\nGame Type: R
 egular\nGame Status: Complete\nHome Team: Leon \nAway Team: La Banca FC\nH
 ome Score: 14\nAway Score: 5
END:VEVENT
BEGIN:VEVENT
UID:17009705@ezleagues.ezfacility.com
DTSTAMP:20260426T033534Z
CREATED:20260426T033534Z
DTSTART:20260416T014000Z
DTEND:20260416T023000Z
LOCATION:Indoor Field
CONTACT:
SUMMARY:La Banca FC VS. El Tri
DESCRIPTION:League Name: Men's 30+ Premier League Spring 2026\nGame Type: R
 egular\nGame Status: Complete\nHome Team: La Banca FC\nAway Team: El Tri\n
 Home Score: 4\nAway Score: 5
END:VEVENT
BEGIN:VEVENT
UID:17080919@ezleagues.ezfacility.com
DTSTAMP:20260426T033534Z
CREATED:20260426T033534Z
DTSTART:20260423T014000Z
DTEND:20260423T023000Z
LOCATION:Indoor Field
CONTACT:
SUMMARY:La Banca FC VS. Guerreros
DESCRIPTION:League Name: Men's 30+ Premier League Spring 2026\nGame Type: P
 ostseason\nGame Status: Pending\nHome Team: La Banca FC\nAway Team: Guerre
 ros\n
END:VEVENT
BEGIN:VEVENT
UID:17080924@ezleagues.ezfacility.com
DTSTAMP:20260426T033534Z
CREATED:20260426T033534Z
DTSTART:20260430T005000Z
DTEND:20260430T014000Z
LOCATION:Indoor Field
CONTACT:
SUMMARY:La Banca FC VS. Galacticos
DESCRIPTION:League Name: Men's 30+ Premier League Spring 2026\nGame Type: P
 ostseason\nGame Status: Pending\nHome Team: La Banca FC\nAway Team: Galact
 icos\n
END:VEVENT
END:VCALENDAR
