BEGIN:VCALENDAR
VERSION:2.0
PRODID:-//EZFacility.com, Inc.//EZL 2.5.5.28621
BEGIN:VEVENT
UID:17009682@ezleagues.ezfacility.com
DTSTAMP:20260424T043204Z
CREATED:20260424T043204Z
DTSTART:20260212T024000Z
DTEND:20260212T033000Z
LOCATION:Outdoor Field
CONTACT:
SUMMARY:Sacachispas FC VS. Guerreros
DESCRIPTION:League Name: Men's 30+ Premier League Spring 2026\nGame Type: R
 egular\nGame Status: Complete\nHome Team: Sacachispas FC\nAway Team: Guerr
 eros\nHome Score: 9\nAway Score: 5
END:VEVENT
BEGIN:VEVENT
UID:17009687@ezleagues.ezfacility.com
DTSTAMP:20260424T043204Z
CREATED:20260424T043204Z
DTSTART:20260219T015000Z
DTEND:20260219T024000Z
LOCATION:Outdoor Field
CONTACT:
SUMMARY:Sacachispas FC VS. East Texas
DESCRIPTION:League Name: Men's 30+ Premier League Spring 2026\nGame Type: R
 egular\nGame Status: Complete\nHome Team: Sacachispas FC\nAway Team: East 
 Texas\nHome Score: 10\nAway Score: 2
END:VEVENT
BEGIN:VEVENT
UID:17009692@ezleagues.ezfacility.com
DTSTAMP:20260424T043204Z
CREATED:20260424T043204Z
DTSTART:20260226T010000Z
DTEND:20260226T015000Z
LOCATION:Indoor Field
CONTACT:
SUMMARY:Galacticos VS. Sacachispas FC
DESCRIPTION:League Name: Men's 30+ Premier League Spring 2026\nGame Type: R
 egular\nGame Status: Complete\nHome Team: Galacticos\nAway Team: Sacachisp
 as FC\nHome Score: 8\nAway Score: 5
END:VEVENT
BEGIN:VEVENT
UID:17009697@ezleagues.ezfacility.com
DTSTAMP:20260424T043204Z
CREATED:20260424T043204Z
DTSTART:20260305T015000Z
DTEND:20260305T024000Z
LOCATION:Indoor Field
CONTACT:
SUMMARY:American Outlaws VS. Sacachispas FC
DESCRIPTION:League Name: Men's 30+ Premier League Spring 2026\nGame Type: R
 egular\nGame Status: Complete\nHome Team: American Outlaws\nAway Team: Sac
 achispas FC\nHome Score: 8\nAway Score: 5
END:VEVENT
BEGIN:VEVENT
UID:17010215@ezleagues.ezfacility.com
DTSTAMP:20260424T043204Z
CREATED:20260424T043204Z
DTSTART:20260312T023000Z
DTEND:20260312T032000Z
LOCATION:Indoor Field
CONTACT:
SUMMARY:Phalanx VS. Sacachispas FC
DESCRIPTION:League Name: Men's 30+ Premier League Spring 2026\nGame Type: R
 egular\nGame Status: Complete\nHome Team: Phalanx\nAway Team: Sacachispas 
 FC\nHome Score: 13\nAway Score: 3
END:VEVENT
BEGIN:VEVENT
UID:17009711@ezleagues.ezfacility.com
DTSTAMP:20260424T043204Z
CREATED:20260424T043204Z
DTSTART:20260319T000000Z
DTEND:20260319T005000Z
LOCATION:Indoor Field
CONTACT:
SUMMARY:Loki Locos VS. Sacachispas FC
DESCRIPTION:League Name: Men's 30+ Premier League Spring 2026\nGame Type: R
 egular\nGame Status: Complete\nHome Team: Loki Locos\nAway Team: Sacachisp
 as FC\nHome Score: 4\nAway Score: 21
END:VEVENT
BEGIN:VEVENT
UID:17010228@ezleagues.ezfacility.com
DTSTAMP:20260424T043204Z
CREATED:20260424T043204Z
DTSTART:20260402T005000Z
DTEND:20260402T014000Z
LOCATION:Indoor Field
CONTACT:
SUMMARY:El Tri VS. Sacachispas FC
DESCRIPTION:League Name: Men's 30+ Premier League Spring 2026\nGame Type: R
 egular\nGame Status: Complete\nHome Team: El Tri\nAway Team: Sacachispas F
 C\nHome Score: 8\nAway Score: 7
END:VEVENT
BEGIN:VEVENT
UID:17080918@ezleagues.ezfacility.com
DTSTAMP:20260424T043204Z
CREATED:20260424T043204Z
DTSTART:20260423T000000Z
DTEND:20260423T005000Z
LOCATION:Indoor Field
CONTACT:
SUMMARY:El Tri VS. Sacachispas FC
DESCRIPTION:League Name: Men's 30+ Premier League Spring 2026\nGame Type: P
 ostseason\nGame Status: Pending\nHome Team: El Tri\nAway Team: Sacachispas
  FC\n
END:VEVENT
END:VCALENDAR
