BEGIN:VCALENDAR
VERSION:2.0
PRODID:-//EZFacility.com, Inc.//EZL 2.5.5.28621
BEGIN:VEVENT
UID:17009742@ezleagues.ezfacility.com
DTSTAMP:20260424T043228Z
CREATED:20260424T043228Z
DTSTART:20260212T040000Z
DTEND:20260212T050000Z
LOCATION:Field 1
CONTACT:
SUMMARY:los Galacticos VS. Deportivo Livingston
DESCRIPTION:League Name: Men's Open Wednesday\nGame Type: Regular\nGame Sta
 tus: Complete\nHome Team: los Galacticos\nAway Team: Deportivo Livingston\
 nHome Score: 18\nAway Score: 2
END:VEVENT
BEGIN:VEVENT
UID:17009748@ezleagues.ezfacility.com
DTSTAMP:20260424T043228Z
CREATED:20260424T043228Z
DTSTART:20260219T030000Z
DTEND:20260219T040000Z
LOCATION:Field 1
CONTACT:
SUMMARY:los Galacticos VS. Artilleros
DESCRIPTION:League Name: Men's Open Wednesday\nGame Type: Regular\nGame Sta
 tus: Complete\nHome Team: los Galacticos\nAway Team: Artilleros\nHome Scor
 e: 5\nAway Score: 5
END:VEVENT
BEGIN:VEVENT
UID:17009754@ezleagues.ezfacility.com
DTSTAMP:20260424T043228Z
CREATED:20260424T043228Z
DTSTART:20260226T030000Z
DTEND:20260226T040000Z
LOCATION:Field 1
CONTACT:
SUMMARY:los Galacticos VS. Atletico
DESCRIPTION:League Name: Men's Open Wednesday\nGame Type: Regular\nGame Sta
 tus: Complete\nHome Team: los Galacticos\nAway Team: Atletico\nHome Score:
  6\nAway Score: 2
END:VEVENT
BEGIN:VEVENT
UID:17009759@ezleagues.ezfacility.com
DTSTAMP:20260424T043228Z
CREATED:20260424T043228Z
DTSTART:20260305T040000Z
DTEND:20260305T050000Z
LOCATION:Field 2
CONTACT:
SUMMARY:Cotija VS. los Galacticos
DESCRIPTION:League Name: Men's Open Wednesday\nGame Type: Regular\nGame Sta
 tus: Complete\nHome Team: Cotija\nAway Team: los Galacticos\nHome Score: 4
 \nAway Score: 6
END:VEVENT
BEGIN:VEVENT
UID:17009763@ezleagues.ezfacility.com
DTSTAMP:20260424T043228Z
CREATED:20260424T043228Z
DTSTART:20260312T030000Z
DTEND:20260312T040000Z
LOCATION:Field 2
CONTACT:
SUMMARY:West Side Army VS. los Galacticos
DESCRIPTION:League Name: Men's Open Wednesday\nGame Type: Regular\nGame Sta
 tus: Complete\nHome Team: West Side Army\nAway Team: los Galacticos\nHome 
 Score: 2\nAway Score: 13
END:VEVENT
BEGIN:VEVENT
UID:17009767@ezleagues.ezfacility.com
DTSTAMP:20260424T043228Z
CREATED:20260424T043228Z
DTSTART:20260319T020000Z
DTEND:20260319T030000Z
LOCATION:Field 2
CONTACT:
SUMMARY:Jaguares FC VS. los Galacticos
DESCRIPTION:League Name: Men's Open Wednesday\nGame Type: Regular\nGame Sta
 tus: Complete\nHome Team: Jaguares FC\nAway Team: los Galacticos\nHome Sco
 re: 3\nAway Score: 13
END:VEVENT
BEGIN:VEVENT
UID:17009771@ezleagues.ezfacility.com
DTSTAMP:20260424T043228Z
CREATED:20260424T043228Z
DTSTART:20260326T030000Z
DTEND:20260326T040000Z
LOCATION:Field 1
CONTACT:
SUMMARY:Crane Park VS. los Galacticos
DESCRIPTION:League Name: Men's Open Wednesday\nGame Type: Regular\nGame Sta
 tus: Complete\nHome Team: Crane Park\nAway Team: los Galacticos\nHome Scor
 e: 2\nAway Score: 7
END:VEVENT
BEGIN:VEVENT
UID:17009775@ezleagues.ezfacility.com
DTSTAMP:20260424T043228Z
CREATED:20260424T043228Z
DTSTART:20260402T010000Z
DTEND:20260402T020000Z
LOCATION:Field 1
CONTACT:
SUMMARY:los Galacticos VS. Gamma FC 
DESCRIPTION:League Name: Men's Open Wednesday\nGame Type: Regular\nGame Sta
 tus: Complete\nHome Team: los Galacticos\nAway Team: Gamma FC \nHome Score
 : 6\nAway Score: 4
END:VEVENT
BEGIN:VEVENT
UID:17079827@ezleagues.ezfacility.com
DTSTAMP:20260424T043228Z
CREATED:20260424T043228Z
DTSTART:20260409T030000Z
DTEND:20260409T034800Z
LOCATION:Field 1
CONTACT:
SUMMARY:los Galacticos VS. Los Caguamos 
DESCRIPTION:League Name: Men's Open Wednesday\nGame Type: Postseason\nGame 
 Status: Complete\nHome Team: los Galacticos\nAway Team: Los Caguamos \nHom
 e Score: 8\nAway Score: 4
END:VEVENT
BEGIN:VEVENT
UID:17091107@ezleagues.ezfacility.com
DTSTAMP:20260424T043228Z
CREATED:20260424T043228Z
DTSTART:20260416T030000Z
DTEND:20260416T034800Z
LOCATION:Field 1
CONTACT:
SUMMARY:los Galacticos VS. Cotija
DESCRIPTION:League Name: Men's Open Wednesday\nGame Type: Postseason\nGame 
 Status: Complete\nHome Team: los Galacticos\nAway Team: Cotija\nHome Score
 : 4\nAway Score: 3
END:VEVENT
END:VCALENDAR
