BEGIN:VCALENDAR
VERSION:2.0
PRODID:-//EZFacility.com, Inc.//EZL 2.5.5.28621
BEGIN:VEVENT
UID:17010075@ezleagues.ezfacility.com
DTSTAMP:20260424T043226Z
CREATED:20260424T043226Z
DTSTART:20260314T180000Z
DTEND:20260314T200000Z
LOCATION:Air Dome
CONTACT:
SUMMARY:White Marsh Warriors VS. Delmarva Aces Beach
DESCRIPTION:League Name:  2026 Spring Thaw 9U \nGame Type: Regular\nGame St
 atus: Complete\nHome Team: White Marsh Warriors\nAway Team: Delmarva Aces 
 Beach\nHome Score: 9\nAway Score: 1
END:VEVENT
BEGIN:VEVENT
UID:17010076@ezleagues.ezfacility.com
DTSTAMP:20260424T043226Z
CREATED:20260424T043226Z
DTSTART:20260314T200000Z
DTEND:20260314T220000Z
LOCATION:Air Dome
CONTACT:
SUMMARY:LT Comets VS. White Marsh Warriors
DESCRIPTION:League Name:  2026 Spring Thaw 9U \nGame Type: Regular\nGame St
 atus: Complete\nHome Team: LT Comets\nAway Team: White Marsh Warriors\nHom
 e Score: 0\nAway Score: 10
END:VEVENT
BEGIN:VEVENT
UID:17017748@ezleagues.ezfacility.com
DTSTAMP:20260424T043226Z
CREATED:20260424T043226Z
DTSTART:20260315T180000Z
DTEND:20260315T200000Z
LOCATION:Air Dome
CONTACT:
SUMMARY:White Marsh Warriors VS. Elkridge Hurricanes
DESCRIPTION:League Name:  2026 Spring Thaw 9U \nGame Type: Regular\nGame St
 atus: Complete\nHome Team: White Marsh Warriors\nAway Team: Elkridge Hurri
 canes\nHome Score: 10\nAway Score: 8
END:VEVENT
BEGIN:VEVENT
UID:17017749@ezleagues.ezfacility.com
DTSTAMP:20260424T043226Z
CREATED:20260424T043226Z
DTSTART:20260315T200000Z
DTEND:20260315T220000Z
LOCATION:Air Dome
CONTACT:
SUMMARY:White Marsh Warriors VS. Harundale Rebels
DESCRIPTION:League Name:  2026 Spring Thaw 9U \nGame Type: Regular\nGame St
 atus: Pending\nHome Team: White Marsh Warriors\nAway Team: Harundale Rebel
 s\n
END:VEVENT
END:VCALENDAR
