BEGIN:VCALENDAR
VERSION:2.0
PRODID:-//EZFacility.com, Inc.//EZL 2.5.5.28621
BEGIN:VEVENT
UID:16993649@ezleagues.ezfacility.com
DTSTAMP:20260426T033629Z
CREATED:20260426T033629Z
DTSTART:20260222T000000Z
DTEND:20260222T010000Z
LOCATION:Party Room Downstairs
CONTACT:
SUMMARY:2. Mahwah Raiders VS. 201 Flight Winter 1 
DESCRIPTION:League Name: Superdome Sports 2026 Girls U14 Youth League\nGame
  Type: Regular\nGame Status: Pending\nHome Team: 2. Mahwah Raiders\nAway T
 eam: 201 Flight Winter 1 \n
END:VEVENT
BEGIN:VEVENT
UID:16993651@ezleagues.ezfacility.com
DTSTAMP:20260426T033629Z
CREATED:20260426T033629Z
DTSTART:20260314T230000Z
DTEND:20260315T000000Z
LOCATION:Field 2
CONTACT:
SUMMARY:201 Flight Winter 1  VS. 2. Mahwah Raiders
DESCRIPTION:League Name: Superdome Sports 2026 Girls U14 Youth League\nGame
  Type: Regular\nGame Status: Pending\nHome Team: 201 Flight Winter 1 \nAwa
 y Team: 2. Mahwah Raiders\n
END:VEVENT
END:VCALENDAR
