BEGIN:VCALENDAR
VERSION:2.0
PRODID:-//EZFacility.com, Inc.//EZL 2.5.5.28621
BEGIN:VEVENT
UID:17015959@ezleagues.ezfacility.com
DTSTAMP:20260424T044048Z
CREATED:20260424T044048Z
DTSTART:20260220T023000Z
DTEND:20260220T031000Z
LOCATION:Indoor 1
CONTACT:
SUMMARY:UMMC M1s (NC) VS. False 9 to 5 (C)
DESCRIPTION:League Name: Spring 2026 Coed\nGame Type: Regular\nGame Status:
  Complete\nHome Team: UMMC M1s (NC)\nAway Team: False 9 to 5 (C)\nHome Sco
 re: 0\nAway Score: 2
END:VEVENT
BEGIN:VEVENT
UID:17015961@ezleagues.ezfacility.com
DTSTAMP:20260424T044048Z
CREATED:20260424T044048Z
DTSTART:20260224T013000Z
DTEND:20260224T021000Z
LOCATION:Indoor 1
CONTACT:
SUMMARY:UMMC M1s (NC) VS. UMMC FC (NC)
DESCRIPTION:League Name: Spring 2026 Coed\nGame Type: Regular\nGame Status:
  Complete\nHome Team: UMMC M1s (NC)\nAway Team: UMMC FC (NC)\nHome Score: 
 2\nAway Score: 2
END:VEVENT
BEGIN:VEVENT
UID:17015966@ezleagues.ezfacility.com
DTSTAMP:20260424T044048Z
CREATED:20260424T044048Z
DTSTART:20260306T003000Z
DTEND:20260306T011000Z
LOCATION:Indoor 1
CONTACT:
SUMMARY:Everything Hurts FC (NC) VS. UMMC M1s (NC)
DESCRIPTION:League Name: Spring 2026 Coed\nGame Type: Regular\nGame Status:
  Complete\nHome Team: Everything Hurts FC (NC)\nAway Team: UMMC M1s (NC)\n
 Home Score: 4\nAway Score: 4
END:VEVENT
BEGIN:VEVENT
UID:17015972@ezleagues.ezfacility.com
DTSTAMP:20260424T044048Z
CREATED:20260424T044048Z
DTSTART:20260316T233000Z
DTEND:20260317T001000Z
LOCATION:Indoor 1
CONTACT:
SUMMARY:Healthplex FC (NC) VS. UMMC M1s (NC)
DESCRIPTION:League Name: Spring 2026 Coed\nGame Type: Regular\nGame Status:
  Complete\nHome Team: Healthplex FC (NC)\nAway Team: UMMC M1s (NC)\nHome S
 core: 4\nAway Score: 5
END:VEVENT
BEGIN:VEVENT
UID:17015984@ezleagues.ezfacility.com
DTSTAMP:20260424T044048Z
CREATED:20260424T044048Z
DTSTART:20260402T233000Z
DTEND:20260403T001000Z
LOCATION:Indoor 1
CONTACT:
SUMMARY:Grass Kickers (NC) VS. UMMC M1s (NC)
DESCRIPTION:League Name: Spring 2026 Coed\nGame Type: Regular\nGame Status:
  Complete\nHome Team: Grass Kickers (NC)\nAway Team: UMMC M1s (NC)\nHome S
 core: 6\nAway Score: 11
END:VEVENT
BEGIN:VEVENT
UID:17015988@ezleagues.ezfacility.com
DTSTAMP:20260424T044048Z
CREATED:20260424T044048Z
DTSTART:20260410T003000Z
DTEND:20260410T011000Z
LOCATION:Indoor 1
CONTACT:
SUMMARY:UMMC M1s (NC) VS. Kick Acidosis (NC)
DESCRIPTION:League Name: Spring 2026 Coed\nGame Type: Regular\nGame Status:
  Complete\nHome Team: UMMC M1s (NC)\nAway Team: Kick Acidosis (NC)\nHome S
 core: 7\nAway Score: 9
END:VEVENT
BEGIN:VEVENT
UID:17015992@ezleagues.ezfacility.com
DTSTAMP:20260424T044048Z
CREATED:20260424T044048Z
DTSTART:20260417T013000Z
DTEND:20260417T021000Z
LOCATION:Indoor 1
CONTACT:
SUMMARY:Mexico FC (NC) VS. UMMC M1s (NC)
DESCRIPTION:League Name: Spring 2026 Coed\nGame Type: Regular\nGame Status:
  Complete\nHome Team: Mexico FC (NC)\nAway Team: UMMC M1s (NC)\nHome Score
 : 9\nAway Score: 3
END:VEVENT
BEGIN:VEVENT
UID:17015976@ezleagues.ezfacility.com
DTSTAMP:20260424T044048Z
CREATED:20260424T044048Z
DTSTART:20260420T233000Z
DTEND:20260421T001000Z
LOCATION:Indoor 1
CONTACT:
SUMMARY:UMMC M1s (NC) VS. Phantom Strikers (C)
DESCRIPTION:League Name: Spring 2026 Coed\nGame Type: Regular\nGame Status:
  Complete\nHome Team: UMMC M1s (NC)\nAway Team: Phantom Strikers (C)\nHome
  Score: 0\nAway Score: 3
END:VEVENT
END:VCALENDAR
