BEGIN:VCALENDAR
VERSION:2.0
PRODID:-//EZFacility.com, Inc.//EZL 2.5.5.28621
BEGIN:VEVENT
UID:17012147@ezleagues.ezfacility.com
DTSTAMP:20260424T044223Z
CREATED:20260424T044223Z
DTSTART:20260208T014000Z
DTEND:20260208T023000Z
LOCATION:Eagles1 Main Field
CONTACT:
SUMMARY:Team 4 VS. Santa Isabel
DESCRIPTION:League Name: Saturday Men\nGame Type: Regular\nGame Status: Pen
 ding\nHome Team: Team 4\nAway Team: Santa Isabel\n
END:VEVENT
BEGIN:VEVENT
UID:17012154@ezleagues.ezfacility.com
DTSTAMP:20260424T044223Z
CREATED:20260424T044223Z
DTSTART:20260215T023000Z
DTEND:20260215T032000Z
LOCATION:Eagles1 Main Field
CONTACT:
SUMMARY:Team 4 VS. Yanwen
DESCRIPTION:League Name: Saturday Men\nGame Type: Regular\nGame Status: Pen
 ding\nHome Team: Team 4\nAway Team: Yanwen\n
END:VEVENT
BEGIN:VEVENT
UID:17012161@ezleagues.ezfacility.com
DTSTAMP:20260424T044223Z
CREATED:20260424T044223Z
DTSTART:20260222T005000Z
DTEND:20260222T014000Z
LOCATION:Eagles1 Main Field
CONTACT:
SUMMARY:Team 4 VS. Real Olimpia
DESCRIPTION:League Name: Saturday Men\nGame Type: Regular\nGame Status: Com
 plete\nHome Team: Team 4\nAway Team: Real Olimpia\nHome Score: 10\nAway Sc
 ore: 3
END:VEVENT
BEGIN:VEVENT
UID:17012168@ezleagues.ezfacility.com
DTSTAMP:20260424T044223Z
CREATED:20260424T044223Z
DTSTART:20260301T040000Z
DTEND:20260301T045000Z
LOCATION:Eagles1 Main Field
CONTACT:
SUMMARY:Team 4 VS. APEX FC
DESCRIPTION:League Name: Saturday Men\nGame Type: Regular\nGame Status: Pen
 ding\nHome Team: Team 4\nAway Team: APEX FC\n
END:VEVENT
BEGIN:VEVENT
UID:17012174@ezleagues.ezfacility.com
DTSTAMP:20260424T044223Z
CREATED:20260424T044223Z
DTSTART:20260308T031000Z
DTEND:20260308T040000Z
LOCATION:Eagles1 Main Field
CONTACT:
SUMMARY:Pintos VS. Team 4
DESCRIPTION:League Name: Saturday Men\nGame Type: Regular\nGame Status: Com
 plete\nHome Team: Pintos\nAway Team: Team 4\nHome Score: 5\nAway Score: 8
END:VEVENT
BEGIN:VEVENT
UID:17012179@ezleagues.ezfacility.com
DTSTAMP:20260424T044223Z
CREATED:20260424T044223Z
DTSTART:20260315T030000Z
DTEND:20260315T035000Z
LOCATION:Eagles1 Main Field
CONTACT:
SUMMARY:Astonica VS. Team 4
DESCRIPTION:League Name: Saturday Men\nGame Type: Regular\nGame Status: Com
 plete\nHome Team: Astonica\nAway Team: Team 4\nHome Score: 2\nAway Score: 
 7
END:VEVENT
BEGIN:VEVENT
UID:17012184@ezleagues.ezfacility.com
DTSTAMP:20260424T044223Z
CREATED:20260424T044223Z
DTSTART:20260322T004000Z
DTEND:20260322T013000Z
LOCATION:Eagles1 Main Field
CONTACT:
SUMMARY:Santa Cruz VS. Team 4
DESCRIPTION:League Name: Saturday Men\nGame Type: Regular\nGame Status: Com
 plete\nHome Team: Santa Cruz\nAway Team: Team 4\nHome Score: 2\nAway Score
 : 0
END:VEVENT
BEGIN:VEVENT
UID:17012189@ezleagues.ezfacility.com
DTSTAMP:20260424T044223Z
CREATED:20260424T044223Z
DTSTART:20260328T235000Z
DTEND:20260329T004000Z
LOCATION:Eagles1 Main Field
CONTACT:
SUMMARY:Team 12 VS. Team 4
DESCRIPTION:League Name: Saturday Men\nGame Type: Regular\nGame Status: Com
 plete\nHome Team: Team 12\nAway Team: Team 4\nHome Score: 5\nAway Score: 1
 1
END:VEVENT
BEGIN:VEVENT
UID:17012194@ezleagues.ezfacility.com
DTSTAMP:20260424T044223Z
CREATED:20260424T044223Z
DTSTART:20260405T013000Z
DTEND:20260405T022000Z
LOCATION:Eagles1 Main Field
CONTACT:
SUMMARY:La plebe VS. Team 4
DESCRIPTION:League Name: Saturday Men\nGame Type: Regular\nGame Status: Com
 plete\nHome Team: La plebe\nAway Team: Team 4\nHome Score: 5\nAway Score: 
 10
END:VEVENT
BEGIN:VEVENT
UID:17012199@ezleagues.ezfacility.com
DTSTAMP:20260424T044223Z
CREATED:20260424T044223Z
DTSTART:20260411T230000Z
DTEND:20260411T235000Z
LOCATION:Eagles1 Main Field
CONTACT:
SUMMARY:Fulbito VS. Team 4
DESCRIPTION:League Name: Saturday Men\nGame Type: Regular\nGame Status: Pen
 ding\nHome Team: Fulbito\nAway Team: Team 4\n
END:VEVENT
BEGIN:VEVENT
UID:17012206@ezleagues.ezfacility.com
DTSTAMP:20260424T044223Z
CREATED:20260424T044223Z
DTSTART:20260418T230000Z
DTEND:20260418T235000Z
LOCATION:Eagles1 Main Field
CONTACT:
SUMMARY:Team 4 VS. Team 3
DESCRIPTION:League Name: Saturday Men\nGame Type: Regular\nGame Status: Pen
 ding\nHome Team: Team 4\nAway Team: Team 3\n
END:VEVENT
END:VCALENDAR
