BEGIN:VCALENDAR
VERSION:2.0
PRODID:-//EZFacility.com, Inc.//EZL 2.5.5.28621
BEGIN:VEVENT
UID:17012149@ezleagues.ezfacility.com
DTSTAMP:20260426T034051Z
CREATED:20260426T034051Z
DTSTART:20260208T031000Z
DTEND:20260208T040000Z
LOCATION:Eagles1 Main Field
CONTACT:
SUMMARY:La plebe VS. Yanwen
DESCRIPTION:League Name: Saturday Men\nGame Type: Regular\nGame Status: Pen
 ding\nHome Team: La plebe\nAway Team: Yanwen\n
END:VEVENT
BEGIN:VEVENT
UID:17012156@ezleagues.ezfacility.com
DTSTAMP:20260426T034051Z
CREATED:20260426T034051Z
DTSTART:20260215T040000Z
DTEND:20260215T045000Z
LOCATION:Eagles1 Main Field
CONTACT:
SUMMARY:La plebe VS. Real Olimpia
DESCRIPTION:League Name: Saturday Men\nGame Type: Regular\nGame Status: Pen
 ding\nHome Team: La plebe\nAway Team: Real Olimpia\n
END:VEVENT
BEGIN:VEVENT
UID:17012162@ezleagues.ezfacility.com
DTSTAMP:20260426T034051Z
CREATED:20260426T034051Z
DTSTART:20260222T040000Z
DTEND:20260222T045000Z
LOCATION:Eagles1 Main Field
CONTACT:
SUMMARY:APEX FC VS. La plebe
DESCRIPTION:League Name: Saturday Men\nGame Type: Regular\nGame Status: Pen
 ding\nHome Team: APEX FC\nAway Team: La plebe\n
END:VEVENT
BEGIN:VEVENT
UID:17012167@ezleagues.ezfacility.com
DTSTAMP:20260426T034051Z
CREATED:20260426T034051Z
DTSTART:20260301T014000Z
DTEND:20260301T023000Z
LOCATION:Eagles1 Main Field
CONTACT:
SUMMARY:Pintos VS. La plebe
DESCRIPTION:League Name: Saturday Men\nGame Type: Regular\nGame Status: Com
 plete\nHome Team: Pintos\nAway Team: La plebe\nHome Score: 3\nAway Score: 
 6
END:VEVENT
BEGIN:VEVENT
UID:17012172@ezleagues.ezfacility.com
DTSTAMP:20260426T034051Z
CREATED:20260426T034051Z
DTSTART:20260308T005000Z
DTEND:20260308T014000Z
LOCATION:Eagles1 Main Field
CONTACT:
SUMMARY:Astonica VS. La plebe
DESCRIPTION:League Name: Saturday Men\nGame Type: Regular\nGame Status: Com
 plete\nHome Team: Astonica\nAway Team: La plebe\nHome Score: 2\nAway Score
 : 10
END:VEVENT
BEGIN:VEVENT
UID:17012177@ezleagues.ezfacility.com
DTSTAMP:20260426T034051Z
CREATED:20260426T034051Z
DTSTART:20260314T230000Z
DTEND:20260314T235000Z
LOCATION:Eagles1 Main Field
CONTACT:
SUMMARY:Santa Cruz VS. La plebe
DESCRIPTION:League Name: Saturday Men\nGame Type: Regular\nGame Status: Com
 plete\nHome Team: Santa Cruz\nAway Team: La plebe\nHome Score: 3\nAway Sco
 re: 10
END:VEVENT
BEGIN:VEVENT
UID:17012182@ezleagues.ezfacility.com
DTSTAMP:20260426T034051Z
CREATED:20260426T034051Z
DTSTART:20260321T230000Z
DTEND:20260321T235000Z
LOCATION:Eagles1 Main Field
CONTACT:
SUMMARY:Team 12 VS. La plebe
DESCRIPTION:League Name: Saturday Men\nGame Type: Regular\nGame Status: Com
 plete\nHome Team: Team 12\nAway Team: La plebe\nHome Score: 2\nAway Score:
  14
END:VEVENT
BEGIN:VEVENT
UID:17012187@ezleagues.ezfacility.com
DTSTAMP:20260426T034051Z
CREATED:20260426T034051Z
DTSTART:20260329T021000Z
DTEND:20260329T030000Z
LOCATION:Eagles1 Main Field
CONTACT:
SUMMARY:La plebe VS. Fulbito
DESCRIPTION:League Name: Saturday Men\nGame Type: Regular\nGame Status: Com
 plete\nHome Team: La plebe\nAway Team: Fulbito\nHome Score: 8\nAway Score:
  2
END:VEVENT
BEGIN:VEVENT
UID:17012194@ezleagues.ezfacility.com
DTSTAMP:20260426T034051Z
CREATED:20260426T034051Z
DTSTART:20260405T013000Z
DTEND:20260405T022000Z
LOCATION:Eagles1 Main Field
CONTACT:
SUMMARY:La plebe VS. Team 4
DESCRIPTION:League Name: Saturday Men\nGame Type: Regular\nGame Status: Com
 plete\nHome Team: La plebe\nAway Team: Team 4\nHome Score: 5\nAway Score: 
 10
END:VEVENT
BEGIN:VEVENT
UID:17012201@ezleagues.ezfacility.com
DTSTAMP:20260426T034051Z
CREATED:20260426T034051Z
DTSTART:20260411T235000Z
DTEND:20260412T004000Z
LOCATION:Eagles1 Main Field
CONTACT:
SUMMARY:La plebe VS. Team 3
DESCRIPTION:League Name: Saturday Men\nGame Type: Regular\nGame Status: Pen
 ding\nHome Team: La plebe\nAway Team: Team 3\n
END:VEVENT
BEGIN:VEVENT
UID:17012208@ezleagues.ezfacility.com
DTSTAMP:20260426T034051Z
CREATED:20260426T034051Z
DTSTART:20260419T013000Z
DTEND:20260419T022000Z
LOCATION:Eagles1 Main Field
CONTACT:
SUMMARY:La plebe VS. Santa Isabel
DESCRIPTION:League Name: Saturday Men\nGame Type: Regular\nGame Status: Pen
 ding\nHome Team: La plebe\nAway Team: Santa Isabel\n
END:VEVENT
END:VCALENDAR
