BEGIN:VCALENDAR
VERSION:2.0
PRODID:-//EZFacility.com, Inc.//EZL 2.5.5.28621
BEGIN:VEVENT
UID:17012150@ezleagues.ezfacility.com
DTSTAMP:20260424T043926Z
CREATED:20260424T043926Z
DTSTART:20260208T040000Z
DTEND:20260208T045000Z
LOCATION:Eagles1 Main Field
CONTACT:
SUMMARY:Real Olimpia VS. Team 12
DESCRIPTION:League Name: Saturday Men\nGame Type: Regular\nGame Status: Pen
 ding\nHome Team: Real Olimpia\nAway Team: Team 12\n
END:VEVENT
BEGIN:VEVENT
UID:17012156@ezleagues.ezfacility.com
DTSTAMP:20260424T043926Z
CREATED:20260424T043926Z
DTSTART:20260215T040000Z
DTEND:20260215T045000Z
LOCATION:Eagles1 Main Field
CONTACT:
SUMMARY:La plebe VS. Real Olimpia
DESCRIPTION:League Name: Saturday Men\nGame Type: Regular\nGame Status: Pen
 ding\nHome Team: La plebe\nAway Team: Real Olimpia\n
END:VEVENT
BEGIN:VEVENT
UID:17012161@ezleagues.ezfacility.com
DTSTAMP:20260424T043926Z
CREATED:20260424T043926Z
DTSTART:20260222T005000Z
DTEND:20260222T014000Z
LOCATION:Eagles1 Main Field
CONTACT:
SUMMARY:Team 4 VS. Real Olimpia
DESCRIPTION:League Name: Saturday Men\nGame Type: Regular\nGame Status: Com
 plete\nHome Team: Team 4\nAway Team: Real Olimpia\nHome Score: 10\nAway Sc
 ore: 3
END:VEVENT
BEGIN:VEVENT
UID:17012166@ezleagues.ezfacility.com
DTSTAMP:20260424T043926Z
CREATED:20260424T043926Z
DTSTART:20260301T031000Z
DTEND:20260301T040000Z
LOCATION:Eagles1 Main Field
CONTACT:
SUMMARY:Team 3 VS. Real Olimpia
DESCRIPTION:League Name: Saturday Men\nGame Type: Regular\nGame Status: Pen
 ding\nHome Team: Team 3\nAway Team: Real Olimpia\n
END:VEVENT
BEGIN:VEVENT
UID:17012171@ezleagues.ezfacility.com
DTSTAMP:20260424T043926Z
CREATED:20260424T043926Z
DTSTART:20260308T000000Z
DTEND:20260308T005000Z
LOCATION:Eagles1 Main Field
CONTACT:
SUMMARY:Santa Isabel VS. Real Olimpia
DESCRIPTION:League Name: Saturday Men\nGame Type: Regular\nGame Status: Com
 plete\nHome Team: Santa Isabel\nAway Team: Real Olimpia\nHome Score: 7\nAw
 ay Score: 3
END:VEVENT
BEGIN:VEVENT
UID:17012176@ezleagues.ezfacility.com
DTSTAMP:20260424T043926Z
CREATED:20260424T043926Z
DTSTART:20260315T004000Z
DTEND:20260315T013000Z
LOCATION:Eagles1 Main Field
CONTACT:
SUMMARY:Yanwen VS. Real Olimpia
DESCRIPTION:League Name: Saturday Men\nGame Type: Regular\nGame Status: Pen
 ding\nHome Team: Yanwen\nAway Team: Real Olimpia\n
END:VEVENT
BEGIN:VEVENT
UID:17012181@ezleagues.ezfacility.com
DTSTAMP:20260424T043926Z
CREATED:20260424T043926Z
DTSTART:20260322T013000Z
DTEND:20260322T022000Z
LOCATION:Eagles1 Main Field
CONTACT:
SUMMARY:Real Olimpia VS. Fulbito
DESCRIPTION:League Name: Saturday Men\nGame Type: Regular\nGame Status: Com
 plete\nHome Team: Real Olimpia\nAway Team: Fulbito\nHome Score: 1\nAway Sc
 ore: 7
END:VEVENT
BEGIN:VEVENT
UID:17012188@ezleagues.ezfacility.com
DTSTAMP:20260424T043926Z
CREATED:20260424T043926Z
DTSTART:20260328T230000Z
DTEND:20260328T235000Z
LOCATION:Eagles1 Main Field
CONTACT:
SUMMARY:Real Olimpia VS. APEX FC
DESCRIPTION:League Name: Saturday Men\nGame Type: Regular\nGame Status: Pen
 ding\nHome Team: Real Olimpia\nAway Team: APEX FC\n
END:VEVENT
BEGIN:VEVENT
UID:17012195@ezleagues.ezfacility.com
DTSTAMP:20260424T043926Z
CREATED:20260424T043926Z
DTSTART:20260404T235000Z
DTEND:20260405T004000Z
LOCATION:Eagles1 Main Field
CONTACT:
SUMMARY:Real Olimpia VS. Pintos
DESCRIPTION:League Name: Saturday Men\nGame Type: Regular\nGame Status: Pen
 ding\nHome Team: Real Olimpia\nAway Team: Pintos\n
END:VEVENT
BEGIN:VEVENT
UID:17012202@ezleagues.ezfacility.com
DTSTAMP:20260424T043926Z
CREATED:20260424T043926Z
DTSTART:20260412T013000Z
DTEND:20260412T022000Z
LOCATION:Eagles1 Main Field
CONTACT:
SUMMARY:Real Olimpia VS. Astonica
DESCRIPTION:League Name: Saturday Men\nGame Type: Regular\nGame Status: Pen
 ding\nHome Team: Real Olimpia\nAway Team: Astonica\n
END:VEVENT
BEGIN:VEVENT
UID:17094857@ezleagues.ezfacility.com
DTSTAMP:20260424T043926Z
CREATED:20260424T043926Z
DTSTART:20260412T013000Z
DTEND:20260412T022000Z
LOCATION:Eagles1 Main Field
CONTACT:
SUMMARY:Real Olimpia VS. Santa Isabel
DESCRIPTION:League Name: Saturday Men\nGame Type: Regular\nGame Status: Com
 plete\nHome Team: Real Olimpia\nAway Team: Santa Isabel\nHome Score: 2\nAw
 ay Score: 0
END:VEVENT
BEGIN:VEVENT
UID:17012209@ezleagues.ezfacility.com
DTSTAMP:20260424T043926Z
CREATED:20260424T043926Z
DTSTART:20260419T004000Z
DTEND:20260419T013000Z
LOCATION:Eagles1 Main Field
CONTACT:
SUMMARY:Real Olimpia VS. Santa Cruz
DESCRIPTION:League Name: Saturday Men\nGame Type: Regular\nGame Status: Com
 plete\nHome Team: Real Olimpia\nAway Team: Santa Cruz\nHome Score: 3\nAway
  Score: 5
END:VEVENT
END:VCALENDAR
