BEGIN:VCALENDAR
VERSION:2.0
PRODID:-//EZFacility.com, Inc.//EZL 2.5.5.28621
BEGIN:VEVENT
UID:17012838@ezleagues.ezfacility.com
DTSTAMP:20260426T033543Z
CREATED:20260426T033543Z
DTSTART:20260215T182000Z
DTEND:20260215T191500Z
LOCATION:Field 2
CONTACT:
SUMMARY:TSP 2013 VS. Team Pinnacle
DESCRIPTION:League Name: New Under14 Boys Comp W-26(2012oldest player)\nGam
 e Type: Regular\nGame Status: Complete\nHome Team: TSP 2013\nAway Team: Te
 am Pinnacle\nHome Score: 9\nAway Score: 3
END:VEVENT
BEGIN:VEVENT
UID:17012817@ezleagues.ezfacility.com
DTSTAMP:20260426T033543Z
CREATED:20260426T033543Z
DTSTART:20260222T163000Z
DTEND:20260222T172500Z
LOCATION:Field 1
CONTACT:
SUMMARY:Turlock Vipers VS. TSP 2013
DESCRIPTION:League Name: New Under14 Boys Comp W-26(2012oldest player)\nGam
 e Type: Regular\nGame Status: Complete\nHome Team: Turlock Vipers\nAway Te
 am: TSP 2013\nHome Score: 4\nAway Score: 2
END:VEVENT
BEGIN:VEVENT
UID:17012823@ezleagues.ezfacility.com
DTSTAMP:20260426T033543Z
CREATED:20260426T033543Z
DTSTART:20260308T045000Z
DTEND:20260308T054500Z
LOCATION:Field 2
CONTACT:
SUMMARY:TSP 2013 VS. Azteca
DESCRIPTION:League Name: New Under14 Boys Comp W-26(2012oldest player)\nGam
 e Type: Regular\nGame Status: Complete\nHome Team: TSP 2013\nAway Team: Az
 teca\nHome Score: 1\nAway Score: 5
END:VEVENT
BEGIN:VEVENT
UID:17012834@ezleagues.ezfacility.com
DTSTAMP:20260426T033543Z
CREATED:20260426T033543Z
DTSTART:20260314T224500Z
DTEND:20260314T234000Z
LOCATION:Field 2
CONTACT:
SUMMARY:Elite VS. TSP 2013
DESCRIPTION:League Name: New Under14 Boys Comp W-26(2012oldest player)\nGam
 e Type: Regular\nGame Status: Complete\nHome Team: Elite\nAway Team: TSP 2
 013\nHome Score: 16\nAway Score: 10
END:VEVENT
BEGIN:VEVENT
UID:17012811@ezleagues.ezfacility.com
DTSTAMP:20260426T033543Z
CREATED:20260426T033543Z
DTSTART:20260329T035000Z
DTEND:20260329T044500Z
LOCATION:Field 2
CONTACT:
SUMMARY:Alebrijes VS. TSP 2013
DESCRIPTION:League Name: New Under14 Boys Comp W-26(2012oldest player)\nGam
 e Type: Regular\nGame Status: Complete\nHome Team: Alebrijes\nAway Team: T
 SP 2013\nHome Score: 9\nAway Score: 2
END:VEVENT
BEGIN:VEVENT
UID:17012850@ezleagues.ezfacility.com
DTSTAMP:20260426T033543Z
CREATED:20260426T033543Z
DTSTART:20260329T162500Z
DTEND:20260329T172000Z
LOCATION:Field 1
CONTACT:
SUMMARY:TSP 2013 VS. Limon
DESCRIPTION:League Name: New Under14 Boys Comp W-26(2012oldest player)\nGam
 e Type: Regular\nGame Status: Complete\nHome Team: TSP 2013\nAway Team: Li
 mon\nHome Score: 0\nAway Score: 5
END:VEVENT
BEGIN:VEVENT
UID:17012829@ezleagues.ezfacility.com
DTSTAMP:20260426T033543Z
CREATED:20260426T033543Z
DTSTART:20260404T232000Z
DTEND:20260405T001500Z
LOCATION:Field 1
CONTACT:
SUMMARY:Extreme VS. TSP 2013
DESCRIPTION:League Name: New Under14 Boys Comp W-26(2012oldest player)\nGam
 e Type: Regular\nGame Status: Complete\nHome Team: Extreme\nAway Team: TSP
  2013\nHome Score: 8\nAway Score: 0
END:VEVENT
BEGIN:VEVENT
UID:17012846@ezleagues.ezfacility.com
DTSTAMP:20260426T033543Z
CREATED:20260426T033543Z
DTSTART:20260411T223000Z
DTEND:20260411T232500Z
LOCATION:Field 1
CONTACT:
SUMMARY:TSP 2013 VS. CVFA
DESCRIPTION:League Name: New Under14 Boys Comp W-26(2012oldest player)\nGam
 e Type: Regular\nGame Status: Complete\nHome Team: TSP 2013\nAway Team: CV
 FA\nHome Score: 8\nAway Score: 9
END:VEVENT
END:VCALENDAR
