BEGIN:VCALENDAR
VERSION:2.0
PRODID:-//EZFacility.com, Inc.//EZL 2.5.5.28621
BEGIN:VEVENT
UID:17012819@ezleagues.ezfacility.com
DTSTAMP:20260424T043151Z
CREATED:20260424T043151Z
DTSTART:20260222T182000Z
DTEND:20260222T191500Z
LOCATION:Field 2
CONTACT:
SUMMARY:Azteca VS. CVFA
DESCRIPTION:League Name: New Under14 Boys Comp W-26(2012oldest player)\nGam
 e Type: Regular\nGame Status: Complete\nHome Team: Azteca\nAway Team: CVFA
 \nHome Score: 6\nAway Score: 2
END:VEVENT
BEGIN:VEVENT
UID:17012828@ezleagues.ezfacility.com
DTSTAMP:20260424T043151Z
CREATED:20260424T043151Z
DTSTART:20260301T172500Z
DTEND:20260301T182000Z
LOCATION:Field 2
CONTACT:
SUMMARY:CVFA VS. Elite
DESCRIPTION:League Name: New Under14 Boys Comp W-26(2012oldest player)\nGam
 e Type: Regular\nGame Status: Complete\nHome Team: CVFA\nAway Team: Elite\
 nHome Score: 0\nAway Score: 5
END:VEVENT
BEGIN:VEVENT
UID:17012824@ezleagues.ezfacility.com
DTSTAMP:20260424T043151Z
CREATED:20260424T043151Z
DTSTART:20260308T162500Z
DTEND:20260308T172000Z
LOCATION:Field 2
CONTACT:
SUMMARY:Extreme VS. CVFA
DESCRIPTION:League Name: New Under14 Boys Comp W-26(2012oldest player)\nGam
 e Type: Regular\nGame Status: Complete\nHome Team: Extreme\nAway Team: CVF
 A\nHome Score: 4\nAway Score: 4
END:VEVENT
BEGIN:VEVENT
UID:17012813@ezleagues.ezfacility.com
DTSTAMP:20260424T043151Z
CREATED:20260424T043151Z
DTSTART:20260322T172000Z
DTEND:20260322T181500Z
LOCATION:Field 2
CONTACT:
SUMMARY:CVFA VS. Turlock Vipers
DESCRIPTION:League Name: New Under14 Boys Comp W-26(2012oldest player)\nGam
 e Type: Regular\nGame Status: Complete\nHome Team: CVFA\nAway Team: Turloc
 k Vipers\nHome Score: 6\nAway Score: 8
END:VEVENT
BEGIN:VEVENT
UID:17012832@ezleagues.ezfacility.com
DTSTAMP:20260424T043151Z
CREATED:20260424T043151Z
DTSTART:20260322T191000Z
DTEND:20260322T200500Z
LOCATION:Field 1
CONTACT:
SUMMARY:Team Pinnacle VS. CVFA
DESCRIPTION:League Name: New Under14 Boys Comp W-26(2012oldest player)\nGam
 e Type: Regular\nGame Status: Pending\nHome Team: Team Pinnacle\nAway Team
 : CVFA\n
END:VEVENT
BEGIN:VEVENT
UID:17012846@ezleagues.ezfacility.com
DTSTAMP:20260424T043151Z
CREATED:20260424T043151Z
DTSTART:20260411T223000Z
DTEND:20260411T232500Z
LOCATION:Field 1
CONTACT:
SUMMARY:TSP 2013 VS. CVFA
DESCRIPTION:League Name: New Under14 Boys Comp W-26(2012oldest player)\nGam
 e Type: Regular\nGame Status: Complete\nHome Team: TSP 2013\nAway Team: CV
 FA\nHome Score: 8\nAway Score: 9
END:VEVENT
BEGIN:VEVENT
UID:17012840@ezleagues.ezfacility.com
DTSTAMP:20260424T043151Z
CREATED:20260424T043151Z
DTSTART:20260412T011500Z
DTEND:20260412T021000Z
LOCATION:Field 2
CONTACT:
SUMMARY:CVFA VS. Limon
DESCRIPTION:League Name: New Under14 Boys Comp W-26(2012oldest player)\nGam
 e Type: Regular\nGame Status: Complete\nHome Team: CVFA\nAway Team: Limon\
 nHome Score: 6\nAway Score: 7
END:VEVENT
BEGIN:VEVENT
UID:17012852@ezleagues.ezfacility.com
DTSTAMP:20260424T043151Z
CREATED:20260424T043151Z
DTSTART:20260419T210000Z
DTEND:20260419T215500Z
LOCATION:Field 1
CONTACT:
SUMMARY:CVFA VS. Alebrijes
DESCRIPTION:League Name: New Under14 Boys Comp W-26(2012oldest player)\nGam
 e Type: Regular\nGame Status: Complete\nHome Team: CVFA\nAway Team: Alebri
 jes\nHome Score: 4\nAway Score: 3
END:VEVENT
BEGIN:VEVENT
UID:17047214@ezleagues.ezfacility.com
DTSTAMP:20260424T043151Z
CREATED:20260424T043151Z
DTSTART:20260426T165000Z
DTEND:20260426T174000Z
LOCATION:Field 1
CONTACT:
SUMMARY:Elite VS. CVFA
DESCRIPTION:League Name: New Under14 Boys Comp W-26(2012oldest player)\nGam
 e Type: Postseason\nGame Status: Pending\nHome Team: Elite\nAway Team: CVF
 A\n
END:VEVENT
END:VCALENDAR
