BEGIN:VCALENDAR
VERSION:2.0
PRODID:-//EZFacility.com, Inc.//EZL 2.5.5.28621
BEGIN:VEVENT
UID:17014865@ezleagues.ezfacility.com
DTSTAMP:20260426T033704Z
CREATED:20260426T033704Z
DTSTART:20260207T150000Z
DTEND:20260207T160000Z
LOCATION:Court 1 
CONTACT:
SUMMARY:Coppermine Blue VS. Baltimore Stars
DESCRIPTION:League Name: 2019 Hoco Futsal Winter 2 2026 \nGame Type: Regula
 r\nGame Status: Complete\nHome Team: Coppermine Blue\nAway Team: Baltimore
  Stars\nHome Score: 7\nAway Score: 6
END:VEVENT
BEGIN:VEVENT
UID:17014055@ezleagues.ezfacility.com
DTSTAMP:20260426T033704Z
CREATED:20260426T033704Z
DTSTART:20260221T160000Z
DTEND:20260221T170000Z
LOCATION:Court 1 
CONTACT:
SUMMARY:NCA Tigers  VS. Baltimore Stars
DESCRIPTION:League Name: 2019 Hoco Futsal Winter 2 2026 \nGame Type: Regula
 r\nGame Status: Complete\nHome Team: NCA Tigers \nAway Team: Baltimore Sta
 rs\nHome Score: 6\nAway Score: 3
END:VEVENT
BEGIN:VEVENT
UID:17014063@ezleagues.ezfacility.com
DTSTAMP:20260426T033704Z
CREATED:20260426T033704Z
DTSTART:20260228T180000Z
DTEND:20260228T190000Z
LOCATION:Court 1 
CONTACT:
SUMMARY:Unity FC  VS. Baltimore Stars
DESCRIPTION:League Name: 2019 Hoco Futsal Winter 2 2026 \nGame Type: Regula
 r\nGame Status: Complete\nHome Team: Unity FC \nAway Team: Baltimore Stars
 \nHome Score: 1\nAway Score: 8
END:VEVENT
BEGIN:VEVENT
UID:17014079@ezleagues.ezfacility.com
DTSTAMP:20260426T033704Z
CREATED:20260426T033704Z
DTSTART:20260307T190000Z
DTEND:20260307T200000Z
LOCATION:Court 2
CONTACT:
SUMMARY:Baltimore Stars VS. Gunners
DESCRIPTION:League Name: 2019 Hoco Futsal Winter 2 2026 \nGame Type: Regula
 r\nGame Status: Complete\nHome Team: Baltimore Stars\nAway Team: Gunners\n
 Home Score: 6\nAway Score: 3
END:VEVENT
BEGIN:VEVENT
UID:17014071@ezleagues.ezfacility.com
DTSTAMP:20260426T033704Z
CREATED:20260426T033704Z
DTSTART:20260314T140000Z
DTEND:20260314T150000Z
LOCATION:Court 2
CONTACT:
SUMMARY:Coppermine Blue VS. Baltimore Stars
DESCRIPTION:League Name: 2019 Hoco Futsal Winter 2 2026 \nGame Type: Regula
 r\nGame Status: Complete\nHome Team: Coppermine Blue\nAway Team: Baltimore
  Stars\nHome Score: 0\nAway Score: 3
END:VEVENT
BEGIN:VEVENT
UID:17014047@ezleagues.ezfacility.com
DTSTAMP:20260426T033704Z
CREATED:20260426T033704Z
DTSTART:20260314T160000Z
DTEND:20260314T170000Z
LOCATION:Court 1 
CONTACT:
SUMMARY:Baltimore Stars VS. Coppermine Black
DESCRIPTION:League Name: 2019 Hoco Futsal Winter 2 2026 \nGame Type: Regula
 r\nGame Status: Complete\nHome Team: Baltimore Stars\nAway Team: Coppermin
 e Black\nHome Score: 4\nAway Score: 1
END:VEVENT
END:VCALENDAR
