BEGIN:VCALENDAR
VERSION:2.0
PRODID:-//EZFacility.com, Inc.//EZL 2.5.5.28621
BEGIN:VEVENT
UID:17014048@ezleagues.ezfacility.com
DTSTAMP:20260425T112750Z
CREATED:20260425T112750Z
DTSTART:20260214T150000Z
DTEND:20260214T160000Z
LOCATION:Court 1 
CONTACT:
SUMMARY:Gunners VS. NCA Tigers 
DESCRIPTION:League Name: 2019 Hoco Futsal Winter 2 2026 \nGame Type: Regula
 r\nGame Status: Complete\nHome Team: Gunners\nAway Team: NCA Tigers \nHome
  Score: 10\nAway Score: 2
END:VEVENT
BEGIN:VEVENT
UID:17014057@ezleagues.ezfacility.com
DTSTAMP:20260425T112750Z
CREATED:20260425T112750Z
DTSTART:20260221T150000Z
DTEND:20260221T160000Z
LOCATION:Court 1 
CONTACT:
SUMMARY:Gunners VS. Coppermine Blue
DESCRIPTION:League Name: 2019 Hoco Futsal Winter 2 2026 \nGame Type: Regula
 r\nGame Status: Complete\nHome Team: Gunners\nAway Team: Coppermine Blue\n
 Home Score: 10\nAway Score: 4
END:VEVENT
BEGIN:VEVENT
UID:17014065@ezleagues.ezfacility.com
DTSTAMP:20260425T112750Z
CREATED:20260425T112750Z
DTSTART:20260228T150000Z
DTEND:20260228T160000Z
LOCATION:Court 1 
CONTACT:
SUMMARY:Coppermine Black VS. Gunners
DESCRIPTION:League Name: 2019 Hoco Futsal Winter 2 2026 \nGame Type: Regula
 r\nGame Status: Complete\nHome Team: Coppermine Black\nAway Team: Gunners\
 nHome Score: 4\nAway Score: 11
END:VEVENT
BEGIN:VEVENT
UID:17014072@ezleagues.ezfacility.com
DTSTAMP:20260425T112750Z
CREATED:20260425T112750Z
DTSTART:20260307T170000Z
DTEND:20260307T180000Z
LOCATION:Court 1 
CONTACT:
SUMMARY:Unity FC  VS. Gunners
DESCRIPTION:League Name: 2019 Hoco Futsal Winter 2 2026 \nGame Type: Regula
 r\nGame Status: Complete\nHome Team: Unity FC \nAway Team: Gunners\nHome S
 core: 14\nAway Score: 7
END:VEVENT
BEGIN:VEVENT
UID:17014079@ezleagues.ezfacility.com
DTSTAMP:20260425T112750Z
CREATED:20260425T112750Z
DTSTART:20260307T190000Z
DTEND:20260307T200000Z
LOCATION:Court 2
CONTACT:
SUMMARY:Baltimore Stars VS. Gunners
DESCRIPTION:League Name: 2019 Hoco Futsal Winter 2 2026 \nGame Type: Regula
 r\nGame Status: Complete\nHome Team: Baltimore Stars\nAway Team: Gunners\n
 Home Score: 6\nAway Score: 3
END:VEVENT
BEGIN:VEVENT
UID:17045011@ezleagues.ezfacility.com
DTSTAMP:20260425T112750Z
CREATED:20260425T112750Z
DTSTART:20260313T230000Z
DTEND:20260314T000000Z
LOCATION:Court 1 
CONTACT:
SUMMARY:Gunners VS. Unity FC 
DESCRIPTION:League Name: 2019 Hoco Futsal Winter 2 2026 \nGame Type: Regula
 r\nGame Status: Complete\nHome Team: Gunners\nAway Team: Unity FC \nHome S
 core: 9\nAway Score: 5
END:VEVENT
END:VCALENDAR
