BEGIN:VCALENDAR
VERSION:2.0
PRODID:-//EZFacility.com, Inc.//EZL 2.5.5.28621
BEGIN:VEVENT
UID:17014864@ezleagues.ezfacility.com
DTSTAMP:20260426T033633Z
CREATED:20260426T033633Z
DTSTART:20260207T060000Z
DTEND:20260207T070000Z
LOCATION:Court 1 
CONTACT:
SUMMARY:Coppermine Black VS. NCA Tigers 
DESCRIPTION:League Name: 2019 Hoco Futsal Winter 2 2026 \nGame Type: Regula
 r\nGame Status: Complete\nHome Team: Coppermine Black\nAway Team: NCA Tige
 rs \nHome Score: 3\nAway Score: 2
END:VEVENT
BEGIN:VEVENT
UID:17014048@ezleagues.ezfacility.com
DTSTAMP:20260426T033633Z
CREATED:20260426T033633Z
DTSTART:20260214T150000Z
DTEND:20260214T160000Z
LOCATION:Court 1 
CONTACT:
SUMMARY:Gunners VS. NCA Tigers 
DESCRIPTION:League Name: 2019 Hoco Futsal Winter 2 2026 \nGame Type: Regula
 r\nGame Status: Complete\nHome Team: Gunners\nAway Team: NCA Tigers \nHome
  Score: 10\nAway Score: 2
END:VEVENT
BEGIN:VEVENT
UID:17014055@ezleagues.ezfacility.com
DTSTAMP:20260426T033633Z
CREATED:20260426T033633Z
DTSTART:20260221T160000Z
DTEND:20260221T170000Z
LOCATION:Court 1 
CONTACT:
SUMMARY:NCA Tigers  VS. Baltimore Stars
DESCRIPTION:League Name: 2019 Hoco Futsal Winter 2 2026 \nGame Type: Regula
 r\nGame Status: Complete\nHome Team: NCA Tigers \nAway Team: Baltimore Sta
 rs\nHome Score: 6\nAway Score: 3
END:VEVENT
BEGIN:VEVENT
UID:17014064@ezleagues.ezfacility.com
DTSTAMP:20260426T033633Z
CREATED:20260426T033633Z
DTSTART:20260228T160000Z
DTEND:20260228T170000Z
LOCATION:Court 2
CONTACT:
SUMMARY:NCA Tigers  VS. Coppermine Blue
DESCRIPTION:League Name: 2019 Hoco Futsal Winter 2 2026 \nGame Type: Regula
 r\nGame Status: Complete\nHome Team: NCA Tigers \nAway Team: Coppermine Bl
 ue\nHome Score: 3\nAway Score: 6
END:VEVENT
BEGIN:VEVENT
UID:17014081@ezleagues.ezfacility.com
DTSTAMP:20260426T033633Z
CREATED:20260426T033633Z
DTSTART:20260307T180000Z
DTEND:20260307T190000Z
LOCATION:Court 1 
CONTACT:
SUMMARY:Unity FC  VS. NCA Tigers 
DESCRIPTION:League Name: 2019 Hoco Futsal Winter 2 2026 \nGame Type: Regula
 r\nGame Status: Complete\nHome Team: Unity FC \nAway Team: NCA Tigers \nHo
 me Score: 9\nAway Score: 5
END:VEVENT
BEGIN:VEVENT
UID:17014073@ezleagues.ezfacility.com
DTSTAMP:20260426T033633Z
CREATED:20260426T033633Z
DTSTART:20260314T150000Z
DTEND:20260314T160000Z
LOCATION:Court 1 
CONTACT:
SUMMARY:NCA Tigers  VS. Coppermine Black
DESCRIPTION:League Name: 2019 Hoco Futsal Winter 2 2026 \nGame Type: Regula
 r\nGame Status: Complete\nHome Team: NCA Tigers \nAway Team: Coppermine Bl
 ack\nHome Score: 3\nAway Score: 0
END:VEVENT
END:VCALENDAR
