BEGIN:VCALENDAR
VERSION:2.0
PRODID:-//EZFacility.com, Inc.//EZL 2.5.5.28621
BEGIN:VEVENT
UID:17039980@ezleagues.ezfacility.com
DTSTAMP:20260426T033846Z
CREATED:20260426T033846Z
DTSTART:20260202T022500Z
DTEND:20260202T032000Z
LOCATION:PFFC Field House - B
CONTACT:
SUMMARY:Chipolopolo Ballies VS. Old Stars FC (Red)
DESCRIPTION:League Name: MSL Soccer - Sunday Men's Division 5 South\nGame T
 ype: Regular\nGame Status: Complete\nHome Team: Chipolopolo Ballies\nAway 
 Team: Old Stars FC (Red)\nHome Score: 2\nAway Score: 3
END:VEVENT
BEGIN:VEVENT
UID:17014085@ezleagues.ezfacility.com
DTSTAMP:20260426T033846Z
CREATED:20260426T033846Z
DTSTART:20260209T022500Z
DTEND:20260209T032000Z
LOCATION:PFFC Field House - C
CONTACT:
SUMMARY:Old Stars FC (Red) VS. Widdicombe FC (Green)
DESCRIPTION:League Name: MSL Soccer - Sunday Men's Division 5 South\nGame T
 ype: Regular\nGame Status: Complete\nHome Team: Old Stars FC (Red)\nAway T
 eam: Widdicombe FC (Green)\nHome Score: 3\nAway Score: 5
END:VEVENT
BEGIN:VEVENT
UID:17039981@ezleagues.ezfacility.com
DTSTAMP:20260426T033846Z
CREATED:20260426T033846Z
DTSTART:20260215T234000Z
DTEND:20260216T003500Z
LOCATION:PFFC Field House - B
CONTACT:
SUMMARY:Sauga Panthers FC VS. Old Stars FC (Red)
DESCRIPTION:League Name: MSL Soccer - Sunday Men's Division 5 South\nGame T
 ype: Regular\nGame Status: Complete\nHome Team: Sauga Panthers FC\nAway Te
 am: Old Stars FC (Red)\nHome Score: 5\nAway Score: 2
END:VEVENT
BEGIN:VEVENT
UID:17058730@ezleagues.ezfacility.com
DTSTAMP:20260426T033846Z
CREATED:20260426T033846Z
DTSTART:20260223T003500Z
DTEND:20260223T013000Z
LOCATION:PFFC Field House - B
CONTACT:
SUMMARY:ILLEGALS FC (Blue) VS. Old Stars FC (Red)
DESCRIPTION:League Name: MSL Soccer - Sunday Men's Division 5 South\nGame T
 ype: Regular\nGame Status: Complete\nHome Team: ILLEGALS FC (Blue)\nAway T
 eam: Old Stars FC (Red)\nHome Score: 1\nAway Score: 0
END:VEVENT
BEGIN:VEVENT
UID:17039983@ezleagues.ezfacility.com
DTSTAMP:20260426T033846Z
CREATED:20260426T033846Z
DTSTART:20260302T003500Z
DTEND:20260302T013000Z
LOCATION:PFFC Field House - C
CONTACT:
SUMMARY:BDB VS. Old Stars FC (Red)
DESCRIPTION:League Name: MSL Soccer - Sunday Men's Division 5 South\nGame T
 ype: Regular\nGame Status: Complete\nHome Team: BDB\nAway Team: Old Stars 
 FC (Red)\nHome Score: 5\nAway Score: 2
END:VEVENT
BEGIN:VEVENT
UID:17015096@ezleagues.ezfacility.com
DTSTAMP:20260426T033846Z
CREATED:20260426T033846Z
DTSTART:20260308T224000Z
DTEND:20260308T233500Z
LOCATION:PFFC Field House - B
CONTACT:
SUMMARY:Dad Bods FC (White) VS. Old Stars FC (Red)
DESCRIPTION:League Name: MSL Soccer - Sunday Men's Division 5 South\nGame T
 ype: Regular\nGame Status: Complete\nHome Team: Dad Bods FC (White)\nAway 
 Team: Old Stars FC (Red)\nHome Score: 0\nAway Score: 3
END:VEVENT
BEGIN:VEVENT
UID:17015125@ezleagues.ezfacility.com
DTSTAMP:20260426T033846Z
CREATED:20260426T033846Z
DTSTART:20260316T003000Z
DTEND:20260316T012500Z
LOCATION:PFFC Field House - C
CONTACT:
SUMMARY:Old Stars FC (Red) VS. Weston Lions (White)
DESCRIPTION:League Name: MSL Soccer - Sunday Men's Division 5 South\nGame T
 ype: Regular\nGame Status: Complete\nHome Team: Old Stars FC (Red)\nAway T
 eam: Weston Lions (White)\nHome Score: 2\nAway Score: 3
END:VEVENT
BEGIN:VEVENT
UID:17015154@ezleagues.ezfacility.com
DTSTAMP:20260426T033846Z
CREATED:20260426T033846Z
DTSTART:20260323T022000Z
DTEND:20260323T031500Z
LOCATION:PFFC Field House - C
CONTACT:
SUMMARY:Old Stars FC (Red) VS. Ethnically Ambiguous (Navy)
DESCRIPTION:League Name: MSL Soccer - Sunday Men's Division 5 South\nGame T
 ype: Regular\nGame Status: Complete\nHome Team: Old Stars FC (Red)\nAway T
 eam: Ethnically Ambiguous (Navy)\nHome Score: 6\nAway Score: 1
END:VEVENT
BEGIN:VEVENT
UID:17015183@ezleagues.ezfacility.com
DTSTAMP:20260426T033846Z
CREATED:20260426T033846Z
DTSTART:20260330T022000Z
DTEND:20260330T031500Z
LOCATION:PFFC Field House - C
CONTACT:
SUMMARY:Old Stars FC (Red) VS. ILLEGALS FC (Blue)
DESCRIPTION:League Name: MSL Soccer - Sunday Men's Division 5 South\nGame T
 ype: Regular\nGame Status: Complete\nHome Team: Old Stars FC (Red)\nAway T
 eam: ILLEGALS FC (Blue)\nHome Score: 0\nAway Score: 2
END:VEVENT
BEGIN:VEVENT
UID:17015238@ezleagues.ezfacility.com
DTSTAMP:20260426T033846Z
CREATED:20260426T033846Z
DTSTART:20260413T003000Z
DTEND:20260413T012500Z
LOCATION:PFFC Field House - A
CONTACT:
SUMMARY:Just Finish FC (Blue) VS. Old Stars FC (Red)
DESCRIPTION:League Name: MSL Soccer - Sunday Men's Division 5 South\nGame T
 ype: Regular\nGame Status: Complete\nHome Team: Just Finish FC (Blue)\nAwa
 y Team: Old Stars FC (Red)\nHome Score: 0\nAway Score: 4
END:VEVENT
BEGIN:VEVENT
UID:17015265@ezleagues.ezfacility.com
DTSTAMP:20260426T033846Z
CREATED:20260426T033846Z
DTSTART:20260419T233500Z
DTEND:20260420T003000Z
LOCATION:PFFC Field House - B
CONTACT:
SUMMARY:Weston Lions (White) VS. Old Stars FC (Red)
DESCRIPTION:League Name: MSL Soccer - Sunday Men's Division 5 South\nGame T
 ype: Regular\nGame Status: Complete\nHome Team: Weston Lions (White)\nAway
  Team: Old Stars FC (Red)\nHome Score: 0\nAway Score: 2
END:VEVENT
BEGIN:VEVENT
UID:17015211@ezleagues.ezfacility.com
DTSTAMP:20260426T033846Z
CREATED:20260426T033846Z
DTSTART:20260424T000000Z
DTEND:20260424T005500Z
LOCATION:PFFC Field House - B
CONTACT:
SUMMARY:Punjab FC (Turquoise) VS. Old Stars FC (Red)
DESCRIPTION:League Name: MSL Soccer - Sunday Men's Division 5 South\nGame T
 ype: Regular\nGame Status: Complete\nHome Team: Punjab FC (Turquoise)\nAwa
 y Team: Old Stars FC (Red)\nHome Score: 3\nAway Score: 7
END:VEVENT
BEGIN:VEVENT
UID:17015292@ezleagues.ezfacility.com
DTSTAMP:20260426T033846Z
CREATED:20260426T033846Z
DTSTART:20260427T003000Z
DTEND:20260427T012500Z
LOCATION:PFFC Field House - C
CONTACT:
SUMMARY:Dad Bods FC (White) VS. Old Stars FC (Red)
DESCRIPTION:League Name: MSL Soccer - Sunday Men's Division 5 South\nGame T
 ype: Regular\nGame Status: Pending\nHome Team: Dad Bods FC (White)\nAway T
 eam: Old Stars FC (Red)\n
END:VEVENT
END:VCALENDAR
