BEGIN:VCALENDAR
VERSION:2.0
PRODID:-//EZFacility.com, Inc.//EZL 2.5.5.28621
BEGIN:VEVENT
UID:17014623@ezleagues.ezfacility.com
DTSTAMP:20260424T041513Z
CREATED:20260424T041513Z
DTSTART:20260226T024000Z
DTEND:20260226T035000Z
LOCATION:Field 3
CONTACT:
SUMMARY:Scared Hitless VS. I'd Hit That
DESCRIPTION:League Name: Women's Softball Spring\nGame Type: Regular\nGame 
 Status: Complete\nHome Team: Scared Hitless\nAway Team: I'd Hit That\nHome
  Score: 7\nAway Score: 31
END:VEVENT
BEGIN:VEVENT
UID:17014625@ezleagues.ezfacility.com
DTSTAMP:20260424T041513Z
CREATED:20260424T041513Z
DTSTART:20260305T035000Z
DTEND:20260305T050000Z
LOCATION:Field 3
CONTACT:
SUMMARY:I'd Hit That VS. Quit Your Pichin
DESCRIPTION:League Name: Women's Softball Spring\nGame Type: Regular\nGame 
 Status: Complete\nHome Team: I'd Hit That\nAway Team: Quit Your Pichin\nHo
 me Score: 18\nAway Score: 8
END:VEVENT
BEGIN:VEVENT
UID:17014626@ezleagues.ezfacility.com
DTSTAMP:20260424T041513Z
CREATED:20260424T041513Z
DTSTART:20260312T014000Z
DTEND:20260312T025000Z
LOCATION:Field 3
CONTACT:
SUMMARY:Golden Girls VS. I'd Hit That
DESCRIPTION:League Name: Women's Softball Spring\nGame Type: Regular\nGame 
 Status: Complete\nHome Team: Golden Girls\nAway Team: I'd Hit That\nHome S
 core: 6\nAway Score: 18
END:VEVENT
BEGIN:VEVENT
UID:17014629@ezleagues.ezfacility.com
DTSTAMP:20260424T041513Z
CREATED:20260424T041513Z
DTSTART:20260319T014000Z
DTEND:20260319T025000Z
LOCATION:Field 3
CONTACT:
SUMMARY:Scared Hitless VS. I'd Hit That
DESCRIPTION:League Name: Women's Softball Spring\nGame Type: Regular\nGame 
 Status: Complete\nHome Team: Scared Hitless\nAway Team: I'd Hit That\nHome
  Score: 9\nAway Score: 15
END:VEVENT
BEGIN:VEVENT
UID:17014631@ezleagues.ezfacility.com
DTSTAMP:20260424T041513Z
CREATED:20260424T041513Z
DTSTART:20260326T025000Z
DTEND:20260326T040000Z
LOCATION:Field 3
CONTACT:
SUMMARY:Quit Your Pichin VS. I'd Hit That
DESCRIPTION:League Name: Women's Softball Spring\nGame Type: Regular\nGame 
 Status: Complete\nHome Team: Quit Your Pichin\nAway Team: I'd Hit That\nHo
 me Score: 6\nAway Score: 21
END:VEVENT
BEGIN:VEVENT
UID:17014632@ezleagues.ezfacility.com
DTSTAMP:20260424T041513Z
CREATED:20260424T041513Z
DTSTART:20260402T025000Z
DTEND:20260402T040000Z
LOCATION:Field 3
CONTACT:
SUMMARY:I'd Hit That VS. Golden Girls
DESCRIPTION:League Name: Women's Softball Spring\nGame Type: Regular\nGame 
 Status: Complete\nHome Team: I'd Hit That\nAway Team: Golden Girls\nHome S
 core: 4\nAway Score: 17
END:VEVENT
BEGIN:VEVENT
UID:17014635@ezleagues.ezfacility.com
DTSTAMP:20260424T041513Z
CREATED:20260424T041513Z
DTSTART:20260409T014000Z
DTEND:20260409T025000Z
LOCATION:Field 3
CONTACT:
SUMMARY:I'd Hit That VS. Scared Hitless
DESCRIPTION:League Name: Women's Softball Spring\nGame Type: Regular\nGame 
 Status: Complete\nHome Team: I'd Hit That\nAway Team: Scared Hitless\nHome
  Score: 16\nAway Score: 5
END:VEVENT
BEGIN:VEVENT
UID:17014637@ezleagues.ezfacility.com
DTSTAMP:20260424T041513Z
CREATED:20260424T041513Z
DTSTART:20260416T025000Z
DTEND:20260416T040000Z
LOCATION:Field 3
CONTACT:
SUMMARY:Quit Your Pichin VS. I'd Hit That
DESCRIPTION:League Name: Women's Softball Spring\nGame Type: Regular\nGame 
 Status: Complete\nHome Team: Quit Your Pichin\nAway Team: I'd Hit That\nHo
 me Score: 8\nAway Score: 10
END:VEVENT
BEGIN:VEVENT
UID:17014638@ezleagues.ezfacility.com
DTSTAMP:20260424T041513Z
CREATED:20260424T041513Z
DTSTART:20260423T014000Z
DTEND:20260423T025000Z
LOCATION:Field 3
CONTACT:
SUMMARY:I'd Hit That VS. Golden Girls
DESCRIPTION:League Name: Women's Softball Spring\nGame Type: Regular\nGame 
 Status: Complete\nHome Team: I'd Hit That\nAway Team: Golden Girls\nHome S
 core: 0\nAway Score: 7
END:VEVENT
BEGIN:VEVENT
UID:17014641@ezleagues.ezfacility.com
DTSTAMP:20260424T041513Z
CREATED:20260424T041513Z
DTSTART:20260430T014000Z
DTEND:20260430T025000Z
LOCATION:Field 3
CONTACT:
SUMMARY:I'd Hit That VS. Scared Hitless
DESCRIPTION:League Name: Women's Softball Spring\nGame Type: Regular\nGame 
 Status: Pending\nHome Team: I'd Hit That\nAway Team: Scared Hitless\n
END:VEVENT
END:VCALENDAR
