BEGIN:VCALENDAR
VERSION:2.0
PRODID:-//EZFacility.com, Inc.//EZL 2.5.5.28621
BEGIN:VEVENT
UID:17030880@ezleagues.ezfacility.com
DTSTAMP:20260425T123650Z
CREATED:20260425T123650Z
DTSTART:20260127T005500Z
DTEND:20260127T015000Z
LOCATION:PFFC Field House - B
CONTACT:
SUMMARY:Gold Stars FC (Orange) VS. All Pink FC (Pink)
DESCRIPTION:League Name: MSL Winter 2026 - Monday COED Division 6 North\nGa
 me Type: Regular\nGame Status: Complete\nHome Team: Gold Stars FC (Orange)
 \nAway Team: All Pink FC (Pink)\nHome Score: 3\nAway Score: 2
END:VEVENT
BEGIN:VEVENT
UID:17030881@ezleagues.ezfacility.com
DTSTAMP:20260425T123650Z
CREATED:20260425T123650Z
DTSTART:20260203T005500Z
DTEND:20260203T015000Z
LOCATION:PFFC Field House - D
CONTACT:
SUMMARY:All Pink FC (Pink) VS. The Lab FC
DESCRIPTION:League Name: MSL Winter 2026 - Monday COED Division 6 North\nGa
 me Type: Regular\nGame Status: Complete\nHome Team: All Pink FC (Pink)\nAw
 ay Team: The Lab FC\nHome Score: 1\nAway Score: 3
END:VEVENT
BEGIN:VEVENT
UID:17030882@ezleagues.ezfacility.com
DTSTAMP:20260425T123650Z
CREATED:20260425T123650Z
DTSTART:20260210T015000Z
DTEND:20260210T024500Z
LOCATION:PFFC Field House - D
CONTACT:
SUMMARY:Team Anthony VS. All Pink FC (Pink)
DESCRIPTION:League Name: MSL Winter 2026 - Monday COED Division 6 North\nGa
 me Type: Regular\nGame Status: Complete\nHome Team: Team Anthony\nAway Tea
 m: All Pink FC (Pink)\nHome Score: 6\nAway Score: 3
END:VEVENT
BEGIN:VEVENT
UID:17030883@ezleagues.ezfacility.com
DTSTAMP:20260425T123650Z
CREATED:20260425T123650Z
DTSTART:20260217T015000Z
DTEND:20260217T024500Z
LOCATION:PFFC Field House - A
CONTACT:
SUMMARY:All Pink FC (Pink) VS. REAL COED FC (Red)
DESCRIPTION:League Name: MSL Winter 2026 - Monday COED Division 6 North\nGa
 me Type: Regular\nGame Status: Complete\nHome Team: All Pink FC (Pink)\nAw
 ay Team: REAL COED FC (Red)\nHome Score: 0\nAway Score: 7
END:VEVENT
BEGIN:VEVENT
UID:17030884@ezleagues.ezfacility.com
DTSTAMP:20260425T123650Z
CREATED:20260425T123650Z
DTSTART:20260224T000000Z
DTEND:20260224T005500Z
LOCATION:PFFC Field House - A
CONTACT:
SUMMARY:All Pink FC (Pink) VS. Let's Get Messier
DESCRIPTION:League Name: MSL Winter 2026 - Monday COED Division 6 North\nGa
 me Type: Regular\nGame Status: Complete\nHome Team: All Pink FC (Pink)\nAw
 ay Team: Let's Get Messier\nHome Score: 2\nAway Score: 6
END:VEVENT
BEGIN:VEVENT
UID:17016102@ezleagues.ezfacility.com
DTSTAMP:20260425T123650Z
CREATED:20260425T123650Z
DTSTART:20260303T000000Z
DTEND:20260303T005500Z
LOCATION:PFFC Field House - D
CONTACT:
SUMMARY:All Pink FC (Pink) VS. NoName FC (Purple)
DESCRIPTION:League Name: MSL Winter 2026 - Monday COED Division 6 North\nGa
 me Type: Regular\nGame Status: Complete\nHome Team: All Pink FC (Pink)\nAw
 ay Team: NoName FC (Purple)\nHome Score: 4\nAway Score: 0
END:VEVENT
BEGIN:VEVENT
UID:17016128@ezleagues.ezfacility.com
DTSTAMP:20260425T123650Z
CREATED:20260425T123650Z
DTSTART:20260310T014500Z
DTEND:20260310T024000Z
LOCATION:PFFC Field House - B
CONTACT:
SUMMARY:CTRL+ALT+DEFEAT (Blue) VS. All Pink FC (Pink)
DESCRIPTION:League Name: MSL Winter 2026 - Monday COED Division 6 North\nGa
 me Type: Regular\nGame Status: Complete\nHome Team: CTRL+ALT+DEFEAT (Blue)
 \nAway Team: All Pink FC (Pink)\nHome Score: 1\nAway Score: 6
END:VEVENT
BEGIN:VEVENT
UID:17016154@ezleagues.ezfacility.com
DTSTAMP:20260425T123650Z
CREATED:20260425T123650Z
DTSTART:20260316T235500Z
DTEND:20260317T005000Z
LOCATION:PFFC Field House - B
CONTACT:
SUMMARY:Balotellitubbies FC (Yellow) VS. All Pink FC (Pink)
DESCRIPTION:League Name: MSL Winter 2026 - Monday COED Division 6 North\nGa
 me Type: Regular\nGame Status: Complete\nHome Team: Balotellitubbies FC (Y
 ellow)\nAway Team: All Pink FC (Pink)\nHome Score: 2\nAway Score: 1
END:VEVENT
BEGIN:VEVENT
UID:17016182@ezleagues.ezfacility.com
DTSTAMP:20260425T123650Z
CREATED:20260425T123650Z
DTSTART:20260324T024000Z
DTEND:20260324T033500Z
LOCATION:PFFC Field House - A
CONTACT:
SUMMARY:All Pink FC (Pink) VS. The Walking Red (Red)
DESCRIPTION:League Name: MSL Winter 2026 - Monday COED Division 6 North\nGa
 me Type: Regular\nGame Status: Complete\nHome Team: All Pink FC (Pink)\nAw
 ay Team: The Walking Red (Red)\nHome Score: 0\nAway Score: 0
END:VEVENT
BEGIN:VEVENT
UID:17016210@ezleagues.ezfacility.com
DTSTAMP:20260425T123650Z
CREATED:20260425T123650Z
DTSTART:20260331T014500Z
DTEND:20260331T024000Z
LOCATION:PFFC Field House - B
CONTACT:
SUMMARY:All Pink FC (Pink) VS. Gold Stars FC (Orange)
DESCRIPTION:League Name: MSL Winter 2026 - Monday COED Division 6 North\nGa
 me Type: Regular\nGame Status: Complete\nHome Team: All Pink FC (Pink)\nAw
 ay Team: Gold Stars FC (Orange)\nHome Score: 6\nAway Score: 3
END:VEVENT
BEGIN:VEVENT
UID:17016238@ezleagues.ezfacility.com
DTSTAMP:20260425T123650Z
CREATED:20260425T123650Z
DTSTART:20260407T005000Z
DTEND:20260407T014500Z
LOCATION:PFFC Field House - A
CONTACT:
SUMMARY:All Pink FC (Pink) VS. Ronaldo's Rascals (white/blue)
DESCRIPTION:League Name: MSL Winter 2026 - Monday COED Division 6 North\nGa
 me Type: Regular\nGame Status: Complete\nHome Team: All Pink FC (Pink)\nAw
 ay Team: Ronaldo's Rascals (white/blue)\nHome Score: 4\nAway Score: 3
END:VEVENT
BEGIN:VEVENT
UID:17016265@ezleagues.ezfacility.com
DTSTAMP:20260425T123650Z
CREATED:20260425T123650Z
DTSTART:20260414T005000Z
DTEND:20260414T014500Z
LOCATION:PFFC Field House - A
CONTACT:
SUMMARY:Honeybadgers (Black) VS. All Pink FC (Pink)
DESCRIPTION:League Name: MSL Winter 2026 - Monday COED Division 6 North\nGa
 me Type: Regular\nGame Status: Complete\nHome Team: Honeybadgers (Black)\n
 Away Team: All Pink FC (Pink)\nHome Score: 3\nAway Score: 1
END:VEVENT
BEGIN:VEVENT
UID:17016291@ezleagues.ezfacility.com
DTSTAMP:20260425T123650Z
CREATED:20260425T123650Z
DTSTART:20260420T230000Z
DTEND:20260420T235500Z
LOCATION:PFFC Dome - 3
CONTACT:
SUMMARY:NoName FC (Purple) VS. All Pink FC (Pink)
DESCRIPTION:League Name: MSL Winter 2026 - Monday COED Division 6 North\nGa
 me Type: Regular\nGame Status: Complete\nHome Team: NoName FC (Purple)\nAw
 ay Team: All Pink FC (Pink)\nHome Score: 2\nAway Score: 2
END:VEVENT
BEGIN:VEVENT
UID:17083622@ezleagues.ezfacility.com
DTSTAMP:20260425T123650Z
CREATED:20260425T123650Z
DTSTART:20260427T230000Z
DTEND:20260427T235500Z
LOCATION:PFFC Dome - 3
CONTACT:
SUMMARY:Balotellitubbies FC (Yellow) VS. All Pink FC (Pink)
DESCRIPTION:League Name: MSL Winter 2026 - Monday COED Division 6 North\nGa
 me Type: Postseason\nGame Status: Pending\nHome Team: Balotellitubbies FC 
 (Yellow)\nAway Team: All Pink FC (Pink)\n
END:VEVENT
END:VCALENDAR
