BEGIN:VCALENDAR
VERSION:2.0
PRODID:-//EZFacility.com, Inc.//EZL 2.5.5.28621
BEGIN:VEVENT
UID:17015771@ezleagues.ezfacility.com
DTSTAMP:20260426T035114Z
CREATED:20260426T035114Z
DTSTART:20260127T015000Z
DTEND:20260127T024500Z
LOCATION:PFFC Field House - A
CONTACT:
SUMMARY:Shadow Stars (Dark Blue) VS. Red Red Wine
DESCRIPTION:League Name: MSL Winter 2026 - Monday COED Division 6 West\nGam
 e Type: Regular\nGame Status: Complete\nHome Team: Shadow Stars (Dark Blue
 )\nAway Team: Red Red Wine\nHome Score: 3\nAway Score: 7
END:VEVENT
BEGIN:VEVENT
UID:17015775@ezleagues.ezfacility.com
DTSTAMP:20260426T035114Z
CREATED:20260426T035114Z
DTSTART:20260203T034000Z
DTEND:20260203T043500Z
LOCATION:PFFC Field House - D
CONTACT:
SUMMARY:Shadow Stars (Dark Blue) VS. Ainsworth FC
DESCRIPTION:League Name: MSL Winter 2026 - Monday COED Division 6 West\nGam
 e Type: Regular\nGame Status: Complete\nHome Team: Shadow Stars (Dark Blue
 )\nAway Team: Ainsworth FC\nHome Score: 9\nAway Score: 0
END:VEVENT
BEGIN:VEVENT
UID:17015783@ezleagues.ezfacility.com
DTSTAMP:20260426T035114Z
CREATED:20260426T035114Z
DTSTART:20260210T020500Z
DTEND:20260210T030000Z
LOCATION:PFFC Dome - 1
CONTACT:
SUMMARY:REAL COED FC VS. Shadow Stars (Dark Blue)
DESCRIPTION:League Name: MSL Winter 2026 - Monday COED Division 6 West\nGam
 e Type: Regular\nGame Status: Complete\nHome Team: REAL COED FC\nAway Team
 : Shadow Stars (Dark Blue)\nHome Score: 8\nAway Score: 1
END:VEVENT
BEGIN:VEVENT
UID:17016050@ezleagues.ezfacility.com
DTSTAMP:20260426T035114Z
CREATED:20260426T035114Z
DTSTART:20260217T024500Z
DTEND:20260217T034000Z
LOCATION:PFFC Field House - A
CONTACT:
SUMMARY:Shadow Stars (Dark Blue) VS. Forza FC (Purple)
DESCRIPTION:League Name: MSL Winter 2026 - Monday COED Division 6 West\nGam
 e Type: Regular\nGame Status: Complete\nHome Team: Shadow Stars (Dark Blue
 )\nAway Team: Forza FC (Purple)\nHome Score: 1\nAway Score: 2
END:VEVENT
BEGIN:VEVENT
UID:17016077@ezleagues.ezfacility.com
DTSTAMP:20260426T035114Z
CREATED:20260426T035114Z
DTSTART:20260224T030000Z
DTEND:20260224T035500Z
LOCATION:PFFC Dome - 2
CONTACT:
SUMMARY:Shadow Stars (Dark Blue) VS. UNITED (Black)
DESCRIPTION:League Name: MSL Winter 2026 - Monday COED Division 6 West\nGam
 e Type: Regular\nGame Status: Complete\nHome Team: Shadow Stars (Dark Blue
 )\nAway Team: UNITED (Black)\nHome Score: 5\nAway Score: 3
END:VEVENT
BEGIN:VEVENT
UID:17016104@ezleagues.ezfacility.com
DTSTAMP:20260426T035114Z
CREATED:20260426T035114Z
DTSTART:20260303T034000Z
DTEND:20260303T043500Z
LOCATION:PFFC Field House - A
CONTACT:
SUMMARY:Shadow Stars (Dark Blue) VS. Sausages and Tacos (Red)
DESCRIPTION:League Name: MSL Winter 2026 - Monday COED Division 6 West\nGam
 e Type: Regular\nGame Status: Complete\nHome Team: Shadow Stars (Dark Blue
 )\nAway Team: Sausages and Tacos (Red)\nHome Score: 7\nAway Score: 1
END:VEVENT
BEGIN:VEVENT
UID:17016131@ezleagues.ezfacility.com
DTSTAMP:20260426T035114Z
CREATED:20260426T035114Z
DTSTART:20260309T235500Z
DTEND:20260310T005000Z
LOCATION:PFFC Field House - A
CONTACT:
SUMMARY:Shadow Stars (Dark Blue) VS. Pinchin United (Blue)
DESCRIPTION:League Name: MSL Winter 2026 - Monday COED Division 6 West\nGam
 e Type: Regular\nGame Status: Complete\nHome Team: Shadow Stars (Dark Blue
 )\nAway Team: Pinchin United (Blue)\nHome Score: 2\nAway Score: 4
END:VEVENT
BEGIN:VEVENT
UID:17016158@ezleagues.ezfacility.com
DTSTAMP:20260426T035114Z
CREATED:20260426T035114Z
DTSTART:20260317T005000Z
DTEND:20260317T014500Z
LOCATION:PFFC Field House - B
CONTACT:
SUMMARY:Shadow Stars (Dark Blue) VS. Juice Box FC (Burgundy)
DESCRIPTION:League Name: MSL Winter 2026 - Monday COED Division 6 West\nGam
 e Type: Regular\nGame Status: Complete\nHome Team: Shadow Stars (Dark Blue
 )\nAway Team: Juice Box FC (Burgundy)\nHome Score: 4\nAway Score: 0
END:VEVENT
BEGIN:VEVENT
UID:17016185@ezleagues.ezfacility.com
DTSTAMP:20260426T035114Z
CREATED:20260426T035114Z
DTSTART:20260324T020000Z
DTEND:20260324T025500Z
LOCATION:PFFC Dome - 1
CONTACT:
SUMMARY:Forza FC (Purple) VS. Shadow Stars (Dark Blue)
DESCRIPTION:League Name: MSL Winter 2026 - Monday COED Division 6 West\nGam
 e Type: Regular\nGame Status: Complete\nHome Team: Forza FC (Purple)\nAway
  Team: Shadow Stars (Dark Blue)\nHome Score: 3\nAway Score: 2
END:VEVENT
BEGIN:VEVENT
UID:17016212@ezleagues.ezfacility.com
DTSTAMP:20260426T035114Z
CREATED:20260426T035114Z
DTSTART:20260331T014500Z
DTEND:20260331T024000Z
LOCATION:PFFC Field House - D
CONTACT:
SUMMARY:UNITED (Black) VS. Shadow Stars (Dark Blue)
DESCRIPTION:League Name: MSL Winter 2026 - Monday COED Division 6 West\nGam
 e Type: Regular\nGame Status: Complete\nHome Team: UNITED (Black)\nAway Te
 am: Shadow Stars (Dark Blue)\nHome Score: 4\nAway Score: 2
END:VEVENT
BEGIN:VEVENT
UID:17016239@ezleagues.ezfacility.com
DTSTAMP:20260426T035114Z
CREATED:20260426T035114Z
DTSTART:20260407T005000Z
DTEND:20260407T014500Z
LOCATION:PFFC Dome - 1
CONTACT:
SUMMARY:Sausages and Tacos (Red) VS. Shadow Stars (Dark Blue)
DESCRIPTION:League Name: MSL Winter 2026 - Monday COED Division 6 West\nGam
 e Type: Regular\nGame Status: Complete\nHome Team: Sausages and Tacos (Red
 )\nAway Team: Shadow Stars (Dark Blue)\nHome Score: 4\nAway Score: 2
END:VEVENT
BEGIN:VEVENT
UID:17016266@ezleagues.ezfacility.com
DTSTAMP:20260426T035114Z
CREATED:20260426T035114Z
DTSTART:20260414T014500Z
DTEND:20260414T024000Z
LOCATION:PFFC Field House - C
CONTACT:
SUMMARY:Pinchin United (Blue) VS. Shadow Stars (Dark Blue)
DESCRIPTION:League Name: MSL Winter 2026 - Monday COED Division 6 West\nGam
 e Type: Regular\nGame Status: Complete\nHome Team: Pinchin United (Blue)\n
 Away Team: Shadow Stars (Dark Blue)\nHome Score: 1\nAway Score: 7
END:VEVENT
BEGIN:VEVENT
UID:17016293@ezleagues.ezfacility.com
DTSTAMP:20260426T035114Z
CREATED:20260426T035114Z
DTSTART:20260420T230000Z
DTEND:20260420T235500Z
LOCATION:PFFC Dome - 2
CONTACT:
SUMMARY:Juice Box FC (Burgundy) VS. Shadow Stars (Dark Blue)
DESCRIPTION:League Name: MSL Winter 2026 - Monday COED Division 6 West\nGam
 e Type: Regular\nGame Status: Complete\nHome Team: Juice Box FC (Burgundy)
 \nAway Team: Shadow Stars (Dark Blue)\nHome Score: 0\nAway Score: 5
END:VEVENT
BEGIN:VEVENT
UID:17083640@ezleagues.ezfacility.com
DTSTAMP:20260426T035114Z
CREATED:20260426T035114Z
DTSTART:20260427T235500Z
DTEND:20260428T005000Z
LOCATION:PFFC Field House - D
CONTACT:
SUMMARY:Shadow Stars (Dark Blue) VS. Juice Box FC (Burgundy)
DESCRIPTION:League Name: MSL Winter 2026 - Monday COED Division 6 West\nGam
 e Type: Postseason\nGame Status: Pending\nHome Team: Shadow Stars (Dark Bl
 ue)\nAway Team: Juice Box FC (Burgundy)\n
END:VEVENT
END:VCALENDAR
