BEGIN:VCALENDAR
VERSION:2.0
PRODID:-//EZFacility.com, Inc.//EZL 2.5.5.28621
BEGIN:VEVENT
UID:17026579@ezleagues.ezfacility.com
DTSTAMP:20260426T033646Z
CREATED:20260426T033646Z
DTSTART:20260215T020000Z
DTEND:20260215T024500Z
LOCATION:Field 1
CONTACT:Valle
SUMMARY:Catrachos VS. Liverpool
DESCRIPTION:League Name: 2026 Winter Saturday Open Men's 2nd Session  \nGam
 e Type: Regular\nGame Status: Complete\nHome Team: Catrachos\nAway Team: L
 iverpool\nHome Score: 7\nAway Score: 3
END:VEVENT
BEGIN:VEVENT
UID:17026595@ezleagues.ezfacility.com
DTSTAMP:20260426T033646Z
CREATED:20260426T033646Z
DTSTART:20260222T020000Z
DTEND:20260222T024500Z
LOCATION:Field 1
CONTACT:Valle
SUMMARY:Liverpool VS. Tucupita 
DESCRIPTION:League Name: 2026 Winter Saturday Open Men's 2nd Session  \nGam
 e Type: Regular\nGame Status: Complete\nHome Team: Liverpool\nAway Team: T
 ucupita \nHome Score: 3\nAway Score: 13
END:VEVENT
BEGIN:VEVENT
UID:17026594@ezleagues.ezfacility.com
DTSTAMP:20260426T033646Z
CREATED:20260426T033646Z
DTSTART:20260301T043000Z
DTEND:20260301T051500Z
LOCATION:Field 1
CONTACT:Heretyk
SUMMARY:Liverpool VS. Celtic FC
DESCRIPTION:League Name: 2026 Winter Saturday Open Men's 2nd Session  \nGam
 e Type: Regular\nGame Status: Complete\nHome Team: Liverpool\nAway Team: C
 eltic FC\nHome Score: 2\nAway Score: 12
END:VEVENT
BEGIN:VEVENT
UID:17026611@ezleagues.ezfacility.com
DTSTAMP:20260426T033646Z
CREATED:20260426T033646Z
DTSTART:20260308T043000Z
DTEND:20260308T051500Z
LOCATION:Field 1
CONTACT:Castro Salcedo
SUMMARY:Liverpool VS. FC Galacticos 
DESCRIPTION:League Name: 2026 Winter Saturday Open Men's 2nd Session  \nGam
 e Type: Regular\nGame Status: Complete\nHome Team: Liverpool\nAway Team: F
 C Galacticos \nHome Score: 0\nAway Score: 12
END:VEVENT
BEGIN:VEVENT
UID:17026613@ezleagues.ezfacility.com
DTSTAMP:20260426T033646Z
CREATED:20260426T033646Z
DTSTART:20260315T003000Z
DTEND:20260315T011500Z
LOCATION:Field 1
CONTACT:Heretyk
SUMMARY:Liverpool VS. Delta Force Hawk Ops
DESCRIPTION:League Name: 2026 Winter Saturday Open Men's 2nd Session  \nGam
 e Type: Regular\nGame Status: Complete\nHome Team: Liverpool\nAway Team: D
 elta Force Hawk Ops\nHome Score: 7\nAway Score: 3
END:VEVENT
BEGIN:VEVENT
UID:17026622@ezleagues.ezfacility.com
DTSTAMP:20260426T033646Z
CREATED:20260426T033646Z
DTSTART:20260322T003000Z
DTEND:20260322T011500Z
LOCATION:Field 1
CONTACT:Castro Salcedo
SUMMARY:Combo De Orejas VS. Liverpool
DESCRIPTION:League Name: 2026 Winter Saturday Open Men's 2nd Session  \nGam
 e Type: Regular\nGame Status: Complete\nHome Team: Combo De Orejas\nAway T
 eam: Liverpool\nHome Score: 9\nAway Score: 2
END:VEVENT
BEGIN:VEVENT
UID:17026633@ezleagues.ezfacility.com
DTSTAMP:20260426T033646Z
CREATED:20260426T033646Z
DTSTART:20260329T011500Z
DTEND:20260329T020000Z
LOCATION:Field 1
CONTACT:Heretyk
SUMMARY:Liverpool VS. Olimpia
DESCRIPTION:League Name: 2026 Winter Saturday Open Men's 2nd Session  \nGam
 e Type: Regular\nGame Status: Complete\nHome Team: Liverpool\nAway Team: O
 limpia\nHome Score: 3\nAway Score: 9
END:VEVENT
BEGIN:VEVENT
UID:17026643@ezleagues.ezfacility.com
DTSTAMP:20260426T033646Z
CREATED:20260426T033646Z
DTSTART:20260405T024500Z
DTEND:20260405T033000Z
LOCATION:Field 1
CONTACT:Castro Salcedo
SUMMARY:Liverpool VS. Mexicolombia
DESCRIPTION:League Name: 2026 Winter Saturday Open Men's 2nd Session  \nGam
 e Type: Regular\nGame Status: Complete\nHome Team: Liverpool\nAway Team: M
 exicolombia\nHome Score: 5\nAway Score: 20
END:VEVENT
BEGIN:VEVENT
UID:17098637@ezleagues.ezfacility.com
DTSTAMP:20260426T033646Z
CREATED:20260426T033646Z
DTSTART:20260419T020000Z
DTEND:20260419T024500Z
LOCATION:Field 1
CONTACT:Rangel
SUMMARY:Liverpool VS. Catrachos
DESCRIPTION:League Name: 2026 Winter Saturday Open Men's 2nd Session  \nGam
 e Type: Regular\nGame Status: Complete\nHome Team: Liverpool\nAway Team: C
 atrachos\nHome Score: 4\nAway Score: 3
END:VEVENT
BEGIN:VEVENT
UID:17105191@ezleagues.ezfacility.com
DTSTAMP:20260426T033646Z
CREATED:20260426T033646Z
DTSTART:20260426T030000Z
DTEND:20260426T034500Z
LOCATION:Field 1
CONTACT:De La Paz
SUMMARY:Olimpia VS. Liverpool
DESCRIPTION:League Name: 2026 Winter Saturday Open Men's 2nd Session  \nGam
 e Type: Postseason\nGame Status: Pending\nHome Team: Olimpia\nAway Team: L
 iverpool\n
END:VEVENT
END:VCALENDAR
