BEGIN:VCALENDAR
VERSION:2.0
PRODID:-//EZFacility.com, Inc.//EZL 2.5.5.28621
BEGIN:VEVENT
UID:17017008@ezleagues.ezfacility.com
DTSTAMP:20260426T033645Z
CREATED:20260426T033645Z
DTSTART:20260215T210000Z
DTEND:20260215T220000Z
LOCATION:Field 1
CONTACT:
SUMMARY:Inter Mexico Jrs VS. Los Ducks
DESCRIPTION:League Name: WS Futbol Sala 2016/17 Youth League Summer 2026\nG
 ame Type: Regular\nGame Status: Complete\nHome Team: Inter Mexico Jrs\nAwa
 y Team: Los Ducks\nHome Score: 8\nAway Score: 3
END:VEVENT
BEGIN:VEVENT
UID:17017011@ezleagues.ezfacility.com
DTSTAMP:20260426T033645Z
CREATED:20260426T033645Z
DTSTART:20260222T220000Z
DTEND:20260222T230000Z
LOCATION:Field 1
CONTACT:
SUMMARY:Los Ducks VS. Costeñitos
DESCRIPTION:League Name: WS Futbol Sala 2016/17 Youth League Summer 2026\nG
 ame Type: Regular\nGame Status: Complete\nHome Team: Los Ducks\nAway Team:
  Costeñitos\nHome Score: 13\nAway Score: 9
END:VEVENT
BEGIN:VEVENT
UID:17017013@ezleagues.ezfacility.com
DTSTAMP:20260426T033645Z
CREATED:20260426T033645Z
DTSTART:20260301T210000Z
DTEND:20260301T220000Z
LOCATION:Field 3
CONTACT:
SUMMARY:Los Ducks VS. Malakitas
DESCRIPTION:League Name: WS Futbol Sala 2016/17 Youth League Summer 2026\nG
 ame Type: Regular\nGame Status: Complete\nHome Team: Los Ducks\nAway Team:
  Malakitas\nHome Score: 10\nAway Score: 7
END:VEVENT
BEGIN:VEVENT
UID:17017019@ezleagues.ezfacility.com
DTSTAMP:20260426T033645Z
CREATED:20260426T033645Z
DTSTART:20260315T200000Z
DTEND:20260315T210000Z
LOCATION:Field 1
CONTACT:
SUMMARY:Inter Mexico Jrs VS. Los Ducks
DESCRIPTION:League Name: WS Futbol Sala 2016/17 Youth League Summer 2026\nG
 ame Type: Regular\nGame Status: Complete\nHome Team: Inter Mexico Jrs\nAwa
 y Team: Los Ducks\nHome Score: 7\nAway Score: 11
END:VEVENT
BEGIN:VEVENT
UID:17017026@ezleagues.ezfacility.com
DTSTAMP:20260426T033645Z
CREATED:20260426T033645Z
DTSTART:20260329T200000Z
DTEND:20260329T210000Z
LOCATION:Field 1
CONTACT:
SUMMARY:Costeñitos VS. Los Ducks
DESCRIPTION:League Name: WS Futbol Sala 2016/17 Youth League Summer 2026\nG
 ame Type: Regular\nGame Status: Complete\nHome Team: Costeñitos\nAway Tea
 m: Los Ducks\nHome Score: 11\nAway Score: 14
END:VEVENT
BEGIN:VEVENT
UID:17017030@ezleagues.ezfacility.com
DTSTAMP:20260426T033645Z
CREATED:20260426T033645Z
DTSTART:20260412T180000Z
DTEND:20260412T190000Z
LOCATION:Field 3
CONTACT:
SUMMARY:Los Ducks VS. Barca Jrs
DESCRIPTION:League Name: WS Futbol Sala 2016/17 Youth League Summer 2026\nG
 ame Type: Regular\nGame Status: Complete\nHome Team: Los Ducks\nAway Team:
  Barca Jrs\nHome Score: 17\nAway Score: 2
END:VEVENT
BEGIN:VEVENT
UID:17017028@ezleagues.ezfacility.com
DTSTAMP:20260426T033645Z
CREATED:20260426T033645Z
DTSTART:20260426T210000Z
DTEND:20260426T220000Z
LOCATION:Field 1
CONTACT:
SUMMARY:Malakitas VS. Los Ducks
DESCRIPTION:League Name: WS Futbol Sala 2016/17 Youth League Summer 2026\nG
 ame Type: Regular\nGame Status: Pending\nHome Team: Malakitas\nAway Team: 
 Los Ducks\n
END:VEVENT
BEGIN:VEVENT
UID:17017015@ezleagues.ezfacility.com
DTSTAMP:20260426T033645Z
CREATED:20260426T033645Z
DTSTART:20260503T200000Z
DTEND:20260503T210000Z
LOCATION:Field 3
CONTACT:
SUMMARY:Barca Jrs VS. Los Ducks
DESCRIPTION:League Name: WS Futbol Sala 2016/17 Youth League Summer 2026\nG
 ame Type: Regular\nGame Status: Pending\nHome Team: Barca Jrs\nAway Team: 
 Los Ducks\n
END:VEVENT
BEGIN:VEVENT
UID:17017023@ezleagues.ezfacility.com
DTSTAMP:20260426T033645Z
CREATED:20260426T033645Z
DTSTART:20260510T210000Z
DTEND:20260510T220000Z
LOCATION:Field 3
CONTACT:
SUMMARY:Los Ducks VS. Altamiranos Jrs
DESCRIPTION:League Name: WS Futbol Sala 2016/17 Youth League Summer 2026\nG
 ame Type: Regular\nGame Status: Pending\nHome Team: Los Ducks\nAway Team: 
 Altamiranos Jrs\n
END:VEVENT
BEGIN:VEVENT
UID:17017034@ezleagues.ezfacility.com
DTSTAMP:20260426T033645Z
CREATED:20260426T033645Z
DTSTART:20260524T170000Z
DTEND:20260524T180000Z
LOCATION:Field 1
CONTACT:
SUMMARY:Los Ducks VS. Inter Mexico Jrs
DESCRIPTION:League Name: WS Futbol Sala 2016/17 Youth League Summer 2026\nG
 ame Type: Regular\nGame Status: Pending\nHome Team: Los Ducks\nAway Team: 
 Inter Mexico Jrs\n
END:VEVENT
END:VCALENDAR
