BEGIN:VCALENDAR
VERSION:2.0
PRODID:-//EZFacility.com, Inc.//EZL 2.5.5.28621
BEGIN:VEVENT
UID:17017839@ezleagues.ezfacility.com
DTSTAMP:20260426T033601Z
CREATED:20260426T033601Z
DTSTART:20260321T120000Z
DTEND:20260321T140000Z
LOCATION:Air Dome
CONTACT:
SUMMARY:Gambrills Athletics VS. Lake Shore Graysox
DESCRIPTION:League Name: 2026 Spring Thaw 8U\nGame Type: Regular\nGame Stat
 us: Complete\nHome Team: Gambrills Athletics\nAway Team: Lake Shore Grayso
 x\nHome Score: 3\nAway Score: 12
END:VEVENT
BEGIN:VEVENT
UID:17017842@ezleagues.ezfacility.com
DTSTAMP:20260426T033601Z
CREATED:20260426T033601Z
DTSTART:20260321T140000Z
DTEND:20260321T160000Z
LOCATION:Air Dome
CONTACT:
SUMMARY:Lake Shore Graysox VS. Sykesville Cyclones Navy
DESCRIPTION:League Name: 2026 Spring Thaw 8U\nGame Type: Regular\nGame Stat
 us: Complete\nHome Team: Lake Shore Graysox\nAway Team: Sykesville Cyclone
 s Navy\nHome Score: 4\nAway Score: 10
END:VEVENT
BEGIN:VEVENT
UID:17018027@ezleagues.ezfacility.com
DTSTAMP:20260426T033601Z
CREATED:20260426T033601Z
DTSTART:20260322T120000Z
DTEND:20260322T140000Z
LOCATION:Air Dome
CONTACT:
SUMMARY:Severna Park Green Hornets  VS. Lake Shore Graysox
DESCRIPTION:League Name: 2026 Spring Thaw 8U\nGame Type: Regular\nGame Stat
 us: Complete\nHome Team: Severna Park Green Hornets \nAway Team: Lake Shor
 e Graysox\nHome Score: 4\nAway Score: 15
END:VEVENT
BEGIN:VEVENT
UID:17018031@ezleagues.ezfacility.com
DTSTAMP:20260426T033601Z
CREATED:20260426T033601Z
DTSTART:20260322T160000Z
DTEND:20260322T180000Z
LOCATION:Air Dome
CONTACT:
SUMMARY:API Academy VS. Lake Shore Graysox
DESCRIPTION:League Name: 2026 Spring Thaw 8U\nGame Type: Regular\nGame Stat
 us: Complete\nHome Team: API Academy\nAway Team: Lake Shore Graysox\nHome 
 Score: 7\nAway Score: 6
END:VEVENT
END:VCALENDAR
