BEGIN:VCALENDAR
VERSION:2.0
PRODID:-//EZFacility.com, Inc.//EZL 2.5.5.28621
BEGIN:VEVENT
UID:17018729@ezleagues.ezfacility.com
DTSTAMP:20260423T220846Z
CREATED:20260423T220846Z
DTSTART:20260222T190000Z
DTEND:20260222T192000Z
LOCATION:Basketball Court 2
CONTACT:
SUMMARY:Team Defense VS. Team Magic
DESCRIPTION:League Name: Girls High School Division\nGame Type: Regular\nGa
 me Status: Pending\nHome Team: Team Defense\nAway Team: Team Magic\n
END:VEVENT
BEGIN:VEVENT
UID:17018732@ezleagues.ezfacility.com
DTSTAMP:20260423T220846Z
CREATED:20260423T220846Z
DTSTART:20260301T190000Z
DTEND:20260301T192000Z
LOCATION:Basketball Court 1
CONTACT:
SUMMARY:Team 67 VS. Team Defense
DESCRIPTION:League Name: Girls High School Division\nGame Type: Regular\nGa
 me Status: Pending\nHome Team: Team 67\nAway Team: Team Defense\n
END:VEVENT
BEGIN:VEVENT
UID:17018734@ezleagues.ezfacility.com
DTSTAMP:20260423T220846Z
CREATED:20260423T220846Z
DTSTART:20260308T180000Z
DTEND:20260308T182000Z
LOCATION:Basketball Court 1
CONTACT:
SUMMARY:Team Hustle VS. Team Defense
DESCRIPTION:League Name: Girls High School Division\nGame Type: Regular\nGa
 me Status: Pending\nHome Team: Team Hustle\nAway Team: Team Defense\n
END:VEVENT
BEGIN:VEVENT
UID:17018736@ezleagues.ezfacility.com
DTSTAMP:20260423T220846Z
CREATED:20260423T220846Z
DTSTART:20260315T182000Z
DTEND:20260315T184000Z
LOCATION:Basketball Court 1
CONTACT:
SUMMARY:Team Defense VS. Flexx
DESCRIPTION:League Name: Girls High School Division\nGame Type: Regular\nGa
 me Status: Pending\nHome Team: Team Defense\nAway Team: Flexx\n
END:VEVENT
END:VCALENDAR
