BEGIN:VCALENDAR
VERSION:2.0
PRODID:-//EZFacility.com, Inc.//EZL 2.5.5.28621
BEGIN:VEVENT
UID:17018870@ezleagues.ezfacility.com
DTSTAMP:20260424T044425Z
CREATED:20260424T044425Z
DTSTART:20260226T013000Z
DTEND:20260226T023000Z
LOCATION:Flight Adventure Park
CONTACT:
SUMMARY:Bourbon A VS. Pacers
DESCRIPTION:League Name: A League Spring 2026\nGame Type: Regular\nGame Sta
 tus: Complete\nHome Team: Bourbon A\nAway Team: Pacers\nHome Score: 8\nAwa
 y Score: 4
END:VEVENT
BEGIN:VEVENT
UID:17018872@ezleagues.ezfacility.com
DTSTAMP:20260424T044425Z
CREATED:20260424T044425Z
DTSTART:20260305T013000Z
DTEND:20260305T023000Z
LOCATION:Flight Adventure Park
CONTACT:
SUMMARY:Bourbon A VS. IceMen
DESCRIPTION:League Name: A League Spring 2026\nGame Type: Regular\nGame Sta
 tus: Complete\nHome Team: Bourbon A\nAway Team: IceMen\nHome Score: 7\nAwa
 y Score: 2
END:VEVENT
BEGIN:VEVENT
UID:17018874@ezleagues.ezfacility.com
DTSTAMP:20260424T044425Z
CREATED:20260424T044425Z
DTSTART:20260312T000000Z
DTEND:20260312T010000Z
LOCATION:Flight Adventure Park
CONTACT:
SUMMARY:Bourbon A VS. Dangling Richards
DESCRIPTION:League Name: A League Spring 2026\nGame Type: Regular\nGame Sta
 tus: Complete\nHome Team: Bourbon A\nAway Team: Dangling Richards\nHome Sc
 ore: 5\nAway Score: 4
END:VEVENT
BEGIN:VEVENT
UID:17018876@ezleagues.ezfacility.com
DTSTAMP:20260424T044425Z
CREATED:20260424T044425Z
DTSTART:20260319T011500Z
DTEND:20260319T021500Z
LOCATION:Flight Adventure Park
CONTACT:
SUMMARY:Pacers VS. Bourbon A
DESCRIPTION:League Name: A League Spring 2026\nGame Type: Regular\nGame Sta
 tus: Complete\nHome Team: Pacers\nAway Team: Bourbon A\nHome Score: 8\nAwa
 y Score: 7
END:VEVENT
BEGIN:VEVENT
UID:17018878@ezleagues.ezfacility.com
DTSTAMP:20260424T044425Z
CREATED:20260424T044425Z
DTSTART:20260326T011500Z
DTEND:20260326T021500Z
LOCATION:Flight Adventure Park
CONTACT:
SUMMARY:IceMen VS. Bourbon A
DESCRIPTION:League Name: A League Spring 2026\nGame Type: Regular\nGame Sta
 tus: Complete\nHome Team: IceMen\nAway Team: Bourbon A\nHome Score: 4\nAwa
 y Score: 8
END:VEVENT
BEGIN:VEVENT
UID:17018880@ezleagues.ezfacility.com
DTSTAMP:20260424T044425Z
CREATED:20260424T044425Z
DTSTART:20260402T011500Z
DTEND:20260402T021500Z
LOCATION:Flight Adventure Park
CONTACT:
SUMMARY:Bourbon A VS. Dangling Richards
DESCRIPTION:League Name: A League Spring 2026\nGame Type: Regular\nGame Sta
 tus: Complete\nHome Team: Bourbon A\nAway Team: Dangling Richards\nHome Sc
 ore: 5\nAway Score: 3
END:VEVENT
BEGIN:VEVENT
UID:17018882@ezleagues.ezfacility.com
DTSTAMP:20260424T044425Z
CREATED:20260424T044425Z
DTSTART:20260409T000000Z
DTEND:20260409T010000Z
LOCATION:Flight Adventure Park
CONTACT:
SUMMARY:Pacers VS. Bourbon A
DESCRIPTION:League Name: A League Spring 2026\nGame Type: Regular\nGame Sta
 tus: Complete\nHome Team: Pacers\nAway Team: Bourbon A\nHome Score: 10\nAw
 ay Score: 0
END:VEVENT
BEGIN:VEVENT
UID:17018884@ezleagues.ezfacility.com
DTSTAMP:20260424T044425Z
CREATED:20260424T044425Z
DTSTART:20260416T000000Z
DTEND:20260416T010000Z
LOCATION:Flight Adventure Park
CONTACT:
SUMMARY:IceMen VS. Bourbon A
DESCRIPTION:League Name: A League Spring 2026\nGame Type: Regular\nGame Sta
 tus: Complete\nHome Team: IceMen\nAway Team: Bourbon A\nHome Score: 8\nAwa
 y Score: 6
END:VEVENT
BEGIN:VEVENT
UID:17018886@ezleagues.ezfacility.com
DTSTAMP:20260424T044425Z
CREATED:20260424T044425Z
DTSTART:20260423T000000Z
DTEND:20260423T010000Z
LOCATION:Flight Adventure Park
CONTACT:
SUMMARY:Dangling Richards VS. Bourbon A
DESCRIPTION:League Name: A League Spring 2026\nGame Type: Regular\nGame Sta
 tus: Complete\nHome Team: Dangling Richards\nAway Team: Bourbon A\nHome Sc
 ore: 6\nAway Score: 7
END:VEVENT
END:VCALENDAR
