BEGIN:VCALENDAR
VERSION:2.0
PRODID:-//EZFacility.com, Inc.//EZL 2.5.5.28621
BEGIN:VEVENT
UID:17020158@ezleagues.ezfacility.com
DTSTAMP:20260424T044159Z
CREATED:20260424T044159Z
DTSTART:20260217T032000Z
DTEND:20260217T040000Z
LOCATION:Harmans Premier Field #5
CONTACT:
SUMMARY:Olimpia FC VS. Solteros y Casados
DESCRIPTION:League Name: Mon Mens Open 3rd div \nGame Type: Regular\nGame S
 tatus: Complete\nHome Team: Olimpia FC\nAway Team: Solteros y Casados\nHom
 e Score: 11\nAway Score: 4
END:VEVENT
BEGIN:VEVENT
UID:17020169@ezleagues.ezfacility.com
DTSTAMP:20260424T044159Z
CREATED:20260424T044159Z
DTSTART:20260224T032000Z
DTEND:20260224T041000Z
LOCATION:Harmans Premier Field #4
CONTACT:
SUMMARY:S.O.L. VS. Olimpia FC
DESCRIPTION:League Name: Mon Mens Open 3rd div \nGame Type: Regular\nGame S
 tatus: Complete\nHome Team: S.O.L.\nAway Team: Olimpia FC\nHome Score: 6\n
 Away Score: 9
END:VEVENT
BEGIN:VEVENT
UID:17020179@ezleagues.ezfacility.com
DTSTAMP:20260424T044159Z
CREATED:20260424T044159Z
DTSTART:20260303T032000Z
DTEND:20260303T040000Z
LOCATION:Harmans Premier Field #5
CONTACT:
SUMMARY:El Chal FC VS. Olimpia FC
DESCRIPTION:League Name: Mon Mens Open 3rd div \nGame Type: Regular\nGame S
 tatus: Complete\nHome Team: El Chal FC\nAway Team: Olimpia FC\nHome Score:
  4\nAway Score: 10
END:VEVENT
BEGIN:VEVENT
UID:17020189@ezleagues.ezfacility.com
DTSTAMP:20260424T044159Z
CREATED:20260424T044159Z
DTSTART:20260310T022000Z
DTEND:20260310T031000Z
LOCATION:Harmans Premier Field #4
CONTACT:
SUMMARY:Los Reales de Temu VS. Olimpia FC
DESCRIPTION:League Name: Mon Mens Open 3rd div \nGame Type: Regular\nGame S
 tatus: Complete\nHome Team: Los Reales de Temu\nAway Team: Olimpia FC\nHom
 e Score: 2\nAway Score: 4
END:VEVENT
BEGIN:VEVENT
UID:17020199@ezleagues.ezfacility.com
DTSTAMP:20260424T044159Z
CREATED:20260424T044159Z
DTSTART:20260317T022000Z
DTEND:20260317T031000Z
LOCATION:Harmans Premier Field #4
CONTACT:
SUMMARY:Olimpia FC VS. Inter FC
DESCRIPTION:League Name: Mon Mens Open 3rd div \nGame Type: Regular\nGame S
 tatus: Complete\nHome Team: Olimpia FC\nAway Team: Inter FC\nHome Score: 6
 \nAway Score: 3
END:VEVENT
BEGIN:VEVENT
UID:17020211@ezleagues.ezfacility.com
DTSTAMP:20260424T044159Z
CREATED:20260424T044159Z
DTSTART:20260324T022000Z
DTEND:20260324T030000Z
LOCATION:Harmans Premier Field #5
CONTACT:
SUMMARY:Olimpia FC VS. Maryland FC
DESCRIPTION:League Name: Mon Mens Open 3rd div \nGame Type: Regular\nGame S
 tatus: Complete\nHome Team: Olimpia FC\nAway Team: Maryland FC\nHome Score
 : 3\nAway Score: 9
END:VEVENT
BEGIN:VEVENT
UID:17020223@ezleagues.ezfacility.com
DTSTAMP:20260424T044159Z
CREATED:20260424T044159Z
DTSTART:20260331T022000Z
DTEND:20260331T031000Z
LOCATION:Harmans Premier Field #4
CONTACT:
SUMMARY:Olimpia FC VS. Averages Joes FC
DESCRIPTION:League Name: Mon Mens Open 3rd div \nGame Type: Regular\nGame S
 tatus: Complete\nHome Team: Olimpia FC\nAway Team: Averages Joes FC\nHome 
 Score: 5\nAway Score: 7
END:VEVENT
BEGIN:VEVENT
UID:17080028@ezleagues.ezfacility.com
DTSTAMP:20260424T044159Z
CREATED:20260424T044159Z
DTSTART:20260407T022000Z
DTEND:20260407T031000Z
LOCATION:Harmans Premier Field #5
CONTACT:
SUMMARY:Maryland FC VS. Olimpia FC
DESCRIPTION:League Name: Mon Mens Open 3rd div \nGame Type: Regular\nGame S
 tatus: Complete\nHome Team: Maryland FC\nAway Team: Olimpia FC\nHome Score
 : 4\nAway Score: 7
END:VEVENT
BEGIN:VEVENT
UID:17090929@ezleagues.ezfacility.com
DTSTAMP:20260424T044159Z
CREATED:20260424T044159Z
DTSTART:20260414T013000Z
DTEND:20260414T023000Z
LOCATION:Harmans Premier Field #4
CONTACT:
SUMMARY:Los Reales de Temu VS. Olimpia FC
DESCRIPTION:League Name: Mon Mens Open 3rd div \nGame Type: Regular\nGame S
 tatus: Complete\nHome Team: Los Reales de Temu\nAway Team: Olimpia FC\nHom
 e Score: 3\nAway Score: 2
END:VEVENT
END:VCALENDAR
