BEGIN:VCALENDAR
VERSION:2.0
PRODID:-//EZFacility.com, Inc.//EZL 2.5.5.28621
BEGIN:VEVENT
UID:17020265@ezleagues.ezfacility.com
DTSTAMP:20260426T033732Z
CREATED:20260426T033732Z
DTSTART:20260219T040000Z
DTEND:20260219T050000Z
LOCATION:Arena
CONTACT:
SUMMARY:Coras FC VS. Sucias F.C.
DESCRIPTION:League Name: Men's Arena Soccer - Spring 2026\nGame Type: Regul
 ar\nGame Status: Complete\nHome Team: Coras FC\nAway Team: Sucias F.C.\nHo
 me Score: 4\nAway Score: 4
END:VEVENT
BEGIN:VEVENT
UID:17020273@ezleagues.ezfacility.com
DTSTAMP:20260426T033732Z
CREATED:20260426T033732Z
DTSTART:20260226T020000Z
DTEND:20260226T030000Z
LOCATION:Arena
CONTACT:
SUMMARY:Bloodline VS. Sucias F.C.
DESCRIPTION:League Name: Men's Arena Soccer - Spring 2026\nGame Type: Regul
 ar\nGame Status: Complete\nHome Team: Bloodline\nAway Team: Sucias F.C.\nH
 ome Score: 7\nAway Score: 7
END:VEVENT
BEGIN:VEVENT
UID:17020275@ezleagues.ezfacility.com
DTSTAMP:20260426T033732Z
CREATED:20260426T033732Z
DTSTART:20260305T040000Z
DTEND:20260305T050000Z
LOCATION:Arena
CONTACT:
SUMMARY:Dynamo VS. Sucias F.C.
DESCRIPTION:League Name: Men's Arena Soccer - Spring 2026\nGame Type: Regul
 ar\nGame Status: Complete\nHome Team: Dynamo\nAway Team: Sucias F.C.\nHome
  Score: 2\nAway Score: 6
END:VEVENT
BEGIN:VEVENT
UID:17020290@ezleagues.ezfacility.com
DTSTAMP:20260426T033732Z
CREATED:20260426T033732Z
DTSTART:20260311T040000Z
DTEND:20260311T050000Z
LOCATION:Arena
CONTACT:
SUMMARY:Mean Machines VS. Sucias F.C.
DESCRIPTION:League Name: Men's Arena Soccer - Spring 2026\nGame Type: Regul
 ar\nGame Status: Complete\nHome Team: Mean Machines\nAway Team: Sucias F.C
 .\nHome Score: 3\nAway Score: 4
END:VEVENT
BEGIN:VEVENT
UID:17020298@ezleagues.ezfacility.com
DTSTAMP:20260426T033732Z
CREATED:20260426T033732Z
DTSTART:20260319T030000Z
DTEND:20260319T040000Z
LOCATION:Arena
CONTACT:
SUMMARY:Tazos Dorados FC VS. Sucias F.C.
DESCRIPTION:League Name: Men's Arena Soccer - Spring 2026\nGame Type: Regul
 ar\nGame Status: Complete\nHome Team: Tazos Dorados FC\nAway Team: Sucias 
 F.C.\nHome Score: 1\nAway Score: 13
END:VEVENT
BEGIN:VEVENT
UID:17020314@ezleagues.ezfacility.com
DTSTAMP:20260426T033732Z
CREATED:20260426T033732Z
DTSTART:20260401T020000Z
DTEND:20260401T030000Z
LOCATION:Arena
CONTACT:
SUMMARY:Sucias F.C. VS. 502
DESCRIPTION:League Name: Men's Arena Soccer - Spring 2026\nGame Type: Regul
 ar\nGame Status: Complete\nHome Team: Sucias F.C.\nAway Team: 502\nHome Sc
 ore: 4\nAway Score: 3
END:VEVENT
BEGIN:VEVENT
UID:17020323@ezleagues.ezfacility.com
DTSTAMP:20260426T033732Z
CREATED:20260426T033732Z
DTSTART:20260409T040000Z
DTEND:20260409T050000Z
LOCATION:Arena
CONTACT:
SUMMARY:Sucias F.C. VS. Los Plebes De Soloma
DESCRIPTION:League Name: Men's Arena Soccer - Spring 2026\nGame Type: Regul
 ar\nGame Status: Complete\nHome Team: Sucias F.C.\nAway Team: Los Plebes D
 e Soloma\nHome Score: 14\nAway Score: 0
END:VEVENT
BEGIN:VEVENT
UID:17020332@ezleagues.ezfacility.com
DTSTAMP:20260426T033732Z
CREATED:20260426T033732Z
DTSTART:20260415T030000Z
DTEND:20260415T040000Z
LOCATION:Arena
CONTACT:
SUMMARY:Sucias F.C. VS. CHIVAS
DESCRIPTION:League Name: Men's Arena Soccer - Spring 2026\nGame Type: Regul
 ar\nGame Status: Complete\nHome Team: Sucias F.C.\nAway Team: CHIVAS\nHome
  Score: 10\nAway Score: 1
END:VEVENT
BEGIN:VEVENT
UID:17020342@ezleagues.ezfacility.com
DTSTAMP:20260426T033732Z
CREATED:20260426T033732Z
DTSTART:20260422T040000Z
DTEND:20260422T050000Z
LOCATION:Arena
CONTACT:
SUMMARY:Sucias F.C. VS. Athletic Club
DESCRIPTION:League Name: Men's Arena Soccer - Spring 2026\nGame Type: Regul
 ar\nGame Status: Complete\nHome Team: Sucias F.C.\nAway Team: Athletic Clu
 b\nHome Score: 8\nAway Score: 5
END:VEVENT
BEGIN:VEVENT
UID:17020365@ezleagues.ezfacility.com
DTSTAMP:20260426T033732Z
CREATED:20260426T033732Z
DTSTART:20260429T020000Z
DTEND:20260429T030000Z
LOCATION:Arena
CONTACT:
SUMMARY:Brook Boyz FC VS. Sucias F.C.
DESCRIPTION:League Name: Men's Arena Soccer - Spring 2026\nGame Type: Regul
 ar\nGame Status: Pending\nHome Team: Brook Boyz FC\nAway Team: Sucias F.C.
 \n
END:VEVENT
END:VCALENDAR
