BEGIN:VCALENDAR
VERSION:2.0
PRODID:-//EZFacility.com, Inc.//EZL 2.5.5.28621
BEGIN:VEVENT
UID:17021727@ezleagues.ezfacility.com
DTSTAMP:20260426T033802Z
CREATED:20260426T033802Z
DTSTART:20260225T015000Z
DTEND:20260225T024000Z
LOCATION:Indoor Field
CONTACT:
SUMMARY:UpGame VS. Galacticos 
DESCRIPTION:League Name: Coed League Spring 2026\nGame Type: Regular\nGame 
 Status: Complete\nHome Team: UpGame\nAway Team: Galacticos \nHome Score: 7
 \nAway Score: 16
END:VEVENT
BEGIN:VEVENT
UID:17021733@ezleagues.ezfacility.com
DTSTAMP:20260426T033802Z
CREATED:20260426T033802Z
DTSTART:20260304T024000Z
DTEND:20260304T033000Z
LOCATION:Indoor Field
CONTACT:
SUMMARY:Galacticos  VS. StrawHats
DESCRIPTION:League Name: Coed League Spring 2026\nGame Type: Regular\nGame 
 Status: Complete\nHome Team: Galacticos \nAway Team: StrawHats\nHome Score
 : 34\nAway Score: 13
END:VEVENT
BEGIN:VEVENT
UID:17021739@ezleagues.ezfacility.com
DTSTAMP:20260426T033802Z
CREATED:20260426T033802Z
DTSTART:20260311T005000Z
DTEND:20260311T014000Z
LOCATION:Indoor Field
CONTACT:
SUMMARY:Last Squad VS. Galacticos 
DESCRIPTION:League Name: Coed League Spring 2026\nGame Type: Regular\nGame 
 Status: Complete\nHome Team: Last Squad\nAway Team: Galacticos \nHome Scor
 e: 8\nAway Score: 15
END:VEVENT
BEGIN:VEVENT
UID:17021744@ezleagues.ezfacility.com
DTSTAMP:20260426T033802Z
CREATED:20260426T033802Z
DTSTART:20260318T005000Z
DTEND:20260318T014000Z
LOCATION:Indoor Field
CONTACT:
SUMMARY:Baddies and Bros VS. Galacticos 
DESCRIPTION:League Name: Coed League Spring 2026\nGame Type: Regular\nGame 
 Status: Complete\nHome Team: Baddies and Bros\nAway Team: Galacticos \nHom
 e Score: 15\nAway Score: 22
END:VEVENT
BEGIN:VEVENT
UID:17021748@ezleagues.ezfacility.com
DTSTAMP:20260426T033802Z
CREATED:20260426T033802Z
DTSTART:20260325T005000Z
DTEND:20260325T014000Z
LOCATION:Indoor Field
CONTACT:
SUMMARY:Galacticos  VS. Soccer Phantoms FC
DESCRIPTION:League Name: Coed League Spring 2026\nGame Type: Regular\nGame 
 Status: Complete\nHome Team: Galacticos \nAway Team: Soccer Phantoms FC\nH
 ome Score: 9\nAway Score: 8
END:VEVENT
BEGIN:VEVENT
UID:17021721@ezleagues.ezfacility.com
DTSTAMP:20260426T033802Z
CREATED:20260426T033802Z
DTSTART:20260401T014000Z
DTEND:20260401T023000Z
LOCATION:Indoor Field
CONTACT:
SUMMARY:Galacticos  VS. OutKast
DESCRIPTION:League Name: Coed League Spring 2026\nGame Type: Regular\nGame 
 Status: Complete\nHome Team: Galacticos \nAway Team: OutKast\nHome Score: 
 13\nAway Score: 10
END:VEVENT
BEGIN:VEVENT
UID:17021756@ezleagues.ezfacility.com
DTSTAMP:20260426T033802Z
CREATED:20260426T033802Z
DTSTART:20260408T022000Z
DTEND:20260408T031000Z
LOCATION:Indoor Field
CONTACT:
SUMMARY:Galacticos  VS. PasaLaBola
DESCRIPTION:League Name: Coed League Spring 2026\nGame Type: Regular\nGame 
 Status: Complete\nHome Team: Galacticos \nAway Team: PasaLaBola\nHome Scor
 e: 11\nAway Score: 12
END:VEVENT
BEGIN:VEVENT
UID:17078617@ezleagues.ezfacility.com
DTSTAMP:20260426T033802Z
CREATED:20260426T033802Z
DTSTART:20260415T004000Z
DTEND:20260415T013000Z
LOCATION:Indoor Field
CONTACT:
SUMMARY:Galacticos  VS. PasaLaBola
DESCRIPTION:League Name: Coed League Spring 2026\nGame Type: Postseason\nGa
 me Status: Pending\nHome Team: Galacticos \nAway Team: PasaLaBola\n
END:VEVENT
END:VCALENDAR
