BEGIN:VCALENDAR
VERSION:2.0
PRODID:-//EZFacility.com, Inc.//EZL 2.5.5.28621
BEGIN:VEVENT
UID:17027422@ezleagues.ezfacility.com
DTSTAMP:20260419T163026Z
CREATED:20260419T163026Z
DTSTART:20260218T233000Z
DTEND:20260219T001000Z
LOCATION:Court 1
CONTACT:
SUMMARY:Emily Moir VS. Megan Hylton
DESCRIPTION:League Name: Women's 4's League II 2026\nGame Type: Regular\nGa
 me Status: Complete\nHome Team: Emily Moir\nAway Team: Megan Hylton\nHome 
 Score: 1\nAway Score: 0
END:VEVENT
BEGIN:VEVENT
UID:17027426@ezleagues.ezfacility.com
DTSTAMP:20260419T163026Z
CREATED:20260419T163026Z
DTSTART:20260218T233000Z
DTEND:20260219T001000Z
LOCATION:Court 1
CONTACT:
SUMMARY:Emily Moir VS. Emily Hagelthorn
DESCRIPTION:League Name: Women's 4's League II 2026\nGame Type: Regular\nGa
 me Status: Complete\nHome Team: Emily Moir\nAway Team: Emily Hagelthorn\nH
 ome Score: 1\nAway Score: 0
END:VEVENT
BEGIN:VEVENT
UID:17027431@ezleagues.ezfacility.com
DTSTAMP:20260419T163026Z
CREATED:20260419T163026Z
DTSTART:20260218T233000Z
DTEND:20260219T001000Z
LOCATION:Court 1
CONTACT:
SUMMARY:Megan Hylton VS. Emily Moir
DESCRIPTION:League Name: Women's 4's League II 2026\nGame Type: Regular\nGa
 me Status: Complete\nHome Team: Megan Hylton\nAway Team: Emily Moir\nHome 
 Score: 1\nAway Score: 0
END:VEVENT
BEGIN:VEVENT
UID:17027419@ezleagues.ezfacility.com
DTSTAMP:20260419T163026Z
CREATED:20260419T163026Z
DTSTART:20260218T233000Z
DTEND:20260219T001000Z
LOCATION:Court 2
CONTACT:
SUMMARY:Emily Moir VS. Sarah Gotts
DESCRIPTION:League Name: Women's 4's League II 2026\nGame Type: Regular\nGa
 me Status: Complete\nHome Team: Emily Moir\nAway Team: Sarah Gotts\nHome S
 core: 1\nAway Score: 0
END:VEVENT
BEGIN:VEVENT
UID:17027438@ezleagues.ezfacility.com
DTSTAMP:20260419T163026Z
CREATED:20260419T163026Z
DTSTART:20260218T233000Z
DTEND:20260219T001000Z
LOCATION:Court 2
CONTACT:
SUMMARY:Sarah Gotts VS. Emily Moir
DESCRIPTION:League Name: Women's 4's League II 2026\nGame Type: Regular\nGa
 me Status: Complete\nHome Team: Sarah Gotts\nAway Team: Emily Moir\nHome S
 core: 1\nAway Score: 0
END:VEVENT
BEGIN:VEVENT
UID:17027416@ezleagues.ezfacility.com
DTSTAMP:20260419T163026Z
CREATED:20260419T163026Z
DTSTART:20260218T233000Z
DTEND:20260219T001000Z
LOCATION:Court 3
CONTACT:
SUMMARY:Emily Moir VS. Abby Thoms
DESCRIPTION:League Name: Women's 4's League II 2026\nGame Type: Regular\nGa
 me Status: Complete\nHome Team: Emily Moir\nAway Team: Abby Thoms\nHome Sc
 ore: 1\nAway Score: 0
END:VEVENT
BEGIN:VEVENT
UID:17041946@ezleagues.ezfacility.com
DTSTAMP:20260419T163026Z
CREATED:20260419T163026Z
DTSTART:20260225T233000Z
DTEND:20260226T001000Z
LOCATION:Court 1
CONTACT:
SUMMARY:Sarah Gotts VS. Emily Moir
DESCRIPTION:League Name: Women's 4's League II 2026\nGame Type: Regular\nGa
 me Status: Complete\nHome Team: Sarah Gotts\nAway Team: Emily Moir\nHome S
 core: 1\nAway Score: 0
END:VEVENT
BEGIN:VEVENT
UID:17041966@ezleagues.ezfacility.com
DTSTAMP:20260419T163026Z
CREATED:20260419T163026Z
DTSTART:20260225T233000Z
DTEND:20260226T001000Z
LOCATION:Court 1
CONTACT:
SUMMARY:Emily Moir VS. Emily Hagelthorn
DESCRIPTION:League Name: Women's 4's League II 2026\nGame Type: Regular\nGa
 me Status: Complete\nHome Team: Emily Moir\nAway Team: Emily Hagelthorn\nH
 ome Score: 1\nAway Score: 0
END:VEVENT
BEGIN:VEVENT
UID:17041943@ezleagues.ezfacility.com
DTSTAMP:20260419T163026Z
CREATED:20260419T163026Z
DTSTART:20260225T233000Z
DTEND:20260226T001000Z
LOCATION:Court 2
CONTACT:
SUMMARY:Emily Moir VS. Ashley Rollman
DESCRIPTION:League Name: Women's 4's League II 2026\nGame Type: Regular\nGa
 me Status: Complete\nHome Team: Emily Moir\nAway Team: Ashley Rollman\nHom
 e Score: 1\nAway Score: 0
END:VEVENT
BEGIN:VEVENT
UID:17041951@ezleagues.ezfacility.com
DTSTAMP:20260419T163026Z
CREATED:20260419T163026Z
DTSTART:20260225T233000Z
DTEND:20260226T001000Z
LOCATION:Court 2
CONTACT:
SUMMARY:Lauren Holtcamp VS. Emily Moir
DESCRIPTION:League Name: Women's 4's League II 2026\nGame Type: Regular\nGa
 me Status: Complete\nHome Team: Lauren Holtcamp\nAway Team: Emily Moir\nHo
 me Score: 1\nAway Score: 0
END:VEVENT
BEGIN:VEVENT
UID:17041963@ezleagues.ezfacility.com
DTSTAMP:20260419T163026Z
CREATED:20260419T163026Z
DTSTART:20260225T233000Z
DTEND:20260226T001000Z
LOCATION:Court 2
CONTACT:
SUMMARY:Emily Moir VS. Lauren Holtcamp
DESCRIPTION:League Name: Women's 4's League II 2026\nGame Type: Regular\nGa
 me Status: Complete\nHome Team: Emily Moir\nAway Team: Lauren Holtcamp\nHo
 me Score: 1\nAway Score: 0
END:VEVENT
BEGIN:VEVENT
UID:17041958@ezleagues.ezfacility.com
DTSTAMP:20260419T163026Z
CREATED:20260419T163026Z
DTSTART:20260225T233000Z
DTEND:20260226T001000Z
LOCATION:Court 3
CONTACT:
SUMMARY:Emily Moir VS. Ella Azbell
DESCRIPTION:League Name: Women's 4's League II 2026\nGame Type: Regular\nGa
 me Status: Complete\nHome Team: Emily Moir\nAway Team: Ella Azbell\nHome S
 core: 1\nAway Score: 0
END:VEVENT
BEGIN:VEVENT
UID:17052232@ezleagues.ezfacility.com
DTSTAMP:20260419T163026Z
CREATED:20260419T163026Z
DTSTART:20260304T233000Z
DTEND:20260305T001000Z
LOCATION:Court 2
CONTACT:
SUMMARY:Sarah Gotts VS. Emily Moir
DESCRIPTION:League Name: Women's 4's League II 2026\nGame Type: Regular\nGa
 me Status: Complete\nHome Team: Sarah Gotts\nAway Team: Emily Moir\nHome S
 core: 1\nAway Score: 0
END:VEVENT
BEGIN:VEVENT
UID:17052241@ezleagues.ezfacility.com
DTSTAMP:20260419T163026Z
CREATED:20260419T163026Z
DTSTART:20260304T233000Z
DTEND:20260305T001000Z
LOCATION:Court 2
CONTACT:
SUMMARY:Sarah Gotts VS. Emily Moir
DESCRIPTION:League Name: Women's 4's League II 2026\nGame Type: Regular\nGa
 me Status: Complete\nHome Team: Sarah Gotts\nAway Team: Emily Moir\nHome S
 core: 1\nAway Score: 0
END:VEVENT
BEGIN:VEVENT
UID:17052251@ezleagues.ezfacility.com
DTSTAMP:20260419T163026Z
CREATED:20260419T163026Z
DTSTART:20260304T233000Z
DTEND:20260305T001000Z
LOCATION:Court 2
CONTACT:
SUMMARY:Emily Hagelthorn VS. Emily Moir
DESCRIPTION:League Name: Women's 4's League II 2026\nGame Type: Regular\nGa
 me Status: Complete\nHome Team: Emily Hagelthorn\nAway Team: Emily Moir\nH
 ome Score: 1\nAway Score: 0
END:VEVENT
BEGIN:VEVENT
UID:17052229@ezleagues.ezfacility.com
DTSTAMP:20260419T163026Z
CREATED:20260419T163026Z
DTSTART:20260304T233000Z
DTEND:20260305T001000Z
LOCATION:Court 3
CONTACT:
SUMMARY:Emily Moir VS. Jessica Pietrzak
DESCRIPTION:League Name: Women's 4's League II 2026\nGame Type: Regular\nGa
 me Status: Complete\nHome Team: Emily Moir\nAway Team: Jessica Pietrzak\nH
 ome Score: 1\nAway Score: 0
END:VEVENT
BEGIN:VEVENT
UID:17052238@ezleagues.ezfacility.com
DTSTAMP:20260419T163026Z
CREATED:20260419T163026Z
DTSTART:20260304T233000Z
DTEND:20260305T001000Z
LOCATION:Court 3
CONTACT:
SUMMARY:Emily Moir VS. Jessica Pietrzak
DESCRIPTION:League Name: Women's 4's League II 2026\nGame Type: Regular\nGa
 me Status: Complete\nHome Team: Emily Moir\nAway Team: Jessica Pietrzak\nH
 ome Score: 1\nAway Score: 0
END:VEVENT
BEGIN:VEVENT
UID:17052247@ezleagues.ezfacility.com
DTSTAMP:20260419T163026Z
CREATED:20260419T163026Z
DTSTART:20260304T233000Z
DTEND:20260305T001000Z
LOCATION:Court 3
CONTACT:
SUMMARY:Emily Moir VS. Jessica Pietrzak
DESCRIPTION:League Name: Women's 4's League II 2026\nGame Type: Regular\nGa
 me Status: Complete\nHome Team: Emily Moir\nAway Team: Jessica Pietrzak\nH
 ome Score: 1\nAway Score: 0
END:VEVENT
BEGIN:VEVENT
UID:17052429@ezleagues.ezfacility.com
DTSTAMP:20260419T163026Z
CREATED:20260419T163026Z
DTSTART:20260311T223000Z
DTEND:20260311T231000Z
LOCATION:Court 2
CONTACT:
SUMMARY:Emily Hagelthorn VS. Emily Moir
DESCRIPTION:League Name: Women's 4's League II 2026\nGame Type: Regular\nGa
 me Status: Complete\nHome Team: Emily Hagelthorn\nAway Team: Emily Moir\nH
 ome Score: 1\nAway Score: 0
END:VEVENT
BEGIN:VEVENT
UID:17052437@ezleagues.ezfacility.com
DTSTAMP:20260419T163026Z
CREATED:20260419T163026Z
DTSTART:20260311T223000Z
DTEND:20260311T231000Z
LOCATION:Court 2
CONTACT:
SUMMARY:Emily Hagelthorn VS. Emily Moir
DESCRIPTION:League Name: Women's 4's League II 2026\nGame Type: Regular\nGa
 me Status: Complete\nHome Team: Emily Hagelthorn\nAway Team: Emily Moir\nH
 ome Score: 1\nAway Score: 0
END:VEVENT
BEGIN:VEVENT
UID:17052426@ezleagues.ezfacility.com
DTSTAMP:20260419T163026Z
CREATED:20260419T163026Z
DTSTART:20260311T223000Z
DTEND:20260311T231000Z
LOCATION:Court 3
CONTACT:
SUMMARY:Emily Moir VS. Ashley Rollman
DESCRIPTION:League Name: Women's 4's League II 2026\nGame Type: Regular\nGa
 me Status: Complete\nHome Team: Emily Moir\nAway Team: Ashley Rollman\nHom
 e Score: 1\nAway Score: 0
END:VEVENT
BEGIN:VEVENT
UID:17052434@ezleagues.ezfacility.com
DTSTAMP:20260419T163026Z
CREATED:20260419T163026Z
DTSTART:20260311T223000Z
DTEND:20260311T231000Z
LOCATION:Court 3
CONTACT:
SUMMARY:Emily Moir VS. Ashley Shelbourne
DESCRIPTION:League Name: Women's 4's League II 2026\nGame Type: Regular\nGa
 me Status: Complete\nHome Team: Emily Moir\nAway Team: Ashley Shelbourne\n
 Home Score: 1\nAway Score: 0
END:VEVENT
BEGIN:VEVENT
UID:17052442@ezleagues.ezfacility.com
DTSTAMP:20260419T163026Z
CREATED:20260419T163026Z
DTSTART:20260311T223000Z
DTEND:20260311T231000Z
LOCATION:Court 3
CONTACT:
SUMMARY:Emily Moir VS. Ashley Shelbourne
DESCRIPTION:League Name: Women's 4's League II 2026\nGame Type: Regular\nGa
 me Status: Complete\nHome Team: Emily Moir\nAway Team: Ashley Shelbourne\n
 Home Score: 1\nAway Score: 0
END:VEVENT
BEGIN:VEVENT
UID:17052423@ezleagues.ezfacility.com
DTSTAMP:20260419T163026Z
CREATED:20260419T163026Z
DTSTART:20260311T223000Z
DTEND:20260311T231000Z
LOCATION:Court 4
CONTACT:
SUMMARY:Emily Moir VS. Jessica Pietrzak
DESCRIPTION:League Name: Women's 4's League II 2026\nGame Type: Regular\nGa
 me Status: Complete\nHome Team: Emily Moir\nAway Team: Jessica Pietrzak\nH
 ome Score: 1\nAway Score: 0
END:VEVENT
BEGIN:VEVENT
UID:17064635@ezleagues.ezfacility.com
DTSTAMP:20260419T163026Z
CREATED:20260419T163026Z
DTSTART:20260318T223000Z
DTEND:20260318T231000Z
LOCATION:Court 1
CONTACT:
SUMMARY:Sarah Gotts VS. Emily Moir
DESCRIPTION:League Name: Women's 4's League II 2026\nGame Type: Regular\nGa
 me Status: Complete\nHome Team: Sarah Gotts\nAway Team: Emily Moir\nHome S
 core: 1\nAway Score: 0
END:VEVENT
BEGIN:VEVENT
UID:17064643@ezleagues.ezfacility.com
DTSTAMP:20260419T163026Z
CREATED:20260419T163026Z
DTSTART:20260318T223000Z
DTEND:20260318T231000Z
LOCATION:Court 1
CONTACT:
SUMMARY:Sarah Gotts VS. Emily Moir
DESCRIPTION:League Name: Women's 4's League II 2026\nGame Type: Regular\nGa
 me Status: Complete\nHome Team: Sarah Gotts\nAway Team: Emily Moir\nHome S
 core: 1\nAway Score: 0
END:VEVENT
BEGIN:VEVENT
UID:17064632@ezleagues.ezfacility.com
DTSTAMP:20260419T163026Z
CREATED:20260419T163026Z
DTSTART:20260318T223000Z
DTEND:20260318T231000Z
LOCATION:Court 2
CONTACT:
SUMMARY:Emily Moir VS. Ashley Shelbourne
DESCRIPTION:League Name: Women's 4's League II 2026\nGame Type: Regular\nGa
 me Status: Complete\nHome Team: Emily Moir\nAway Team: Ashley Shelbourne\n
 Home Score: 1\nAway Score: 0
END:VEVENT
BEGIN:VEVENT
UID:17064640@ezleagues.ezfacility.com
DTSTAMP:20260419T163026Z
CREATED:20260419T163026Z
DTSTART:20260318T223000Z
DTEND:20260318T231000Z
LOCATION:Court 2
CONTACT:
SUMMARY:Emily Moir VS. Abby Thoms
DESCRIPTION:League Name: Women's 4's League II 2026\nGame Type: Regular\nGa
 me Status: Complete\nHome Team: Emily Moir\nAway Team: Abby Thoms\nHome Sc
 ore: 1\nAway Score: 0
END:VEVENT
BEGIN:VEVENT
UID:17064648@ezleagues.ezfacility.com
DTSTAMP:20260419T163026Z
CREATED:20260419T163026Z
DTSTART:20260318T223000Z
DTEND:20260318T231000Z
LOCATION:Court 2
CONTACT:
SUMMARY:Emily Moir VS. Ashley Shelbourne
DESCRIPTION:League Name: Women's 4's League II 2026\nGame Type: Regular\nGa
 me Status: Complete\nHome Team: Emily Moir\nAway Team: Ashley Shelbourne\n
 Home Score: 1\nAway Score: 0
END:VEVENT
BEGIN:VEVENT
UID:17064629@ezleagues.ezfacility.com
DTSTAMP:20260419T163026Z
CREATED:20260419T163026Z
DTSTART:20260318T223000Z
DTEND:20260318T231000Z
LOCATION:Court 3
CONTACT:
SUMMARY:Emily Moir VS. House Team
DESCRIPTION:League Name: Women's 4's League II 2026\nGame Type: Regular\nGa
 me Status: Complete\nHome Team: Emily Moir\nAway Team: House Team\nHome Sc
 ore: 1\nAway Score: 0
END:VEVENT
BEGIN:VEVENT
UID:17073535@ezleagues.ezfacility.com
DTSTAMP:20260419T163026Z
CREATED:20260419T163026Z
DTSTART:20260325T223000Z
DTEND:20260325T231000Z
LOCATION:Court 1
CONTACT:
SUMMARY:Sarah Gotts VS. Emily Moir
DESCRIPTION:League Name: Women's 4's League II 2026\nGame Type: Regular\nGa
 me Status: Complete\nHome Team: Sarah Gotts\nAway Team: Emily Moir\nHome S
 core: 1\nAway Score: 0
END:VEVENT
BEGIN:VEVENT
UID:17073547@ezleagues.ezfacility.com
DTSTAMP:20260419T163026Z
CREATED:20260419T163026Z
DTSTART:20260325T223000Z
DTEND:20260325T231000Z
LOCATION:Court 1
CONTACT:
SUMMARY:Sarah Gotts VS. Emily Moir
DESCRIPTION:League Name: Women's 4's League II 2026\nGame Type: Regular\nGa
 me Status: Complete\nHome Team: Sarah Gotts\nAway Team: Emily Moir\nHome S
 core: 1\nAway Score: 0
END:VEVENT
BEGIN:VEVENT
UID:17073556@ezleagues.ezfacility.com
DTSTAMP:20260419T163026Z
CREATED:20260419T163026Z
DTSTART:20260325T223000Z
DTEND:20260325T231000Z
LOCATION:Court 2
CONTACT:
SUMMARY:Emily Hagelthorn VS. Emily Moir
DESCRIPTION:League Name: Women's 4's League II 2026\nGame Type: Regular\nGa
 me Status: Complete\nHome Team: Emily Hagelthorn\nAway Team: Emily Moir\nH
 ome Score: 1\nAway Score: 0
END:VEVENT
BEGIN:VEVENT
UID:17073532@ezleagues.ezfacility.com
DTSTAMP:20260419T163026Z
CREATED:20260419T163026Z
DTSTART:20260325T223000Z
DTEND:20260325T231000Z
LOCATION:Court 2
CONTACT:
SUMMARY:Emily Moir VS. Ashley Rollman
DESCRIPTION:League Name: Women's 4's League II 2026\nGame Type: Regular\nGa
 me Status: Complete\nHome Team: Emily Moir\nAway Team: Ashley Rollman\nHom
 e Score: 1\nAway Score: 0
END:VEVENT
BEGIN:VEVENT
UID:17073542@ezleagues.ezfacility.com
DTSTAMP:20260419T163026Z
CREATED:20260419T163026Z
DTSTART:20260325T223000Z
DTEND:20260325T231000Z
LOCATION:Court 2
CONTACT:
SUMMARY:Emily Moir VS. Emily Hagelthorn
DESCRIPTION:League Name: Women's 4's League II 2026\nGame Type: Regular\nGa
 me Status: Complete\nHome Team: Emily Moir\nAway Team: Emily Hagelthorn\nH
 ome Score: 1\nAway Score: 0
END:VEVENT
BEGIN:VEVENT
UID:17073561@ezleagues.ezfacility.com
DTSTAMP:20260419T163026Z
CREATED:20260419T163026Z
DTSTART:20260325T223000Z
DTEND:20260325T231000Z
LOCATION:Court 3
CONTACT:
SUMMARY:Emily Moir VS. Ashley Rollman
DESCRIPTION:League Name: Women's 4's League II 2026\nGame Type: Regular\nGa
 me Status: Complete\nHome Team: Emily Moir\nAway Team: Ashley Rollman\nHom
 e Score: 1\nAway Score: 0
END:VEVENT
BEGIN:VEVENT
UID:17080162@ezleagues.ezfacility.com
DTSTAMP:20260419T163026Z
CREATED:20260419T163026Z
DTSTART:20260401T223000Z
DTEND:20260401T231000Z
LOCATION:Court 2
CONTACT:
SUMMARY:Lauren Holtcamp VS. Emily Moir
DESCRIPTION:League Name: Women's 4's League II 2026\nGame Type: Regular\nGa
 me Status: Complete\nHome Team: Lauren Holtcamp\nAway Team: Emily Moir\nHo
 me Score: 1\nAway Score: 0
END:VEVENT
BEGIN:VEVENT
UID:17080207@ezleagues.ezfacility.com
DTSTAMP:20260419T163026Z
CREATED:20260419T163026Z
DTSTART:20260401T223000Z
DTEND:20260401T231000Z
LOCATION:Court 3
CONTACT:
SUMMARY:Megan Hylton VS. Emily Moir
DESCRIPTION:League Name: Women's 4's League II 2026\nGame Type: Regular\nGa
 me Status: Complete\nHome Team: Megan Hylton\nAway Team: Emily Moir\nHome 
 Score: 1\nAway Score: 0
END:VEVENT
BEGIN:VEVENT
UID:17080159@ezleagues.ezfacility.com
DTSTAMP:20260419T163026Z
CREATED:20260419T163026Z
DTSTART:20260401T223000Z
DTEND:20260401T231000Z
LOCATION:Court 3
CONTACT:
SUMMARY:Emily Moir VS. Megan Hylton
DESCRIPTION:League Name: Women's 4's League II 2026\nGame Type: Regular\nGa
 me Status: Complete\nHome Team: Emily Moir\nAway Team: Megan Hylton\nHome 
 Score: 1\nAway Score: 0
END:VEVENT
BEGIN:VEVENT
UID:17080236@ezleagues.ezfacility.com
DTSTAMP:20260419T163026Z
CREATED:20260419T163026Z
DTSTART:20260401T223000Z
DTEND:20260401T231000Z
LOCATION:Court 3
CONTACT:
SUMMARY:Emily Moir VS. Lauren Holtcamp
DESCRIPTION:League Name: Women's 4's League II 2026\nGame Type: Regular\nGa
 me Status: Complete\nHome Team: Emily Moir\nAway Team: Lauren Holtcamp\nHo
 me Score: 1\nAway Score: 0
END:VEVENT
BEGIN:VEVENT
UID:17080212@ezleagues.ezfacility.com
DTSTAMP:20260419T163026Z
CREATED:20260419T163026Z
DTSTART:20260401T223000Z
DTEND:20260401T231000Z
LOCATION:Court 4
CONTACT:
SUMMARY:Emily Moir VS. Stef Michels
DESCRIPTION:League Name: Women's 4's League II 2026\nGame Type: Regular\nGa
 me Status: Complete\nHome Team: Emily Moir\nAway Team: Stef Michels\nHome 
 Score: 1\nAway Score: 0
END:VEVENT
BEGIN:VEVENT
UID:17080156@ezleagues.ezfacility.com
DTSTAMP:20260419T163026Z
CREATED:20260419T163026Z
DTSTART:20260401T223000Z
DTEND:20260401T231000Z
LOCATION:Court 4
CONTACT:
SUMMARY:Emily Moir VS. Ashley Shelbourne
DESCRIPTION:League Name: Women's 4's League II 2026\nGame Type: Regular\nGa
 me Status: Complete\nHome Team: Emily Moir\nAway Team: Ashley Shelbourne\n
 Home Score: 1\nAway Score: 0
END:VEVENT
END:VCALENDAR
