BEGIN:VCALENDAR
VERSION:2.0
PRODID:-//EZFacility.com, Inc.//EZL 2.5.5.28621
BEGIN:VEVENT
UID:17027423@ezleagues.ezfacility.com
DTSTAMP:20260424T043907Z
CREATED:20260424T043907Z
DTSTART:20260218T233000Z
DTEND:20260219T001000Z
LOCATION:Court 2
CONTACT:
SUMMARY:Emily Hagelthorn VS. Lauren Holtcamp
DESCRIPTION:League Name: Women's 4's League II 2026\nGame Type: Regular\nGa
 me Status: Complete\nHome Team: Emily Hagelthorn\nAway Team: Lauren Holtca
 mp\nHome Score: 1\nAway Score: 0
END:VEVENT
BEGIN:VEVENT
UID:17027432@ezleagues.ezfacility.com
DTSTAMP:20260424T043907Z
CREATED:20260424T043907Z
DTSTART:20260218T233000Z
DTEND:20260219T001000Z
LOCATION:Court 2
CONTACT:
SUMMARY:Emily Hagelthorn VS. Lauren Holtcamp
DESCRIPTION:League Name: Women's 4's League II 2026\nGame Type: Regular\nGa
 me Status: Complete\nHome Team: Emily Hagelthorn\nAway Team: Lauren Holtca
 mp\nHome Score: 1\nAway Score: 0
END:VEVENT
BEGIN:VEVENT
UID:17027420@ezleagues.ezfacility.com
DTSTAMP:20260424T043907Z
CREATED:20260424T043907Z
DTSTART:20260218T233000Z
DTEND:20260219T001000Z
LOCATION:Court 3
CONTACT:
SUMMARY:Lauren Holtcamp VS. Jessica Pietrzak
DESCRIPTION:League Name: Women's 4's League II 2026\nGame Type: Regular\nGa
 me Status: Complete\nHome Team: Lauren Holtcamp\nAway Team: Jessica Pietrz
 ak\nHome Score: 1\nAway Score: 0
END:VEVENT
BEGIN:VEVENT
UID:17027428@ezleagues.ezfacility.com
DTSTAMP:20260424T043907Z
CREATED:20260424T043907Z
DTSTART:20260218T233000Z
DTEND:20260219T001000Z
LOCATION:Court 3
CONTACT:
SUMMARY:Lauren Holtcamp VS. Jessica Pietrzak
DESCRIPTION:League Name: Women's 4's League II 2026\nGame Type: Regular\nGa
 me Status: Complete\nHome Team: Lauren Holtcamp\nAway Team: Jessica Pietrz
 ak\nHome Score: 1\nAway Score: 0
END:VEVENT
BEGIN:VEVENT
UID:17027439@ezleagues.ezfacility.com
DTSTAMP:20260424T043907Z
CREATED:20260424T043907Z
DTSTART:20260218T233000Z
DTEND:20260219T001000Z
LOCATION:Court 3
CONTACT:
SUMMARY:Lauren Holtcamp VS. Jessica Pietrzak
DESCRIPTION:League Name: Women's 4's League II 2026\nGame Type: Regular\nGa
 me Status: Complete\nHome Team: Lauren Holtcamp\nAway Team: Jessica Pietrz
 ak\nHome Score: 1\nAway Score: 0
END:VEVENT
BEGIN:VEVENT
UID:17027417@ezleagues.ezfacility.com
DTSTAMP:20260424T043907Z
CREATED:20260424T043907Z
DTSTART:20260218T233000Z
DTEND:20260219T001000Z
LOCATION:Court 4
CONTACT:
SUMMARY:Lauren Holtcamp VS. Aliya Walters
DESCRIPTION:League Name: Women's 4's League II 2026\nGame Type: Regular\nGa
 me Status: Complete\nHome Team: Lauren Holtcamp\nAway Team: Aliya Walters\
 nHome Score: 1\nAway Score: 0
END:VEVENT
BEGIN:VEVENT
UID:17041955@ezleagues.ezfacility.com
DTSTAMP:20260424T043907Z
CREATED:20260424T043907Z
DTSTART:20260225T233000Z
DTEND:20260226T001000Z
LOCATION:Court 1
CONTACT:
SUMMARY:Sarah Gotts VS. Lauren Holtcamp
DESCRIPTION:League Name: Women's 4's League II 2026\nGame Type: Regular\nGa
 me Status: Complete\nHome Team: Sarah Gotts\nAway Team: Lauren Holtcamp\nH
 ome Score: 1\nAway Score: 0
END:VEVENT
BEGIN:VEVENT
UID:17041963@ezleagues.ezfacility.com
DTSTAMP:20260424T043907Z
CREATED:20260424T043907Z
DTSTART:20260225T233000Z
DTEND:20260226T001000Z
LOCATION:Court 2
CONTACT:
SUMMARY:Emily Moir VS. Lauren Holtcamp
DESCRIPTION:League Name: Women's 4's League II 2026\nGame Type: Regular\nGa
 me Status: Complete\nHome Team: Emily Moir\nAway Team: Lauren Holtcamp\nHo
 me Score: 1\nAway Score: 0
END:VEVENT
BEGIN:VEVENT
UID:17041951@ezleagues.ezfacility.com
DTSTAMP:20260424T043907Z
CREATED:20260424T043907Z
DTSTART:20260225T233000Z
DTEND:20260226T001000Z
LOCATION:Court 2
CONTACT:
SUMMARY:Lauren Holtcamp VS. Emily Moir
DESCRIPTION:League Name: Women's 4's League II 2026\nGame Type: Regular\nGa
 me Status: Complete\nHome Team: Lauren Holtcamp\nAway Team: Emily Moir\nHo
 me Score: 1\nAway Score: 0
END:VEVENT
BEGIN:VEVENT
UID:17041968@ezleagues.ezfacility.com
DTSTAMP:20260424T043907Z
CREATED:20260424T043907Z
DTSTART:20260225T233000Z
DTEND:20260226T001000Z
LOCATION:Court 3
CONTACT:
SUMMARY:Lauren Holtcamp VS. Ashley Rollman
DESCRIPTION:League Name: Women's 4's League II 2026\nGame Type: Regular\nGa
 me Status: Complete\nHome Team: Lauren Holtcamp\nAway Team: Ashley Rollman
 \nHome Score: 1\nAway Score: 0
END:VEVENT
BEGIN:VEVENT
UID:17041948@ezleagues.ezfacility.com
DTSTAMP:20260424T043907Z
CREATED:20260424T043907Z
DTSTART:20260225T233000Z
DTEND:20260226T001000Z
LOCATION:Court 3
CONTACT:
SUMMARY:Lauren Holtcamp VS. Ashley Rollman
DESCRIPTION:League Name: Women's 4's League II 2026\nGame Type: Regular\nGa
 me Status: Complete\nHome Team: Lauren Holtcamp\nAway Team: Ashley Rollman
 \nHome Score: 1\nAway Score: 0
END:VEVENT
BEGIN:VEVENT
UID:17041945@ezleagues.ezfacility.com
DTSTAMP:20260424T043907Z
CREATED:20260424T043907Z
DTSTART:20260225T233000Z
DTEND:20260226T001000Z
LOCATION:Court 4
CONTACT:
SUMMARY:Lauren Holtcamp VS. Ella Azbell
DESCRIPTION:League Name: Women's 4's League II 2026\nGame Type: Regular\nGa
 me Status: Complete\nHome Team: Lauren Holtcamp\nAway Team: Ella Azbell\nH
 ome Score: 1\nAway Score: 0
END:VEVENT
BEGIN:VEVENT
UID:17052231@ezleagues.ezfacility.com
DTSTAMP:20260424T043907Z
CREATED:20260424T043907Z
DTSTART:20260304T233000Z
DTEND:20260305T001000Z
LOCATION:Court 1
CONTACT:
SUMMARY:Emily Hagelthorn VS. Lauren Holtcamp
DESCRIPTION:League Name: Women's 4's League II 2026\nGame Type: Regular\nGa
 me Status: Complete\nHome Team: Emily Hagelthorn\nAway Team: Lauren Holtca
 mp\nHome Score: 1\nAway Score: 0
END:VEVENT
BEGIN:VEVENT
UID:17052240@ezleagues.ezfacility.com
DTSTAMP:20260424T043907Z
CREATED:20260424T043907Z
DTSTART:20260304T233000Z
DTEND:20260305T001000Z
LOCATION:Court 1
CONTACT:
SUMMARY:Emily Hagelthorn VS. Lauren Holtcamp
DESCRIPTION:League Name: Women's 4's League II 2026\nGame Type: Regular\nGa
 me Status: Complete\nHome Team: Emily Hagelthorn\nAway Team: Lauren Holtca
 mp\nHome Score: 1\nAway Score: 0
END:VEVENT
BEGIN:VEVENT
UID:17052246@ezleagues.ezfacility.com
DTSTAMP:20260424T043907Z
CREATED:20260424T043907Z
DTSTART:20260304T233000Z
DTEND:20260305T001000Z
LOCATION:Court 2
CONTACT:
SUMMARY:Megan Hylton VS. Lauren Holtcamp
DESCRIPTION:League Name: Women's 4's League II 2026\nGame Type: Regular\nGa
 me Status: Complete\nHome Team: Megan Hylton\nAway Team: Lauren Holtcamp\n
 Home Score: 1\nAway Score: 0
END:VEVENT
BEGIN:VEVENT
UID:17052228@ezleagues.ezfacility.com
DTSTAMP:20260424T043907Z
CREATED:20260424T043907Z
DTSTART:20260304T233000Z
DTEND:20260305T001000Z
LOCATION:Court 2
CONTACT:
SUMMARY:Lauren Holtcamp VS. Abby Thoms
DESCRIPTION:League Name: Women's 4's League II 2026\nGame Type: Regular\nGa
 me Status: Complete\nHome Team: Lauren Holtcamp\nAway Team: Abby Thoms\nHo
 me Score: 1\nAway Score: 0
END:VEVENT
BEGIN:VEVENT
UID:17052237@ezleagues.ezfacility.com
DTSTAMP:20260424T043907Z
CREATED:20260424T043907Z
DTSTART:20260304T233000Z
DTEND:20260305T001000Z
LOCATION:Court 2
CONTACT:
SUMMARY:Lauren Holtcamp VS. Megan Hylton
DESCRIPTION:League Name: Women's 4's League II 2026\nGame Type: Regular\nGa
 me Status: Complete\nHome Team: Lauren Holtcamp\nAway Team: Megan Hylton\n
 Home Score: 1\nAway Score: 0
END:VEVENT
BEGIN:VEVENT
UID:17052253@ezleagues.ezfacility.com
DTSTAMP:20260424T043907Z
CREATED:20260424T043907Z
DTSTART:20260304T233000Z
DTEND:20260305T001000Z
LOCATION:Court 3
CONTACT:
SUMMARY:Lauren Holtcamp VS. Abby Thoms
DESCRIPTION:League Name: Women's 4's League II 2026\nGame Type: Regular\nGa
 me Status: Complete\nHome Team: Lauren Holtcamp\nAway Team: Abby Thoms\nHo
 me Score: 1\nAway Score: 0
END:VEVENT
BEGIN:VEVENT
UID:17052444@ezleagues.ezfacility.com
DTSTAMP:20260424T043907Z
CREATED:20260424T043907Z
DTSTART:20260312T003000Z
DTEND:20260312T011000Z
LOCATION:Court 1
CONTACT:
SUMMARY:Lauren Holtcamp VS. Aliya Walters
DESCRIPTION:League Name: Women's 4's League II 2026\nGame Type: Regular\nGa
 me Status: Complete\nHome Team: Lauren Holtcamp\nAway Team: Aliya Walters\
 nHome Score: 1\nAway Score: 0
END:VEVENT
BEGIN:VEVENT
UID:17052447@ezleagues.ezfacility.com
DTSTAMP:20260424T043907Z
CREATED:20260424T043907Z
DTSTART:20260312T003000Z
DTEND:20260312T011000Z
LOCATION:Court 1
CONTACT:
SUMMARY:Lauren Holtcamp VS. Abby Thoms
DESCRIPTION:League Name: Women's 4's League II 2026\nGame Type: Regular\nGa
 me Status: Complete\nHome Team: Lauren Holtcamp\nAway Team: Abby Thoms\nHo
 me Score: 1\nAway Score: 0
END:VEVENT
BEGIN:VEVENT
UID:17052450@ezleagues.ezfacility.com
DTSTAMP:20260424T043907Z
CREATED:20260424T043907Z
DTSTART:20260312T003000Z
DTEND:20260312T011000Z
LOCATION:Court 1
CONTACT:
SUMMARY:Lauren Holtcamp VS. Maretta DeWitt
DESCRIPTION:League Name: Women's 4's League II 2026\nGame Type: Regular\nGa
 me Status: Complete\nHome Team: Lauren Holtcamp\nAway Team: Maretta DeWitt
 \nHome Score: 1\nAway Score: 0
END:VEVENT
BEGIN:VEVENT
UID:17052453@ezleagues.ezfacility.com
DTSTAMP:20260424T043907Z
CREATED:20260424T043907Z
DTSTART:20260312T003000Z
DTEND:20260312T011000Z
LOCATION:Court 1
CONTACT:
SUMMARY:Lauren Holtcamp VS. Abby Thoms
DESCRIPTION:League Name: Women's 4's League II 2026\nGame Type: Regular\nGa
 me Status: Complete\nHome Team: Lauren Holtcamp\nAway Team: Abby Thoms\nHo
 me Score: 1\nAway Score: 0
END:VEVENT
BEGIN:VEVENT
UID:17052456@ezleagues.ezfacility.com
DTSTAMP:20260424T043907Z
CREATED:20260424T043907Z
DTSTART:20260312T003000Z
DTEND:20260312T011000Z
LOCATION:Court 1
CONTACT:
SUMMARY:Lauren Holtcamp VS. Maretta DeWitt
DESCRIPTION:League Name: Women's 4's League II 2026\nGame Type: Regular\nGa
 me Status: Complete\nHome Team: Lauren Holtcamp\nAway Team: Maretta DeWitt
 \nHome Score: 1\nAway Score: 0
END:VEVENT
BEGIN:VEVENT
UID:17052459@ezleagues.ezfacility.com
DTSTAMP:20260424T043907Z
CREATED:20260424T043907Z
DTSTART:20260312T003000Z
DTEND:20260312T011000Z
LOCATION:Court 1
CONTACT:
SUMMARY:Lauren Holtcamp VS. Abby Thoms
DESCRIPTION:League Name: Women's 4's League II 2026\nGame Type: Regular\nGa
 me Status: Complete\nHome Team: Lauren Holtcamp\nAway Team: Abby Thoms\nHo
 me Score: 1\nAway Score: 0
END:VEVENT
BEGIN:VEVENT
UID:17064631@ezleagues.ezfacility.com
DTSTAMP:20260424T043907Z
CREATED:20260424T043907Z
DTSTART:20260318T223000Z
DTEND:20260318T231000Z
LOCATION:Court 1
CONTACT:
SUMMARY:Sarah Gotts VS. Lauren Holtcamp
DESCRIPTION:League Name: Women's 4's League II 2026\nGame Type: Regular\nGa
 me Status: Complete\nHome Team: Sarah Gotts\nAway Team: Lauren Holtcamp\nH
 ome Score: 1\nAway Score: 0
END:VEVENT
BEGIN:VEVENT
UID:17064636@ezleagues.ezfacility.com
DTSTAMP:20260424T043907Z
CREATED:20260424T043907Z
DTSTART:20260318T223000Z
DTEND:20260318T231000Z
LOCATION:Court 2
CONTACT:
SUMMARY:Emily Hagelthorn VS. Lauren Holtcamp
DESCRIPTION:League Name: Women's 4's League II 2026\nGame Type: Regular\nGa
 me Status: Complete\nHome Team: Emily Hagelthorn\nAway Team: Lauren Holtca
 mp\nHome Score: 1\nAway Score: 0
END:VEVENT
BEGIN:VEVENT
UID:17064628@ezleagues.ezfacility.com
DTSTAMP:20260424T043907Z
CREATED:20260424T043907Z
DTSTART:20260318T223000Z
DTEND:20260318T231000Z
LOCATION:Court 2
CONTACT:
SUMMARY:Lauren Holtcamp VS. Megan Hylton
DESCRIPTION:League Name: Women's 4's League II 2026\nGame Type: Regular\nGa
 me Status: Complete\nHome Team: Lauren Holtcamp\nAway Team: Megan Hylton\n
 Home Score: 1\nAway Score: 0
END:VEVENT
BEGIN:VEVENT
UID:17064649@ezleagues.ezfacility.com
DTSTAMP:20260424T043907Z
CREATED:20260424T043907Z
DTSTART:20260318T223000Z
DTEND:20260318T231000Z
LOCATION:Court 3
CONTACT:
SUMMARY:Lauren Holtcamp VS. Emily Hagelthorn
DESCRIPTION:League Name: Women's 4's League II 2026\nGame Type: Regular\nGa
 me Status: Complete\nHome Team: Lauren Holtcamp\nAway Team: Emily Hageltho
 rn\nHome Score: 1\nAway Score: 0
END:VEVENT
BEGIN:VEVENT
UID:17064641@ezleagues.ezfacility.com
DTSTAMP:20260424T043907Z
CREATED:20260424T043907Z
DTSTART:20260318T223000Z
DTEND:20260318T231000Z
LOCATION:Court 3
CONTACT:
SUMMARY:Megan Hylton VS. Lauren Holtcamp
DESCRIPTION:League Name: Women's 4's League II 2026\nGame Type: Regular\nGa
 me Status: Complete\nHome Team: Megan Hylton\nAway Team: Lauren Holtcamp\n
 Home Score: 1\nAway Score: 0
END:VEVENT
BEGIN:VEVENT
UID:17064646@ezleagues.ezfacility.com
DTSTAMP:20260424T043907Z
CREATED:20260424T043907Z
DTSTART:20260318T223000Z
DTEND:20260318T231000Z
LOCATION:Court 4
CONTACT:
SUMMARY:Lauren Holtcamp VS. House Team
DESCRIPTION:League Name: Women's 4's League II 2026\nGame Type: Regular\nGa
 me Status: Complete\nHome Team: Lauren Holtcamp\nAway Team: House Team\nHo
 me Score: 1\nAway Score: 0
END:VEVENT
BEGIN:VEVENT
UID:17073563@ezleagues.ezfacility.com
DTSTAMP:20260424T043907Z
CREATED:20260424T043907Z
DTSTART:20260326T003000Z
DTEND:20260326T011000Z
LOCATION:Court 1
CONTACT:
SUMMARY:Lauren Holtcamp VS. Stef Michels
DESCRIPTION:League Name: Women's 4's League II 2026\nGame Type: Regular\nGa
 me Status: Complete\nHome Team: Lauren Holtcamp\nAway Team: Stef Michels\n
 Home Score: 1\nAway Score: 0
END:VEVENT
BEGIN:VEVENT
UID:17073566@ezleagues.ezfacility.com
DTSTAMP:20260424T043907Z
CREATED:20260424T043907Z
DTSTART:20260326T003000Z
DTEND:20260326T011000Z
LOCATION:Court 1
CONTACT:
SUMMARY:Lauren Holtcamp VS. Ashley Shelbourne
DESCRIPTION:League Name: Women's 4's League II 2026\nGame Type: Regular\nGa
 me Status: Complete\nHome Team: Lauren Holtcamp\nAway Team: Ashley Shelbou
 rne\nHome Score: 1\nAway Score: 0
END:VEVENT
BEGIN:VEVENT
UID:17073573@ezleagues.ezfacility.com
DTSTAMP:20260424T043907Z
CREATED:20260424T043907Z
DTSTART:20260326T003000Z
DTEND:20260326T011000Z
LOCATION:Court 1
CONTACT:
SUMMARY:Lauren Holtcamp VS. House Team
DESCRIPTION:League Name: Women's 4's League II 2026\nGame Type: Regular\nGa
 me Status: Complete\nHome Team: Lauren Holtcamp\nAway Team: House Team\nHo
 me Score: 1\nAway Score: 0
END:VEVENT
BEGIN:VEVENT
UID:17073576@ezleagues.ezfacility.com
DTSTAMP:20260424T043907Z
CREATED:20260424T043907Z
DTSTART:20260326T003000Z
DTEND:20260326T011000Z
LOCATION:Court 1
CONTACT:
SUMMARY:Lauren Holtcamp VS. Ashley Shelbourne
DESCRIPTION:League Name: Women's 4's League II 2026\nGame Type: Regular\nGa
 me Status: Complete\nHome Team: Lauren Holtcamp\nAway Team: Ashley Shelbou
 rne\nHome Score: 1\nAway Score: 0
END:VEVENT
BEGIN:VEVENT
UID:17073579@ezleagues.ezfacility.com
DTSTAMP:20260424T043907Z
CREATED:20260424T043907Z
DTSTART:20260326T003000Z
DTEND:20260326T011000Z
LOCATION:Court 1
CONTACT:
SUMMARY:Lauren Holtcamp VS. House Team
DESCRIPTION:League Name: Women's 4's League II 2026\nGame Type: Regular\nGa
 me Status: Complete\nHome Team: Lauren Holtcamp\nAway Team: House Team\nHo
 me Score: 1\nAway Score: 0
END:VEVENT
BEGIN:VEVENT
UID:17073582@ezleagues.ezfacility.com
DTSTAMP:20260424T043907Z
CREATED:20260424T043907Z
DTSTART:20260326T003000Z
DTEND:20260326T011000Z
LOCATION:Court 1
CONTACT:
SUMMARY:Lauren Holtcamp VS. Ashley Shelbourne
DESCRIPTION:League Name: Women's 4's League II 2026\nGame Type: Regular\nGa
 me Status: Complete\nHome Team: Lauren Holtcamp\nAway Team: Ashley Shelbou
 rne\nHome Score: 1\nAway Score: 0
END:VEVENT
BEGIN:VEVENT
UID:17080157@ezleagues.ezfacility.com
DTSTAMP:20260424T043907Z
CREATED:20260424T043907Z
DTSTART:20260401T223000Z
DTEND:20260401T231000Z
LOCATION:Court 1
CONTACT:
SUMMARY:Sarah Gotts VS. Lauren Holtcamp
DESCRIPTION:League Name: Women's 4's League II 2026\nGame Type: Regular\nGa
 me Status: Complete\nHome Team: Sarah Gotts\nAway Team: Lauren Holtcamp\nH
 ome Score: 1\nAway Score: 0
END:VEVENT
BEGIN:VEVENT
UID:17080165@ezleagues.ezfacility.com
DTSTAMP:20260424T043907Z
CREATED:20260424T043907Z
DTSTART:20260401T223000Z
DTEND:20260401T231000Z
LOCATION:Court 1
CONTACT:
SUMMARY:Sarah Gotts VS. Lauren Holtcamp
DESCRIPTION:League Name: Women's 4's League II 2026\nGame Type: Regular\nGa
 me Status: Complete\nHome Team: Sarah Gotts\nAway Team: Lauren Holtcamp\nH
 ome Score: 1\nAway Score: 0
END:VEVENT
BEGIN:VEVENT
UID:17080210@ezleagues.ezfacility.com
DTSTAMP:20260424T043907Z
CREATED:20260424T043907Z
DTSTART:20260401T223000Z
DTEND:20260401T231000Z
LOCATION:Court 2
CONTACT:
SUMMARY:Megan Hylton VS. Lauren Holtcamp
DESCRIPTION:League Name: Women's 4's League II 2026\nGame Type: Regular\nGa
 me Status: Complete\nHome Team: Megan Hylton\nAway Team: Lauren Holtcamp\n
 Home Score: 1\nAway Score: 0
END:VEVENT
BEGIN:VEVENT
UID:17080153@ezleagues.ezfacility.com
DTSTAMP:20260424T043907Z
CREATED:20260424T043907Z
DTSTART:20260401T223000Z
DTEND:20260401T231000Z
LOCATION:Court 2
CONTACT:
SUMMARY:Lauren Holtcamp VS. Megan Hylton
DESCRIPTION:League Name: Women's 4's League II 2026\nGame Type: Regular\nGa
 me Status: Complete\nHome Team: Lauren Holtcamp\nAway Team: Megan Hylton\n
 Home Score: 1\nAway Score: 0
END:VEVENT
BEGIN:VEVENT
UID:17080162@ezleagues.ezfacility.com
DTSTAMP:20260424T043907Z
CREATED:20260424T043907Z
DTSTART:20260401T223000Z
DTEND:20260401T231000Z
LOCATION:Court 2
CONTACT:
SUMMARY:Lauren Holtcamp VS. Emily Moir
DESCRIPTION:League Name: Women's 4's League II 2026\nGame Type: Regular\nGa
 me Status: Complete\nHome Team: Lauren Holtcamp\nAway Team: Emily Moir\nHo
 me Score: 1\nAway Score: 0
END:VEVENT
BEGIN:VEVENT
UID:17080236@ezleagues.ezfacility.com
DTSTAMP:20260424T043907Z
CREATED:20260424T043907Z
DTSTART:20260401T223000Z
DTEND:20260401T231000Z
LOCATION:Court 3
CONTACT:
SUMMARY:Emily Moir VS. Lauren Holtcamp
DESCRIPTION:League Name: Women's 4's League II 2026\nGame Type: Regular\nGa
 me Status: Complete\nHome Team: Emily Moir\nAway Team: Lauren Holtcamp\nHo
 me Score: 1\nAway Score: 0
END:VEVENT
END:VCALENDAR
