BEGIN:VCALENDAR
VERSION:2.0
PRODID:-//EZFacility.com, Inc.//EZL 2.5.5.28621
BEGIN:VEVENT
UID:17027441@ezleagues.ezfacility.com
DTSTAMP:20260424T043200Z
CREATED:20260424T043200Z
DTSTART:20260219T013000Z
DTEND:20260219T021000Z
LOCATION:Court 1
CONTACT:
SUMMARY:Ashley Rollman VS. Maretta DeWitt
DESCRIPTION:League Name: Women's 4's League II 2026\nGame Type: Regular\nGa
 me Status: Complete\nHome Team: Ashley Rollman\nAway Team: Maretta DeWitt\
 nHome Score: 1\nAway Score: 0
END:VEVENT
BEGIN:VEVENT
UID:17027445@ezleagues.ezfacility.com
DTSTAMP:20260424T043200Z
CREATED:20260424T043200Z
DTSTART:20260219T013000Z
DTEND:20260219T021000Z
LOCATION:Court 2
CONTACT:
SUMMARY:Ella Azbell VS. Maretta DeWitt
DESCRIPTION:League Name: Women's 4's League II 2026\nGame Type: Regular\nGa
 me Status: Complete\nHome Team: Ella Azbell\nAway Team: Maretta DeWitt\nHo
 me Score: 1\nAway Score: 0
END:VEVENT
BEGIN:VEVENT
UID:17027454@ezleagues.ezfacility.com
DTSTAMP:20260424T043200Z
CREATED:20260424T043200Z
DTSTART:20260219T013000Z
DTEND:20260219T021000Z
LOCATION:Court 2
CONTACT:
SUMMARY:Ella Azbell VS. Maretta DeWitt
DESCRIPTION:League Name: Women's 4's League II 2026\nGame Type: Regular\nGa
 me Status: Complete\nHome Team: Ella Azbell\nAway Team: Maretta DeWitt\nHo
 me Score: 1\nAway Score: 0
END:VEVENT
BEGIN:VEVENT
UID:17027458@ezleagues.ezfacility.com
DTSTAMP:20260424T043200Z
CREATED:20260424T043200Z
DTSTART:20260219T013000Z
DTEND:20260219T021000Z
LOCATION:Court 3
CONTACT:
SUMMARY:Stef Michels VS. Maretta DeWitt
DESCRIPTION:League Name: Women's 4's League II 2026\nGame Type: Regular\nGa
 me Status: Complete\nHome Team: Stef Michels\nAway Team: Maretta DeWitt\nH
 ome Score: 1\nAway Score: 0
END:VEVENT
BEGIN:VEVENT
UID:17027449@ezleagues.ezfacility.com
DTSTAMP:20260424T043200Z
CREATED:20260424T043200Z
DTSTART:20260219T013000Z
DTEND:20260219T021000Z
LOCATION:Court 3
CONTACT:
SUMMARY:House Team VS. Maretta DeWitt
DESCRIPTION:League Name: Women's 4's League II 2026\nGame Type: Regular\nGa
 me Status: Complete\nHome Team: House Team\nAway Team: Maretta DeWitt\nHom
 e Score: 1\nAway Score: 0
END:VEVENT
BEGIN:VEVENT
UID:17027452@ezleagues.ezfacility.com
DTSTAMP:20260424T043200Z
CREATED:20260424T043200Z
DTSTART:20260219T013000Z
DTEND:20260219T021000Z
LOCATION:Court 3
CONTACT:
SUMMARY:Maretta DeWitt VS. Stef Michels
DESCRIPTION:League Name: Women's 4's League II 2026\nGame Type: Regular\nGa
 me Status: Complete\nHome Team: Maretta DeWitt\nAway Team: Stef Michels\nH
 ome Score: 1\nAway Score: 0
END:VEVENT
BEGIN:VEVENT
UID:17041982@ezleagues.ezfacility.com
DTSTAMP:20260424T043200Z
CREATED:20260424T043200Z
DTSTART:20260226T013000Z
DTEND:20260226T021000Z
LOCATION:Court 1
CONTACT:
SUMMARY:Abby Thoms VS. Maretta DeWitt
DESCRIPTION:League Name: Women's 4's League II 2026\nGame Type: Regular\nGa
 me Status: Complete\nHome Team: Abby Thoms\nAway Team: Maretta DeWitt\nHom
 e Score: 1\nAway Score: 0
END:VEVENT
BEGIN:VEVENT
UID:17041980@ezleagues.ezfacility.com
DTSTAMP:20260424T043200Z
CREATED:20260424T043200Z
DTSTART:20260226T013000Z
DTEND:20260226T021000Z
LOCATION:Court 2
CONTACT:
SUMMARY:Maretta DeWitt VS. Stef Michels
DESCRIPTION:League Name: Women's 4's League II 2026\nGame Type: Regular\nGa
 me Status: Complete\nHome Team: Maretta DeWitt\nAway Team: Stef Michels\nH
 ome Score: 1\nAway Score: 0
END:VEVENT
BEGIN:VEVENT
UID:17041986@ezleagues.ezfacility.com
DTSTAMP:20260424T043200Z
CREATED:20260424T043200Z
DTSTART:20260226T013000Z
DTEND:20260226T021000Z
LOCATION:Court 2
CONTACT:
SUMMARY:Maretta DeWitt VS. Stef Michels
DESCRIPTION:League Name: Women's 4's League II 2026\nGame Type: Regular\nGa
 me Status: Complete\nHome Team: Maretta DeWitt\nAway Team: Stef Michels\nH
 ome Score: 1\nAway Score: 0
END:VEVENT
BEGIN:VEVENT
UID:17041978@ezleagues.ezfacility.com
DTSTAMP:20260424T043200Z
CREATED:20260424T043200Z
DTSTART:20260226T013000Z
DTEND:20260226T021000Z
LOCATION:Court 3
CONTACT:
SUMMARY:Maretta DeWitt VS. Aliya Walters
DESCRIPTION:League Name: Women's 4's League II 2026\nGame Type: Regular\nGa
 me Status: Complete\nHome Team: Maretta DeWitt\nAway Team: Aliya Walters\n
 Home Score: 1\nAway Score: 0
END:VEVENT
BEGIN:VEVENT
UID:17041972@ezleagues.ezfacility.com
DTSTAMP:20260424T043200Z
CREATED:20260424T043200Z
DTSTART:20260226T013000Z
DTEND:20260226T021000Z
LOCATION:Court 3
CONTACT:
SUMMARY:Aliya Walters VS. Maretta DeWitt
DESCRIPTION:League Name: Women's 4's League II 2026\nGame Type: Regular\nGa
 me Status: Complete\nHome Team: Aliya Walters\nAway Team: Maretta DeWitt\n
 Home Score: 1\nAway Score: 0
END:VEVENT
BEGIN:VEVENT
UID:17041975@ezleagues.ezfacility.com
DTSTAMP:20260424T043200Z
CREATED:20260424T043200Z
DTSTART:20260226T013000Z
DTEND:20260226T021000Z
LOCATION:Court 3
CONTACT:
SUMMARY:Jessica Pietrzak VS. Maretta DeWitt
DESCRIPTION:League Name: Women's 4's League II 2026\nGame Type: Regular\nGa
 me Status: Complete\nHome Team: Jessica Pietrzak\nAway Team: Maretta DeWit
 t\nHome Score: 1\nAway Score: 0
END:VEVENT
BEGIN:VEVENT
UID:17052230@ezleagues.ezfacility.com
DTSTAMP:20260424T043200Z
CREATED:20260424T043200Z
DTSTART:20260304T233000Z
DTEND:20260305T001000Z
LOCATION:Court 4
CONTACT:
SUMMARY:Megan Hylton VS. Maretta DeWitt
DESCRIPTION:League Name: Women's 4's League II 2026\nGame Type: Regular\nGa
 me Status: Complete\nHome Team: Megan Hylton\nAway Team: Maretta DeWitt\nH
 ome Score: 1\nAway Score: 0
END:VEVENT
BEGIN:VEVENT
UID:17052234@ezleagues.ezfacility.com
DTSTAMP:20260424T043200Z
CREATED:20260424T043200Z
DTSTART:20260304T233000Z
DTEND:20260305T001000Z
LOCATION:Court 4
CONTACT:
SUMMARY:Jessica Pietrzak VS. Maretta DeWitt
DESCRIPTION:League Name: Women's 4's League II 2026\nGame Type: Regular\nGa
 me Status: Complete\nHome Team: Jessica Pietrzak\nAway Team: Maretta DeWit
 t\nHome Score: 1\nAway Score: 0
END:VEVENT
BEGIN:VEVENT
UID:17052239@ezleagues.ezfacility.com
DTSTAMP:20260424T043200Z
CREATED:20260424T043200Z
DTSTART:20260304T233000Z
DTEND:20260305T001000Z
LOCATION:Court 4
CONTACT:
SUMMARY:Abby Thoms VS. Maretta DeWitt
DESCRIPTION:League Name: Women's 4's League II 2026\nGame Type: Regular\nGa
 me Status: Complete\nHome Team: Abby Thoms\nAway Team: Maretta DeWitt\nHom
 e Score: 1\nAway Score: 0
END:VEVENT
BEGIN:VEVENT
UID:17052243@ezleagues.ezfacility.com
DTSTAMP:20260424T043200Z
CREATED:20260424T043200Z
DTSTART:20260304T233000Z
DTEND:20260305T001000Z
LOCATION:Court 4
CONTACT:
SUMMARY:Jessica Pietrzak VS. Maretta DeWitt
DESCRIPTION:League Name: Women's 4's League II 2026\nGame Type: Regular\nGa
 me Status: Complete\nHome Team: Jessica Pietrzak\nAway Team: Maretta DeWit
 t\nHome Score: 1\nAway Score: 0
END:VEVENT
BEGIN:VEVENT
UID:17052248@ezleagues.ezfacility.com
DTSTAMP:20260424T043200Z
CREATED:20260424T043200Z
DTSTART:20260304T233000Z
DTEND:20260305T001000Z
LOCATION:Court 4
CONTACT:
SUMMARY:Abby Thoms VS. Maretta DeWitt
DESCRIPTION:League Name: Women's 4's League II 2026\nGame Type: Regular\nGa
 me Status: Complete\nHome Team: Abby Thoms\nAway Team: Maretta DeWitt\nHom
 e Score: 1\nAway Score: 0
END:VEVENT
BEGIN:VEVENT
UID:17052254@ezleagues.ezfacility.com
DTSTAMP:20260424T043200Z
CREATED:20260424T043200Z
DTSTART:20260304T233000Z
DTEND:20260305T001000Z
LOCATION:Court 4
CONTACT:
SUMMARY:Jessica Pietrzak VS. Maretta DeWitt
DESCRIPTION:League Name: Women's 4's League II 2026\nGame Type: Regular\nGa
 me Status: Complete\nHome Team: Jessica Pietrzak\nAway Team: Maretta DeWit
 t\nHome Score: 1\nAway Score: 0
END:VEVENT
BEGIN:VEVENT
UID:17052450@ezleagues.ezfacility.com
DTSTAMP:20260424T043200Z
CREATED:20260424T043200Z
DTSTART:20260312T003000Z
DTEND:20260312T011000Z
LOCATION:Court 1
CONTACT:
SUMMARY:Lauren Holtcamp VS. Maretta DeWitt
DESCRIPTION:League Name: Women's 4's League II 2026\nGame Type: Regular\nGa
 me Status: Complete\nHome Team: Lauren Holtcamp\nAway Team: Maretta DeWitt
 \nHome Score: 1\nAway Score: 0
END:VEVENT
BEGIN:VEVENT
UID:17052456@ezleagues.ezfacility.com
DTSTAMP:20260424T043200Z
CREATED:20260424T043200Z
DTSTART:20260312T003000Z
DTEND:20260312T011000Z
LOCATION:Court 1
CONTACT:
SUMMARY:Lauren Holtcamp VS. Maretta DeWitt
DESCRIPTION:League Name: Women's 4's League II 2026\nGame Type: Regular\nGa
 me Status: Complete\nHome Team: Lauren Holtcamp\nAway Team: Maretta DeWitt
 \nHome Score: 1\nAway Score: 0
END:VEVENT
BEGIN:VEVENT
UID:17052460@ezleagues.ezfacility.com
DTSTAMP:20260424T043200Z
CREATED:20260424T043200Z
DTSTART:20260312T003000Z
DTEND:20260312T011000Z
LOCATION:Court 2
CONTACT:
SUMMARY:House Team VS. Maretta DeWitt
DESCRIPTION:League Name: Women's 4's League II 2026\nGame Type: Regular\nGa
 me Status: Complete\nHome Team: House Team\nAway Team: Maretta DeWitt\nHom
 e Score: 1\nAway Score: 0
END:VEVENT
BEGIN:VEVENT
UID:17052448@ezleagues.ezfacility.com
DTSTAMP:20260424T043200Z
CREATED:20260424T043200Z
DTSTART:20260312T003000Z
DTEND:20260312T011000Z
LOCATION:Court 2
CONTACT:
SUMMARY:Maretta DeWitt VS. Aliya Walters
DESCRIPTION:League Name: Women's 4's League II 2026\nGame Type: Regular\nGa
 me Status: Complete\nHome Team: Maretta DeWitt\nAway Team: Aliya Walters\n
 Home Score: 1\nAway Score: 0
END:VEVENT
BEGIN:VEVENT
UID:17052454@ezleagues.ezfacility.com
DTSTAMP:20260424T043200Z
CREATED:20260424T043200Z
DTSTART:20260312T003000Z
DTEND:20260312T011000Z
LOCATION:Court 2
CONTACT:
SUMMARY:Maretta DeWitt VS. House Team
DESCRIPTION:League Name: Women's 4's League II 2026\nGame Type: Regular\nGa
 me Status: Complete\nHome Team: Maretta DeWitt\nAway Team: House Team\nHom
 e Score: 1\nAway Score: 0
END:VEVENT
BEGIN:VEVENT
UID:17052446@ezleagues.ezfacility.com
DTSTAMP:20260424T043200Z
CREATED:20260424T043200Z
DTSTART:20260312T003000Z
DTEND:20260312T011000Z
LOCATION:Court 3
CONTACT:
SUMMARY:Maretta DeWitt VS. House Team
DESCRIPTION:League Name: Women's 4's League II 2026\nGame Type: Regular\nGa
 me Status: Complete\nHome Team: Maretta DeWitt\nAway Team: House Team\nHom
 e Score: 1\nAway Score: 0
END:VEVENT
BEGIN:VEVENT
UID:17064652@ezleagues.ezfacility.com
DTSTAMP:20260424T043200Z
CREATED:20260424T043200Z
DTSTART:20260319T003000Z
DTEND:20260319T011000Z
LOCATION:Court 2
CONTACT:
SUMMARY:Ashley Rollman VS. Maretta DeWitt
DESCRIPTION:League Name: Women's 4's League II 2026\nGame Type: Regular\nGa
 me Status: Complete\nHome Team: Ashley Rollman\nAway Team: Maretta DeWitt\
 nHome Score: 1\nAway Score: 0
END:VEVENT
BEGIN:VEVENT
UID:17064668@ezleagues.ezfacility.com
DTSTAMP:20260424T043200Z
CREATED:20260424T043200Z
DTSTART:20260319T003000Z
DTEND:20260319T011000Z
LOCATION:Court 2
CONTACT:
SUMMARY:Ella Azbell VS. Maretta DeWitt
DESCRIPTION:League Name: Women's 4's League II 2026\nGame Type: Regular\nGa
 me Status: Complete\nHome Team: Ella Azbell\nAway Team: Maretta DeWitt\nHo
 me Score: 1\nAway Score: 0
END:VEVENT
BEGIN:VEVENT
UID:17064656@ezleagues.ezfacility.com
DTSTAMP:20260424T043200Z
CREATED:20260424T043200Z
DTSTART:20260319T003000Z
DTEND:20260319T011000Z
LOCATION:Court 3
CONTACT:
SUMMARY:Stef Michels VS. Maretta DeWitt
DESCRIPTION:League Name: Women's 4's League II 2026\nGame Type: Regular\nGa
 me Status: Complete\nHome Team: Stef Michels\nAway Team: Maretta DeWitt\nH
 ome Score: 1\nAway Score: 0
END:VEVENT
BEGIN:VEVENT
UID:17064659@ezleagues.ezfacility.com
DTSTAMP:20260424T043200Z
CREATED:20260424T043200Z
DTSTART:20260319T003000Z
DTEND:20260319T011000Z
LOCATION:Court 3
CONTACT:
SUMMARY:Aliya Walters VS. Maretta DeWitt
DESCRIPTION:League Name: Women's 4's League II 2026\nGame Type: Regular\nGa
 me Status: Complete\nHome Team: Aliya Walters\nAway Team: Maretta DeWitt\n
 Home Score: 1\nAway Score: 0
END:VEVENT
BEGIN:VEVENT
UID:17064662@ezleagues.ezfacility.com
DTSTAMP:20260424T043200Z
CREATED:20260424T043200Z
DTSTART:20260319T003000Z
DTEND:20260319T011000Z
LOCATION:Court 3
CONTACT:
SUMMARY:Stef Michels VS. Maretta DeWitt
DESCRIPTION:League Name: Women's 4's League II 2026\nGame Type: Regular\nGa
 me Status: Complete\nHome Team: Stef Michels\nAway Team: Maretta DeWitt\nH
 ome Score: 1\nAway Score: 0
END:VEVENT
BEGIN:VEVENT
UID:17064665@ezleagues.ezfacility.com
DTSTAMP:20260424T043200Z
CREATED:20260424T043200Z
DTSTART:20260319T003000Z
DTEND:20260319T011000Z
LOCATION:Court 3
CONTACT:
SUMMARY:Maretta DeWitt VS. Aliya Walters
DESCRIPTION:League Name: Women's 4's League II 2026\nGame Type: Regular\nGa
 me Status: Complete\nHome Team: Maretta DeWitt\nAway Team: Aliya Walters\n
 Home Score: 1\nAway Score: 0
END:VEVENT
BEGIN:VEVENT
UID:17073583@ezleagues.ezfacility.com
DTSTAMP:20260424T043200Z
CREATED:20260424T043200Z
DTSTART:20260326T003000Z
DTEND:20260326T011000Z
LOCATION:Court 2
CONTACT:
SUMMARY:House Team VS. Maretta DeWitt
DESCRIPTION:League Name: Women's 4's League II 2026\nGame Type: Regular\nGa
 me Status: Complete\nHome Team: House Team\nAway Team: Maretta DeWitt\nHom
 e Score: 1\nAway Score: 0
END:VEVENT
BEGIN:VEVENT
UID:17073565@ezleagues.ezfacility.com
DTSTAMP:20260424T043200Z
CREATED:20260424T043200Z
DTSTART:20260326T003000Z
DTEND:20260326T011000Z
LOCATION:Court 3
CONTACT:
SUMMARY:House Team VS. Maretta DeWitt
DESCRIPTION:League Name: Women's 4's League II 2026\nGame Type: Regular\nGa
 me Status: Complete\nHome Team: House Team\nAway Team: Maretta DeWitt\nHom
 e Score: 1\nAway Score: 0
END:VEVENT
BEGIN:VEVENT
UID:17073571@ezleagues.ezfacility.com
DTSTAMP:20260424T043200Z
CREATED:20260424T043200Z
DTSTART:20260326T003000Z
DTEND:20260326T011000Z
LOCATION:Court 3
CONTACT:
SUMMARY:Aliya Walters VS. Maretta DeWitt
DESCRIPTION:League Name: Women's 4's League II 2026\nGame Type: Regular\nGa
 me Status: Complete\nHome Team: Aliya Walters\nAway Team: Maretta DeWitt\n
 Home Score: 1\nAway Score: 0
END:VEVENT
BEGIN:VEVENT
UID:17073575@ezleagues.ezfacility.com
DTSTAMP:20260424T043200Z
CREATED:20260424T043200Z
DTSTART:20260326T003000Z
DTEND:20260326T011000Z
LOCATION:Court 3
CONTACT:
SUMMARY:Stef Michels VS. Maretta DeWitt
DESCRIPTION:League Name: Women's 4's League II 2026\nGame Type: Regular\nGa
 me Status: Complete\nHome Team: Stef Michels\nAway Team: Maretta DeWitt\nH
 ome Score: 1\nAway Score: 0
END:VEVENT
BEGIN:VEVENT
UID:17073578@ezleagues.ezfacility.com
DTSTAMP:20260424T043200Z
CREATED:20260424T043200Z
DTSTART:20260326T003000Z
DTEND:20260326T011000Z
LOCATION:Court 3
CONTACT:
SUMMARY:Aliya Walters VS. Maretta DeWitt
DESCRIPTION:League Name: Women's 4's League II 2026\nGame Type: Regular\nGa
 me Status: Complete\nHome Team: Aliya Walters\nAway Team: Maretta DeWitt\n
 Home Score: 1\nAway Score: 0
END:VEVENT
BEGIN:VEVENT
UID:17073581@ezleagues.ezfacility.com
DTSTAMP:20260424T043200Z
CREATED:20260424T043200Z
DTSTART:20260326T003000Z
DTEND:20260326T011000Z
LOCATION:Court 3
CONTACT:
SUMMARY:Maretta DeWitt VS. Stef Michels
DESCRIPTION:League Name: Women's 4's League II 2026\nGame Type: Regular\nGa
 me Status: Complete\nHome Team: Maretta DeWitt\nAway Team: Stef Michels\nH
 ome Score: 1\nAway Score: 0
END:VEVENT
BEGIN:VEVENT
UID:17080266@ezleagues.ezfacility.com
DTSTAMP:20260424T043200Z
CREATED:20260424T043200Z
DTSTART:20260402T003000Z
DTEND:20260402T011000Z
LOCATION:Court 2
CONTACT:
SUMMARY:Ella Azbell VS. Maretta DeWitt
DESCRIPTION:League Name: Women's 4's League II 2026\nGame Type: Regular\nGa
 me Status: Complete\nHome Team: Ella Azbell\nAway Team: Maretta DeWitt\nHo
 me Score: 1\nAway Score: 0
END:VEVENT
BEGIN:VEVENT
UID:17080271@ezleagues.ezfacility.com
DTSTAMP:20260424T043200Z
CREATED:20260424T043200Z
DTSTART:20260402T003000Z
DTEND:20260402T011000Z
LOCATION:Court 3
CONTACT:
SUMMARY:House Team VS. Maretta DeWitt
DESCRIPTION:League Name: Women's 4's League II 2026\nGame Type: Regular\nGa
 me Status: Complete\nHome Team: House Team\nAway Team: Maretta DeWitt\nHom
 e Score: 1\nAway Score: 0
END:VEVENT
BEGIN:VEVENT
UID:17080253@ezleagues.ezfacility.com
DTSTAMP:20260424T043200Z
CREATED:20260424T043200Z
DTSTART:20260402T003000Z
DTEND:20260402T011000Z
LOCATION:Court 3
CONTACT:
SUMMARY:Ella Azbell VS. Maretta DeWitt
DESCRIPTION:League Name: Women's 4's League II 2026\nGame Type: Regular\nGa
 me Status: Complete\nHome Team: Ella Azbell\nAway Team: Maretta DeWitt\nHo
 me Score: 1\nAway Score: 0
END:VEVENT
BEGIN:VEVENT
UID:17080256@ezleagues.ezfacility.com
DTSTAMP:20260424T043200Z
CREATED:20260424T043200Z
DTSTART:20260402T003000Z
DTEND:20260402T011000Z
LOCATION:Court 3
CONTACT:
SUMMARY:Aliya Walters VS. Maretta DeWitt
DESCRIPTION:League Name: Women's 4's League II 2026\nGame Type: Regular\nGa
 me Status: Complete\nHome Team: Aliya Walters\nAway Team: Maretta DeWitt\n
 Home Score: 1\nAway Score: 0
END:VEVENT
BEGIN:VEVENT
UID:17080260@ezleagues.ezfacility.com
DTSTAMP:20260424T043200Z
CREATED:20260424T043200Z
DTSTART:20260402T003000Z
DTEND:20260402T011000Z
LOCATION:Court 3
CONTACT:
SUMMARY:House Team VS. Maretta DeWitt
DESCRIPTION:League Name: Women's 4's League II 2026\nGame Type: Regular\nGa
 me Status: Complete\nHome Team: House Team\nAway Team: Maretta DeWitt\nHom
 e Score: 1\nAway Score: 0
END:VEVENT
BEGIN:VEVENT
UID:17080264@ezleagues.ezfacility.com
DTSTAMP:20260424T043200Z
CREATED:20260424T043200Z
DTSTART:20260402T003000Z
DTEND:20260402T011000Z
LOCATION:Court 3
CONTACT:
SUMMARY:Maretta DeWitt VS. Aliya Walters
DESCRIPTION:League Name: Women's 4's League II 2026\nGame Type: Regular\nGa
 me Status: Complete\nHome Team: Maretta DeWitt\nAway Team: Aliya Walters\n
 Home Score: 1\nAway Score: 0
END:VEVENT
END:VCALENDAR
