BEGIN:VCALENDAR
VERSION:2.0
PRODID:-//EZFacility.com, Inc.//EZL 2.5.5.28621
BEGIN:VEVENT
UID:17022572@ezleagues.ezfacility.com
DTSTAMP:20260424T043139Z
CREATED:20260424T043139Z
DTSTART:20260217T010000Z
DTEND:20260217T020000Z
LOCATION:Bowld Gym
CONTACT:
SUMMARY:ATO 1 VS. Chop 200
DESCRIPTION:League Name: Pickleball-Men’s\nGame Type: Regular\nGame Statu
 s: Complete\nHome Team: ATO 1\nAway Team: Chop 200\nHome Score: 11\nAway S
 core: 1
END:VEVENT
BEGIN:VEVENT
UID:17022581@ezleagues.ezfacility.com
DTSTAMP:20260424T043139Z
CREATED:20260424T043139Z
DTSTART:20260217T012000Z
DTEND:20260217T022000Z
LOCATION:Bowld Gym
CONTACT:
SUMMARY:Chop 200 VS. Ben better
DESCRIPTION:League Name: Pickleball-Men’s\nGame Type: Regular\nGame Statu
 s: Complete\nHome Team: Chop 200\nAway Team: Ben better\nHome Score: 7\nAw
 ay Score: 11
END:VEVENT
END:VCALENDAR
