BEGIN:VCALENDAR
VERSION:2.0
PRODID:-//EZFacility.com, Inc.//EZL 2.5.5.28621
BEGIN:VEVENT
UID:17022587@ezleagues.ezfacility.com
DTSTAMP:20260424T043256Z
CREATED:20260424T043256Z
DTSTART:20260217T014000Z
DTEND:20260217T024000Z
LOCATION:Bowld Gym
CONTACT:
SUMMARY:Chop Bears VS. SAE Benchwarmers
DESCRIPTION:League Name: Pickleball-Men’s\nGame Type: Regular\nGame Statu
 s: Complete\nHome Team: Chop Bears\nAway Team: SAE Benchwarmers\nHome Scor
 e: 0\nAway Score: 11
END:VEVENT
BEGIN:VEVENT
UID:17022594@ezleagues.ezfacility.com
DTSTAMP:20260424T043256Z
CREATED:20260424T043256Z
DTSTART:20260217T020000Z
DTEND:20260217T030000Z
LOCATION:Bowld Gym
CONTACT:
SUMMARY:SAE Benchwarmers VS. Chop 1
DESCRIPTION:League Name: Pickleball-Men’s\nGame Type: Regular\nGame Statu
 s: Complete\nHome Team: SAE Benchwarmers\nAway Team: Chop 1\nHome Score: 5
 \nAway Score: 11
END:VEVENT
END:VCALENDAR
