BEGIN:VCALENDAR
VERSION:2.0
PRODID:-//EZFacility.com, Inc.//EZL 2.5.5.28621
BEGIN:VEVENT
UID:17023440@ezleagues.ezfacility.com
DTSTAMP:20260426T033632Z
CREATED:20260426T033632Z
DTSTART:20260221T160000Z
DTEND:20260221T170000Z
LOCATION:BOARDED FIELD
CONTACT:
SUMMARY:Hudson United Girls U10 VS. Westford Warriors
DESCRIPTION:League Name: GIRLS U10 REC S3 2026\nGame Type: Regular\nGame St
 atus: Complete\nHome Team: Hudson United Girls U10\nAway Team: Westford Wa
 rriors\nHome Score: 5\nAway Score: 7
END:VEVENT
BEGIN:VEVENT
UID:17023445@ezleagues.ezfacility.com
DTSTAMP:20260426T033632Z
CREATED:20260426T033632Z
DTSTART:20260228T130000Z
DTEND:20260228T140000Z
LOCATION:FIELD 3
CONTACT:
SUMMARY:Hudson United Girls U10 VS. Westford Warriors
DESCRIPTION:League Name: GIRLS U10 REC S3 2026\nGame Type: Regular\nGame St
 atus: Pending\nHome Team: Hudson United Girls U10\nAway Team: Westford War
 riors\n
END:VEVENT
BEGIN:VEVENT
UID:17023450@ezleagues.ezfacility.com
DTSTAMP:20260426T033632Z
CREATED:20260426T033632Z
DTSTART:20260307T160000Z
DTEND:20260307T170000Z
LOCATION:BOARDED FIELD
CONTACT:
SUMMARY:Hudson United Girls U10 VS. Nashua United
DESCRIPTION:League Name: GIRLS U10 REC S3 2026\nGame Type: Regular\nGame St
 atus: Complete\nHome Team: Hudson United Girls U10\nAway Team: Nashua Unit
 ed\nHome Score: 5\nAway Score: 7
END:VEVENT
BEGIN:VEVENT
UID:17023454@ezleagues.ezfacility.com
DTSTAMP:20260426T033632Z
CREATED:20260426T033632Z
DTSTART:20260314T150000Z
DTEND:20260314T160000Z
LOCATION:FIELD 2
CONTACT:
SUMMARY:Merrimack Travel SC VS. Hudson United Girls U10
DESCRIPTION:League Name: GIRLS U10 REC S3 2026\nGame Type: Regular\nGame St
 atus: Complete\nHome Team: Merrimack Travel SC\nAway Team: Hudson United G
 irls U10\nHome Score: 0\nAway Score: 4
END:VEVENT
BEGIN:VEVENT
UID:17023457@ezleagues.ezfacility.com
DTSTAMP:20260426T033632Z
CREATED:20260426T033632Z
DTSTART:20260321T170000Z
DTEND:20260321T180000Z
LOCATION:BOARDED FIELD
CONTACT:
SUMMARY:Tewksbury United VS. Hudson United Girls U10
DESCRIPTION:League Name: GIRLS U10 REC S3 2026\nGame Type: Regular\nGame St
 atus: Complete\nHome Team: Tewksbury United\nAway Team: Hudson United Girl
 s U10\nHome Score: 17\nAway Score: 0
END:VEVENT
BEGIN:VEVENT
UID:17023460@ezleagues.ezfacility.com
DTSTAMP:20260426T033632Z
CREATED:20260426T033632Z
DTSTART:20260328T120000Z
DTEND:20260328T130000Z
LOCATION:FIELD 2
CONTACT:
SUMMARY:Tewksbury Strikers VS. Hudson United Girls U10
DESCRIPTION:League Name: GIRLS U10 REC S3 2026\nGame Type: Regular\nGame St
 atus: Complete\nHome Team: Tewksbury Strikers\nAway Team: Hudson United Gi
 rls U10\nHome Score: 7\nAway Score: 1
END:VEVENT
BEGIN:VEVENT
UID:17023463@ezleagues.ezfacility.com
DTSTAMP:20260426T033632Z
CREATED:20260426T033632Z
DTSTART:20260404T170000Z
DTEND:20260404T180000Z
LOCATION:BOARDED FIELD
CONTACT:
SUMMARY:Elite Juniors Lightning Strikers VS. Hudson United Girls U10
DESCRIPTION:League Name: GIRLS U10 REC S3 2026\nGame Type: Regular\nGame St
 atus: Pending\nHome Team: Elite Juniors Lightning Strikers\nAway Team: Hud
 son United Girls U10\n
END:VEVENT
END:VCALENDAR
