BEGIN:VCALENDAR
VERSION:2.0
PRODID:-//EZFacility.com, Inc.//EZL 2.5.5.28621
BEGIN:VEVENT
UID:17023951@ezleagues.ezfacility.com
DTSTAMP:20260426T033855Z
CREATED:20260426T033855Z
DTSTART:20260218T020000Z
DTEND:20260218T022000Z
LOCATION:Bowld Gym
CONTACT:
SUMMARY:Drop Shot Divas VS. XO 1
DESCRIPTION:League Name: Pickleball-Women’s\nGame Type: Regular\nGame Sta
 tus: Complete\nHome Team: Drop Shot Divas\nAway Team: XO 1\nHome Score: 0\
 nAway Score: 11
END:VEVENT
BEGIN:VEVENT
UID:17023957@ezleagues.ezfacility.com
DTSTAMP:20260426T033855Z
CREATED:20260426T033855Z
DTSTART:20260218T022000Z
DTEND:20260218T024000Z
LOCATION:Bowld Gym
CONTACT:
SUMMARY:ZTA9 VS. XO 1
DESCRIPTION:League Name: Pickleball-Women’s\nGame Type: Regular\nGame Sta
 tus: Complete\nHome Team: ZTA9\nAway Team: XO 1\nHome Score: 11\nAway Scor
 e: 9
END:VEVENT
END:VCALENDAR
