BEGIN:VCALENDAR
VERSION:2.0
PRODID:-//EZFacility.com, Inc.//EZL 2.5.5.28621
BEGIN:VEVENT
UID:17023968@ezleagues.ezfacility.com
DTSTAMP:20260424T044035Z
CREATED:20260424T044035Z
DTSTART:20260218T032000Z
DTEND:20260218T034000Z
LOCATION:Bowld Gym
CONTACT:
SUMMARY:XO 12 VS. ZTA4
DESCRIPTION:League Name: Pickleball-Women’s\nGame Type: Regular\nGame Sta
 tus: Complete\nHome Team: XO 12\nAway Team: ZTA4\nHome Score: 0\nAway Scor
 e: 11
END:VEVENT
BEGIN:VEVENT
UID:17023971@ezleagues.ezfacility.com
DTSTAMP:20260424T044035Z
CREATED:20260424T044035Z
DTSTART:20260218T034000Z
DTEND:20260218T040000Z
LOCATION:Bowld Gym
CONTACT:
SUMMARY:XO 10 VS. ZTA4
DESCRIPTION:League Name: Pickleball-Women’s\nGame Type: Regular\nGame Sta
 tus: Complete\nHome Team: XO 10\nAway Team: ZTA4\nHome Score: 11\nAway Sco
 re: 5
END:VEVENT
END:VCALENDAR
