BEGIN:VCALENDAR
VERSION:2.0
PRODID:-//EZFacility.com, Inc.//EZL 2.5.5.28621
BEGIN:VEVENT
UID:17023959@ezleagues.ezfacility.com
DTSTAMP:20260426T034055Z
CREATED:20260426T034055Z
DTSTART:20260218T024000Z
DTEND:20260218T030000Z
LOCATION:Bowld Gym
CONTACT:
SUMMARY:XO 14 VS. ZTA5
DESCRIPTION:League Name: Pickleball-Women’s\nGame Type: Regular\nGame Sta
 tus: Complete\nHome Team: XO 14\nAway Team: ZTA5\nHome Score: 4\nAway Scor
 e: 11
END:VEVENT
BEGIN:VEVENT
UID:17023964@ezleagues.ezfacility.com
DTSTAMP:20260426T034055Z
CREATED:20260426T034055Z
DTSTART:20260218T030000Z
DTEND:20260218T032000Z
LOCATION:Bowld Gym
CONTACT:
SUMMARY:EA Sports VS. ZTA5
DESCRIPTION:League Name: Pickleball-Women’s\nGame Type: Regular\nGame Sta
 tus: Complete\nHome Team: EA Sports\nAway Team: ZTA5\nHome Score: 0\nAway 
 Score: 11
END:VEVENT
END:VCALENDAR
