BEGIN:VCALENDAR
VERSION:2.0
PRODID:-//EZFacility.com, Inc.//EZL 2.5.5.28621
BEGIN:VEVENT
UID:17024184@ezleagues.ezfacility.com
DTSTAMP:20260425T025549Z
CREATED:20260425T025549Z
DTSTART:20260206T230000Z
DTEND:20260206T234800Z
LOCATION:Jessup Premier Field #1
CONTACT:
SUMMARY:HSB Nomads VS. HSB Siempre United
DESCRIPTION:League Name: Youth (Winter II) SD1 (M, W, F) High School Boys\n
 Game Type: Regular\nGame Status: Complete\nHome Team: HSB Nomads\nAway Tea
 m: HSB Siempre United\nHome Score: 1\nAway Score: 9
END:VEVENT
BEGIN:VEVENT
UID:17024185@ezleagues.ezfacility.com
DTSTAMP:20260425T025549Z
CREATED:20260425T025549Z
DTSTART:20260213T220000Z
DTEND:20260213T224800Z
LOCATION:Jessup Premier Field #1
CONTACT:
SUMMARY:HSB Napoli VS. HSB Nomads
DESCRIPTION:League Name: Youth (Winter II) SD1 (M, W, F) High School Boys\n
 Game Type: Regular\nGame Status: Complete\nHome Team: HSB Napoli\nAway Tea
 m: HSB Nomads\nHome Score: 8\nAway Score: 1
END:VEVENT
BEGIN:VEVENT
UID:17024112@ezleagues.ezfacility.com
DTSTAMP:20260425T025549Z
CREATED:20260425T025549Z
DTSTART:20260220T230000Z
DTEND:20260221T000000Z
LOCATION:Jessup Premier Field #1
CONTACT:
SUMMARY:HSB LRHS VS. HSB Nomads
DESCRIPTION:League Name: Youth (Winter II) SD1 (M, W, F) High School Boys\n
 Game Type: Regular\nGame Status: Complete\nHome Team: HSB LRHS\nAway Team:
  HSB Nomads\nHome Score: 7\nAway Score: 3
END:VEVENT
BEGIN:VEVENT
UID:17024122@ezleagues.ezfacility.com
DTSTAMP:20260425T025549Z
CREATED:20260425T025549Z
DTSTART:20260227T220000Z
DTEND:20260227T230000Z
LOCATION:Jessup Premier Field #1
CONTACT:
SUMMARY:HSB Nomads VS. HSB LRHS
DESCRIPTION:League Name: Youth (Winter II) SD1 (M, W, F) High School Boys\n
 Game Type: Regular\nGame Status: Complete\nHome Team: HSB Nomads\nAway Tea
 m: HSB LRHS\nHome Score: 4\nAway Score: 6
END:VEVENT
BEGIN:VEVENT
UID:17024125@ezleagues.ezfacility.com
DTSTAMP:20260425T025549Z
CREATED:20260425T025549Z
DTSTART:20260306T220000Z
DTEND:20260306T230000Z
LOCATION:Jessup Premier Field #1
CONTACT:
SUMMARY:HSB LRHS 3 VS. HSB Nomads
DESCRIPTION:League Name: Youth (Winter II) SD1 (M, W, F) High School Boys\n
 Game Type: Regular\nGame Status: Complete\nHome Team: HSB LRHS 3\nAway Tea
 m: HSB Nomads\nHome Score: 8\nAway Score: 3
END:VEVENT
BEGIN:VEVENT
UID:17024118@ezleagues.ezfacility.com
DTSTAMP:20260425T025549Z
CREATED:20260425T025549Z
DTSTART:20260313T220000Z
DTEND:20260313T230000Z
LOCATION:Jessup Premier Field #1
CONTACT:
SUMMARY:HSB Nomads VS. HSB LRHS 2
DESCRIPTION:League Name: Youth (Winter II) SD1 (M, W, F) High School Boys\n
 Game Type: Regular\nGame Status: Complete\nHome Team: HSB Nomads\nAway Tea
 m: HSB LRHS 2\nHome Score: 6\nAway Score: 4
END:VEVENT
BEGIN:VEVENT
UID:17024114@ezleagues.ezfacility.com
DTSTAMP:20260425T025549Z
CREATED:20260425T025549Z
DTSTART:20260320T220000Z
DTEND:20260320T230000Z
LOCATION:Jessup Premier Field #1
CONTACT:
SUMMARY:HSB Nomads VS. HSB Napoli
DESCRIPTION:League Name: Youth (Winter II) SD1 (M, W, F) High School Boys\n
 Game Type: Regular\nGame Status: Complete\nHome Team: HSB Nomads\nAway Tea
 m: HSB Napoli\nHome Score: 2\nAway Score: 7
END:VEVENT
END:VCALENDAR
