BEGIN:VCALENDAR
VERSION:2.0
PRODID:-//EZFacility.com, Inc.//EZL 2.5.5.28621
BEGIN:VEVENT
UID:17026102@ezleagues.ezfacility.com
DTSTAMP:20260426T033703Z
CREATED:20260426T033703Z
DTSTART:20260224T050000Z
DTEND:20260224T060000Z
LOCATION:A2
CONTACT:
SUMMARY:Team 01 VS. Team 05
DESCRIPTION:League Name: Football\nGame Type: Regular\nGame Status: Pending
 \nHome Team: Team 01\nAway Team: Team 05\n
END:VEVENT
BEGIN:VEVENT
UID:17026107@ezleagues.ezfacility.com
DTSTAMP:20260426T033703Z
CREATED:20260426T033703Z
DTSTART:20260226T020000Z
DTEND:20260226T030000Z
LOCATION:A3
CONTACT:
SUMMARY:Team 05 VS. Team 09
DESCRIPTION:League Name: Football\nGame Type: Regular\nGame Status: Pending
 \nHome Team: Team 05\nAway Team: Team 09\n
END:VEVENT
BEGIN:VEVENT
UID:17026114@ezleagues.ezfacility.com
DTSTAMP:20260426T033703Z
CREATED:20260426T033703Z
DTSTART:20260226T050000Z
DTEND:20260226T060000Z
LOCATION:A3
CONTACT:
SUMMARY:Team 05 VS. Team 08
DESCRIPTION:League Name: Football\nGame Type: Regular\nGame Status: Pending
 \nHome Team: Team 05\nAway Team: Team 08\n
END:VEVENT
BEGIN:VEVENT
UID:17026129@ezleagues.ezfacility.com
DTSTAMP:20260426T033703Z
CREATED:20260426T033703Z
DTSTART:20260305T030000Z
DTEND:20260305T040000Z
LOCATION:A3
CONTACT:
SUMMARY:Team 07 VS. Team 05
DESCRIPTION:League Name: Football\nGame Type: Regular\nGame Status: Pending
 \nHome Team: Team 07\nAway Team: Team 05\n
END:VEVENT
END:VCALENDAR
