BEGIN:VCALENDAR
VERSION:2.0
PRODID:-//EZFacility.com, Inc.//EZL 2.5.5.28621
BEGIN:VEVENT
UID:17026515@ezleagues.ezfacility.com
DTSTAMP:20260426T033651Z
CREATED:20260426T033651Z
DTSTART:20260407T010000Z
DTEND:20260407T020000Z
LOCATION:A4
CONTACT:
SUMMARY:Team 08 VS. Team 07
DESCRIPTION:League Name: Hockey W\nGame Type: Regular\nGame Status: Pending
 \nHome Team: Team 08\nAway Team: Team 07\n
END:VEVENT
END:VCALENDAR
