BEGIN:VCALENDAR
VERSION:2.0
PRODID:-//EZFacility.com, Inc.//EZL 2.5.5.28621
BEGIN:VEVENT
UID:17026924@ezleagues.ezfacility.com
DTSTAMP:20260426T033808Z
CREATED:20260426T033808Z
DTSTART:20260310T231500Z
DTEND:20260311T001000Z
LOCATION:Main Field 
CONTACT:
SUMMARY:Blackhawks 2014 Boys Select  VS. Goats1
DESCRIPTION:League Name: U12 Boys 3rd '26\nGame Type: Regular\nGame Status:
  Complete\nHome Team: Blackhawks 2014 Boys Select \nAway Team: Goats1\nHom
 e Score: 6\nAway Score: 5
END:VEVENT
BEGIN:VEVENT
UID:17026921@ezleagues.ezfacility.com
DTSTAMP:20260426T033808Z
CREATED:20260426T033808Z
DTSTART:20260313T203000Z
DTEND:20260313T212500Z
LOCATION:Main Field 
CONTACT:
SUMMARY:Ferndale Eagles VS. Blackhawks 2014 Boys Select 
DESCRIPTION:League Name: U12 Boys 3rd '26\nGame Type: Regular\nGame Status:
  Complete\nHome Team: Ferndale Eagles\nAway Team: Blackhawks 2014 Boys Sel
 ect \nHome Score: 1\nAway Score: 5
END:VEVENT
BEGIN:VEVENT
UID:17026929@ezleagues.ezfacility.com
DTSTAMP:20260426T033808Z
CREATED:20260426T033808Z
DTSTART:20260321T125000Z
DTEND:20260321T134500Z
LOCATION:Main Field 
CONTACT:
SUMMARY:Legends United VS. Blackhawks 2014 Boys Select 
DESCRIPTION:League Name: U12 Boys 3rd '26\nGame Type: Regular\nGame Status:
  Complete\nHome Team: Legends United\nAway Team: Blackhawks 2014 Boys Sele
 ct \nHome Score: 11\nAway Score: 7
END:VEVENT
BEGIN:VEVENT
UID:17026939@ezleagues.ezfacility.com
DTSTAMP:20260426T033808Z
CREATED:20260426T033808Z
DTSTART:20260327T231500Z
DTEND:20260328T001000Z
LOCATION:Main Field 
CONTACT:
SUMMARY:Blackhawks 2014 Boys Select  VS. Fire Falcons
DESCRIPTION:League Name: U12 Boys 3rd '26\nGame Type: Regular\nGame Status:
  Complete\nHome Team: Blackhawks 2014 Boys Select \nAway Team: Fire Falcon
 s\nHome Score: 3\nAway Score: 7
END:VEVENT
BEGIN:VEVENT
UID:17026935@ezleagues.ezfacility.com
DTSTAMP:20260426T033808Z
CREATED:20260426T033808Z
DTSTART:20260408T223000Z
DTEND:20260408T232500Z
LOCATION:Main Field 
CONTACT:
SUMMARY:Wolves VS. Blackhawks 2014 Boys Select 
DESCRIPTION:League Name: U12 Boys 3rd '26\nGame Type: Regular\nGame Status:
  Complete\nHome Team: Wolves\nAway Team: Blackhawks 2014 Boys Select \nHom
 e Score: 5\nAway Score: 7
END:VEVENT
BEGIN:VEVENT
UID:17026945@ezleagues.ezfacility.com
DTSTAMP:20260426T033808Z
CREATED:20260426T033808Z
DTSTART:20260411T225500Z
DTEND:20260411T235000Z
LOCATION:Main Field 
CONTACT:
SUMMARY:Blackhawks 2014 Boys Select  VS. Blackhawks 2014 Boys Silver 
DESCRIPTION:League Name: U12 Boys 3rd '26\nGame Type: Regular\nGame Status:
  Complete\nHome Team: Blackhawks 2014 Boys Select \nAway Team: Blackhawks 
 2014 Boys Silver \nHome Score: 0\nAway Score: 1
END:VEVENT
END:VCALENDAR
