BEGIN:VCALENDAR
VERSION:2.0
PRODID:-//EZFacility.com, Inc.//EZL 2.5.5.28621
BEGIN:VEVENT
UID:17026923@ezleagues.ezfacility.com
DTSTAMP:20260421T214208Z
CREATED:20260421T214208Z
DTSTART:20260314T201000Z
DTEND:20260314T210500Z
LOCATION:Main Field 
CONTACT:
SUMMARY:Wolves VS. Fire Falcons
DESCRIPTION:League Name: U12 Boys 3rd '26\nGame Type: Regular\nGame Status:
  Complete\nHome Team: Wolves\nAway Team: Fire Falcons\nHome Score: 5\nAway
  Score: 7
END:VEVENT
BEGIN:VEVENT
UID:17026927@ezleagues.ezfacility.com
DTSTAMP:20260421T214208Z
CREATED:20260421T214208Z
DTSTART:20260318T223000Z
DTEND:20260318T232500Z
LOCATION:Main Field 
CONTACT:
SUMMARY:Ferndale Eagles VS. Wolves
DESCRIPTION:League Name: U12 Boys 3rd '26\nGame Type: Regular\nGame Status:
  Complete\nHome Team: Ferndale Eagles\nAway Team: Wolves\nHome Score: 6\nA
 way Score: 7
END:VEVENT
BEGIN:VEVENT
UID:17026931@ezleagues.ezfacility.com
DTSTAMP:20260421T214208Z
CREATED:20260421T214208Z
DTSTART:20260325T232500Z
DTEND:20260326T002000Z
LOCATION:Main Field 
CONTACT:
SUMMARY:Wolves VS. Legends United
DESCRIPTION:League Name: U12 Boys 3rd '26\nGame Type: Regular\nGame Status:
  Complete\nHome Team: Wolves\nAway Team: Legends United\nHome Score: 3\nAw
 ay Score: 7
END:VEVENT
BEGIN:VEVENT
UID:17026935@ezleagues.ezfacility.com
DTSTAMP:20260421T214208Z
CREATED:20260421T214208Z
DTSTART:20260408T223000Z
DTEND:20260408T232500Z
LOCATION:Main Field 
CONTACT:
SUMMARY:Wolves VS. Blackhawks 2014 Boys Select 
DESCRIPTION:League Name: U12 Boys 3rd '26\nGame Type: Regular\nGame Status:
  Complete\nHome Team: Wolves\nAway Team: Blackhawks 2014 Boys Select \nHom
 e Score: 5\nAway Score: 7
END:VEVENT
BEGIN:VEVENT
UID:17026940@ezleagues.ezfacility.com
DTSTAMP:20260421T214208Z
CREATED:20260421T214208Z
DTSTART:20260411T201000Z
DTEND:20260411T210500Z
LOCATION:Main Field 
CONTACT:
SUMMARY:Blackhawks 2014 Boys Silver  VS. Wolves
DESCRIPTION:League Name: U12 Boys 3rd '26\nGame Type: Regular\nGame Status:
  Complete\nHome Team: Blackhawks 2014 Boys Silver \nAway Team: Wolves\nHom
 e Score: 7\nAway Score: 3
END:VEVENT
BEGIN:VEVENT
UID:17026944@ezleagues.ezfacility.com
DTSTAMP:20260421T214208Z
CREATED:20260421T214208Z
DTSTART:20260415T223000Z
DTEND:20260415T232500Z
LOCATION:Main Field 
CONTACT:
SUMMARY:Goats1 VS. Wolves
DESCRIPTION:League Name: U12 Boys 3rd '26\nGame Type: Regular\nGame Status:
  Complete\nHome Team: Goats1\nAway Team: Wolves\nHome Score: 7\nAway Score
 : 3
END:VEVENT
END:VCALENDAR
