BEGIN:VCALENDAR
VERSION:2.0
PRODID:-//EZFacility.com, Inc.//EZL 2.5.5.28621
BEGIN:VEVENT
UID:17026925@ezleagues.ezfacility.com
DTSTAMP:20260424T044009Z
CREATED:20260424T044009Z
DTSTART:20260321T110000Z
DTEND:20260321T115500Z
LOCATION:Main Field 
CONTACT:
SUMMARY:Legends United VS. Ferndale Eagles
DESCRIPTION:League Name: U12 Boys 3rd '26\nGame Type: Regular\nGame Status:
  Complete\nHome Team: Legends United\nAway Team: Ferndale Eagles\nHome Sco
 re: 7\nAway Score: 3
END:VEVENT
BEGIN:VEVENT
UID:17026929@ezleagues.ezfacility.com
DTSTAMP:20260424T044009Z
CREATED:20260424T044009Z
DTSTART:20260321T125000Z
DTEND:20260321T134500Z
LOCATION:Main Field 
CONTACT:
SUMMARY:Legends United VS. Blackhawks 2014 Boys Select 
DESCRIPTION:League Name: U12 Boys 3rd '26\nGame Type: Regular\nGame Status:
  Complete\nHome Team: Legends United\nAway Team: Blackhawks 2014 Boys Sele
 ct \nHome Score: 11\nAway Score: 7
END:VEVENT
BEGIN:VEVENT
UID:17026931@ezleagues.ezfacility.com
DTSTAMP:20260424T044009Z
CREATED:20260424T044009Z
DTSTART:20260325T232500Z
DTEND:20260326T002000Z
LOCATION:Main Field 
CONTACT:
SUMMARY:Wolves VS. Legends United
DESCRIPTION:League Name: U12 Boys 3rd '26\nGame Type: Regular\nGame Status:
  Complete\nHome Team: Wolves\nAway Team: Legends United\nHome Score: 3\nAw
 ay Score: 7
END:VEVENT
BEGIN:VEVENT
UID:17026937@ezleagues.ezfacility.com
DTSTAMP:20260424T044009Z
CREATED:20260424T044009Z
DTSTART:20260408T232500Z
DTEND:20260409T002000Z
LOCATION:Main Field 
CONTACT:
SUMMARY:Legends United VS. Blackhawks 2014 Boys Silver 
DESCRIPTION:League Name: U12 Boys 3rd '26\nGame Type: Regular\nGame Status:
  Complete\nHome Team: Legends United\nAway Team: Blackhawks 2014 Boys Silv
 er \nHome Score: 6\nAway Score: 2
END:VEVENT
BEGIN:VEVENT
UID:17026942@ezleagues.ezfacility.com
DTSTAMP:20260424T044009Z
CREATED:20260424T044009Z
DTSTART:20260412T004500Z
DTEND:20260412T014000Z
LOCATION:Main Field 
CONTACT:
SUMMARY:Goats1 VS. Legends United
DESCRIPTION:League Name: U12 Boys 3rd '26\nGame Type: Regular\nGame Status:
  Complete\nHome Team: Goats1\nAway Team: Legends United\nHome Score: 5\nAw
 ay Score: 4
END:VEVENT
BEGIN:VEVENT
UID:17026919@ezleagues.ezfacility.com
DTSTAMP:20260424T044009Z
CREATED:20260424T044009Z
DTSTART:20260414T212500Z
DTEND:20260414T222000Z
LOCATION:Main Field 
CONTACT:
SUMMARY:Fire Falcons VS. Legends United
DESCRIPTION:League Name: U12 Boys 3rd '26\nGame Type: Regular\nGame Status:
  Complete\nHome Team: Fire Falcons\nAway Team: Legends United\nHome Score:
  4\nAway Score: 5
END:VEVENT
END:VCALENDAR
