BEGIN:VCALENDAR
VERSION:2.0
PRODID:-//EZFacility.com, Inc.//EZL 2.5.5.28621
BEGIN:VEVENT
UID:17030466@ezleagues.ezfacility.com
DTSTAMP:20260424T041512Z
CREATED:20260424T041512Z
DTSTART:20260228T031500Z
DTEND:20260228T041500Z
LOCATION:Field 5
CONTACT:
SUMMARY:Tits and Tips VS. EMAWJ
DESCRIPTION:League Name: 2026 S2 Fri Coed E- Feb. 27\nGame Type: Regular\nG
 ame Status: Complete\nHome Team: Tits and Tips\nAway Team: EMAWJ\nHome Sco
 re: 1\nAway Score: 12
END:VEVENT
BEGIN:VEVENT
UID:17030468@ezleagues.ezfacility.com
DTSTAMP:20260424T041512Z
CREATED:20260424T041512Z
DTSTART:20260228T051500Z
DTEND:20260228T061500Z
LOCATION:Field 5
CONTACT:
SUMMARY:GY6 VS. Tits and Tips
DESCRIPTION:League Name: 2026 S2 Fri Coed E- Feb. 27\nGame Type: Regular\nG
 ame Status: Complete\nHome Team: GY6\nAway Team: Tits and Tips\nHome Score
 : 12\nAway Score: 17
END:VEVENT
BEGIN:VEVENT
UID:17030481@ezleagues.ezfacility.com
DTSTAMP:20260424T041512Z
CREATED:20260424T041512Z
DTSTART:20260328T011500Z
DTEND:20260328T021500Z
LOCATION:Field 6
CONTACT:
SUMMARY:Uncle Sausage VS. Tits and Tips
DESCRIPTION:League Name: 2026 S2 Fri Coed E- Feb. 27\nGame Type: Regular\nG
 ame Status: Complete\nHome Team: Uncle Sausage\nAway Team: Tits and Tips\n
 Home Score: 8\nAway Score: 9
END:VEVENT
BEGIN:VEVENT
UID:17030482@ezleagues.ezfacility.com
DTSTAMP:20260424T041512Z
CREATED:20260424T041512Z
DTSTART:20260328T021500Z
DTEND:20260328T031500Z
LOCATION:Field 6
CONTACT:
SUMMARY:Tits and Tips VS. We Suck Again
DESCRIPTION:League Name: 2026 S2 Fri Coed E- Feb. 27\nGame Type: Regular\nG
 ame Status: Complete\nHome Team: Tits and Tips\nAway Team: We Suck Again\n
 Home Score: 15\nAway Score: 9
END:VEVENT
BEGIN:VEVENT
UID:17030488@ezleagues.ezfacility.com
DTSTAMP:20260424T041512Z
CREATED:20260424T041512Z
DTSTART:20260404T021500Z
DTEND:20260404T031500Z
LOCATION:Field 4
CONTACT:
SUMMARY:EB32 VS. Tits and Tips
DESCRIPTION:League Name: 2026 S2 Fri Coed E- Feb. 27\nGame Type: Regular\nG
 ame Status: Complete\nHome Team: EB32\nAway Team: Tits and Tips\nHome Scor
 e: 12\nAway Score: 17
END:VEVENT
BEGIN:VEVENT
UID:17030489@ezleagues.ezfacility.com
DTSTAMP:20260424T041512Z
CREATED:20260424T041512Z
DTSTART:20260404T031500Z
DTEND:20260404T041500Z
LOCATION:Field 4
CONTACT:
SUMMARY:Tits and Tips VS. GY6
DESCRIPTION:League Name: 2026 S2 Fri Coed E- Feb. 27\nGame Type: Regular\nG
 ame Status: Complete\nHome Team: Tits and Tips\nAway Team: GY6\nHome Score
 : 18\nAway Score: 9
END:VEVENT
BEGIN:VEVENT
UID:17030490@ezleagues.ezfacility.com
DTSTAMP:20260424T041512Z
CREATED:20260424T041512Z
DTSTART:20260411T041500Z
DTEND:20260411T051500Z
LOCATION:Field 1
CONTACT:
SUMMARY:Pitches B Crazy VS. Tits and Tips
DESCRIPTION:League Name: 2026 S2 Fri Coed E- Feb. 27\nGame Type: Regular\nG
 ame Status: Complete\nHome Team: Pitches B Crazy\nAway Team: Tits and Tips
 \nHome Score: 13\nAway Score: 7
END:VEVENT
BEGIN:VEVENT
UID:17030491@ezleagues.ezfacility.com
DTSTAMP:20260424T041512Z
CREATED:20260424T041512Z
DTSTART:20260411T051500Z
DTEND:20260411T061500Z
LOCATION:Field 1
CONTACT:
SUMMARY:Tits and Tips VS. Pitches B Crazy
DESCRIPTION:League Name: 2026 S2 Fri Coed E- Feb. 27\nGame Type: Regular\nG
 ame Status: Complete\nHome Team: Tits and Tips\nAway Team: Pitches B Crazy
 \nHome Score: 7\nAway Score: 11
END:VEVENT
BEGIN:VEVENT
UID:17030499@ezleagues.ezfacility.com
DTSTAMP:20260424T041512Z
CREATED:20260424T041512Z
DTSTART:20260418T031500Z
DTEND:20260418T041500Z
LOCATION:Field 3
CONTACT:
SUMMARY:EMAWJ VS. Tits and Tips
DESCRIPTION:League Name: 2026 S2 Fri Coed E- Feb. 27\nGame Type: Regular\nG
 ame Status: Complete\nHome Team: EMAWJ\nAway Team: Tits and Tips\nHome Sco
 re: 15\nAway Score: 10
END:VEVENT
BEGIN:VEVENT
UID:17030500@ezleagues.ezfacility.com
DTSTAMP:20260424T041512Z
CREATED:20260424T041512Z
DTSTART:20260418T041500Z
DTEND:20260418T051500Z
LOCATION:Field 3
CONTACT:
SUMMARY:Tits and Tips VS. GY6
DESCRIPTION:League Name: 2026 S2 Fri Coed E- Feb. 27\nGame Type: Regular\nG
 ame Status: Complete\nHome Team: Tits and Tips\nAway Team: GY6\nHome Score
 : 13\nAway Score: 13
END:VEVENT
BEGIN:VEVENT
UID:17030503@ezleagues.ezfacility.com
DTSTAMP:20260424T041512Z
CREATED:20260424T041512Z
DTSTART:20260425T041500Z
DTEND:20260425T051500Z
LOCATION:Field 3
CONTACT:
SUMMARY:Big Ol Hitties VS. Tits and Tips
DESCRIPTION:League Name: 2026 S2 Fri Coed E- Feb. 27\nGame Type: Regular\nG
 ame Status: Pending\nHome Team: Big Ol Hitties\nAway Team: Tits and Tips\n
END:VEVENT
BEGIN:VEVENT
UID:17030504@ezleagues.ezfacility.com
DTSTAMP:20260424T041512Z
CREATED:20260424T041512Z
DTSTART:20260425T051500Z
DTEND:20260425T061500Z
LOCATION:Field 3
CONTACT:
SUMMARY:Tits and Tips VS. Cleats and Cleavage
DESCRIPTION:League Name: 2026 S2 Fri Coed E- Feb. 27\nGame Type: Regular\nG
 ame Status: Pending\nHome Team: Tits and Tips\nAway Team: Cleats and Cleav
 age\n
END:VEVENT
BEGIN:VEVENT
UID:17030512@ezleagues.ezfacility.com
DTSTAMP:20260424T041512Z
CREATED:20260424T041512Z
DTSTART:20260502T011500Z
DTEND:20260502T021500Z
LOCATION:Field 1
CONTACT:
SUMMARY:Tits and Tips VS. We Suck Again
DESCRIPTION:League Name: 2026 S2 Fri Coed E- Feb. 27\nGame Type: Regular\nG
 ame Status: Pending\nHome Team: Tits and Tips\nAway Team: We Suck Again\n
END:VEVENT
BEGIN:VEVENT
UID:17030514@ezleagues.ezfacility.com
DTSTAMP:20260424T041512Z
CREATED:20260424T041512Z
DTSTART:20260502T031500Z
DTEND:20260502T041500Z
LOCATION:Field 1
CONTACT:
SUMMARY:EMAWJ VS. Tits and Tips
DESCRIPTION:League Name: 2026 S2 Fri Coed E- Feb. 27\nGame Type: Regular\nG
 ame Status: Pending\nHome Team: EMAWJ\nAway Team: Tits and Tips\n
END:VEVENT
END:VCALENDAR
