BEGIN:VCALENDAR
VERSION:2.0
PRODID:-//EZFacility.com, Inc.//EZL 2.5.5.28621
BEGIN:VEVENT
UID:17030417@ezleagues.ezfacility.com
DTSTAMP:20260425T102708Z
CREATED:20260425T102708Z
DTSTART:20260228T031500Z
DTEND:20260228T041500Z
LOCATION:Field 3
CONTACT:
SUMMARY:Snakewise LLC VS. GoYard Gooners
DESCRIPTION:League Name: 2026 S2 Fri Men's Rec - Feb. 27\nGame Type: Regula
 r\nGame Status: Complete\nHome Team: Snakewise LLC\nAway Team: GoYard Goon
 ers\nHome Score: 12\nAway Score: 11
END:VEVENT
BEGIN:VEVENT
UID:17030419@ezleagues.ezfacility.com
DTSTAMP:20260425T102708Z
CREATED:20260425T102708Z
DTSTART:20260228T051500Z
DTEND:20260228T061500Z
LOCATION:Field 3
CONTACT:
SUMMARY:Dirt bags VS. Snakewise LLC
DESCRIPTION:League Name: 2026 S2 Fri Men's Rec - Feb. 27\nGame Type: Regula
 r\nGame Status: Complete\nHome Team: Dirt bags\nAway Team: Snakewise LLC\n
 Home Score: 21\nAway Score: 5
END:VEVENT
BEGIN:VEVENT
UID:17030425@ezleagues.ezfacility.com
DTSTAMP:20260425T102708Z
CREATED:20260425T102708Z
DTSTART:20260328T011500Z
DTEND:20260328T021500Z
LOCATION:Field 3
CONTACT:
SUMMARY:Bad Boys VS. Snakewise LLC
DESCRIPTION:League Name: 2026 S2 Fri Men's Rec - Feb. 27\nGame Type: Regula
 r\nGame Status: Complete\nHome Team: Bad Boys\nAway Team: Snakewise LLC\nH
 ome Score: 18\nAway Score: 12
END:VEVENT
BEGIN:VEVENT
UID:17030426@ezleagues.ezfacility.com
DTSTAMP:20260425T102708Z
CREATED:20260425T102708Z
DTSTART:20260328T021500Z
DTEND:20260328T031500Z
LOCATION:Field 3
CONTACT:
SUMMARY:Snakewise LLC VS. MM
DESCRIPTION:League Name: 2026 S2 Fri Men's Rec - Feb. 27\nGame Type: Regula
 r\nGame Status: Complete\nHome Team: Snakewise LLC\nAway Team: MM\nHome Sc
 ore: 12\nAway Score: 12
END:VEVENT
BEGIN:VEVENT
UID:17030431@ezleagues.ezfacility.com
DTSTAMP:20260425T102708Z
CREATED:20260425T102708Z
DTSTART:20260404T031500Z
DTEND:20260404T041500Z
LOCATION:Field 2
CONTACT:
SUMMARY:GoYard Gooners VS. Snakewise LLC
DESCRIPTION:League Name: 2026 S2 Fri Men's Rec - Feb. 27\nGame Type: Regula
 r\nGame Status: Complete\nHome Team: GoYard Gooners\nAway Team: Snakewise 
 LLC\nHome Score: 11\nAway Score: 10
END:VEVENT
BEGIN:VEVENT
UID:17030432@ezleagues.ezfacility.com
DTSTAMP:20260425T102708Z
CREATED:20260425T102708Z
DTSTART:20260404T041500Z
DTEND:20260404T051500Z
LOCATION:Field 2
CONTACT:
SUMMARY:Snakewise LLC VS. Free Ballers
DESCRIPTION:League Name: 2026 S2 Fri Men's Rec - Feb. 27\nGame Type: Regula
 r\nGame Status: Complete\nHome Team: Snakewise LLC\nAway Team: Free Baller
 s\nHome Score: 12\nAway Score: 10
END:VEVENT
BEGIN:VEVENT
UID:17030437@ezleagues.ezfacility.com
DTSTAMP:20260425T102708Z
CREATED:20260425T102708Z
DTSTART:20260411T021500Z
DTEND:20260411T031500Z
LOCATION:Field 1
CONTACT:
SUMMARY:Alcoholics Anonymous VS. Snakewise LLC
DESCRIPTION:League Name: 2026 S2 Fri Men's Rec - Feb. 27\nGame Type: Regula
 r\nGame Status: Complete\nHome Team: Alcoholics Anonymous\nAway Team: Snak
 ewise LLC\nHome Score: 14\nAway Score: 14
END:VEVENT
BEGIN:VEVENT
UID:17030438@ezleagues.ezfacility.com
DTSTAMP:20260425T102708Z
CREATED:20260425T102708Z
DTSTART:20260411T031500Z
DTEND:20260411T041500Z
LOCATION:Field 1
CONTACT:
SUMMARY:Snakewise LLC VS. Dirt bags
DESCRIPTION:League Name: 2026 S2 Fri Men's Rec - Feb. 27\nGame Type: Regula
 r\nGame Status: Complete\nHome Team: Snakewise LLC\nAway Team: Dirt bags\n
 Home Score: 15\nAway Score: 18
END:VEVENT
BEGIN:VEVENT
UID:17030445@ezleagues.ezfacility.com
DTSTAMP:20260425T102708Z
CREATED:20260425T102708Z
DTSTART:20260418T011500Z
DTEND:20260418T021500Z
LOCATION:Field 3
CONTACT:
SUMMARY:Snakewise LLC VS. Free Ballers
DESCRIPTION:League Name: 2026 S2 Fri Men's Rec - Feb. 27\nGame Type: Regula
 r\nGame Status: Complete\nHome Team: Snakewise LLC\nAway Team: Free Baller
 s\nHome Score: 19\nAway Score: 16
END:VEVENT
BEGIN:VEVENT
UID:17030446@ezleagues.ezfacility.com
DTSTAMP:20260425T102708Z
CREATED:20260425T102708Z
DTSTART:20260418T021500Z
DTEND:20260418T031500Z
LOCATION:Field 3
CONTACT:
SUMMARY:Free Ballers VS. Snakewise LLC
DESCRIPTION:League Name: 2026 S2 Fri Men's Rec - Feb. 27\nGame Type: Regula
 r\nGame Status: Complete\nHome Team: Free Ballers\nAway Team: Snakewise LL
 C\nHome Score: 16\nAway Score: 20
END:VEVENT
BEGIN:VEVENT
UID:17030453@ezleagues.ezfacility.com
DTSTAMP:20260425T102708Z
CREATED:20260425T102708Z
DTSTART:20260425T041500Z
DTEND:20260425T051500Z
LOCATION:Field 2
CONTACT:
SUMMARY:Mouth Breathers VS. Snakewise LLC
DESCRIPTION:League Name: 2026 S2 Fri Men's Rec - Feb. 27\nGame Type: Regula
 r\nGame Status: Pending\nHome Team: Mouth Breathers\nAway Team: Snakewise 
 LLC\n
END:VEVENT
BEGIN:VEVENT
UID:17030454@ezleagues.ezfacility.com
DTSTAMP:20260425T102708Z
CREATED:20260425T102708Z
DTSTART:20260425T051500Z
DTEND:20260425T061500Z
LOCATION:Field 2
CONTACT:
SUMMARY:Snakewise LLC VS. MM
DESCRIPTION:League Name: 2026 S2 Fri Men's Rec - Feb. 27\nGame Type: Regula
 r\nGame Status: Pending\nHome Team: Snakewise LLC\nAway Team: MM\n
END:VEVENT
BEGIN:VEVENT
UID:17030459@ezleagues.ezfacility.com
DTSTAMP:20260425T102708Z
CREATED:20260425T102708Z
DTSTART:20260502T041500Z
DTEND:20260502T051500Z
LOCATION:Field 1
CONTACT:
SUMMARY:Snakewise LLC VS. GoYard Gooners
DESCRIPTION:League Name: 2026 S2 Fri Men's Rec - Feb. 27\nGame Type: Regula
 r\nGame Status: Pending\nHome Team: Snakewise LLC\nAway Team: GoYard Goone
 rs\n
END:VEVENT
BEGIN:VEVENT
UID:17030460@ezleagues.ezfacility.com
DTSTAMP:20260425T102708Z
CREATED:20260425T102708Z
DTSTART:20260502T051500Z
DTEND:20260502T061500Z
LOCATION:Field 1
CONTACT:
SUMMARY:GoYard Gooners VS. Snakewise LLC
DESCRIPTION:League Name: 2026 S2 Fri Men's Rec - Feb. 27\nGame Type: Regula
 r\nGame Status: Pending\nHome Team: GoYard Gooners\nAway Team: Snakewise L
 LC\n
END:VEVENT
END:VCALENDAR
