BEGIN:VCALENDAR
VERSION:2.0
PRODID:-//EZFacility.com, Inc.//EZL 2.5.5.28621
BEGIN:VEVENT
UID:17032170@ezleagues.ezfacility.com
DTSTAMP:20260420T203136Z
CREATED:20260420T203136Z
DTSTART:20260228T020000Z
DTEND:20260228T030000Z
LOCATION:A2
CONTACT:
SUMMARY:Team 05 VS. Team 01
DESCRIPTION:League Name: Womens Hockey 3v3\nGame Type: Regular\nGame Status
 : Pending\nHome Team: Team 05\nAway Team: Team 01\n
END:VEVENT
BEGIN:VEVENT
UID:17032178@ezleagues.ezfacility.com
DTSTAMP:20260420T203136Z
CREATED:20260420T203136Z
DTSTART:20260307T030000Z
DTEND:20260307T040000Z
LOCATION:A2
CONTACT:
SUMMARY:Team 05 VS. Team 04
DESCRIPTION:League Name: Womens Hockey 3v3\nGame Type: Regular\nGame Status
 : Pending\nHome Team: Team 05\nAway Team: Team 04\n
END:VEVENT
BEGIN:VEVENT
UID:17032187@ezleagues.ezfacility.com
DTSTAMP:20260420T203136Z
CREATED:20260420T203136Z
DTSTART:20260312T020000Z
DTEND:20260312T030000Z
LOCATION:A2
CONTACT:
SUMMARY:Team 07 VS. Team 05
DESCRIPTION:League Name: Womens Hockey 3v3\nGame Type: Regular\nGame Status
 : Pending\nHome Team: Team 07\nAway Team: Team 05\n
END:VEVENT
END:VCALENDAR
