BEGIN:VCALENDAR
VERSION:2.0
PRODID:-//EZFacility.com, Inc.//EZL 2.5.5.28621
BEGIN:VEVENT
UID:17048948@ezleagues.ezfacility.com
DTSTAMP:20260421T142140Z
CREATED:20260421T142140Z
DTSTART:20260312T011000Z
DTEND:20260312T021000Z
LOCATION:Davidson GMC - Court #3
CONTACT:
SUMMARY:Accelerate Blue D1 - By Nissan VS. The Rally
DESCRIPTION:League Name: Adult COED Volleyball Advanced (1st Division)\nGam
 e Type: Regular\nGame Status: Complete\nHome Team: Accelerate Blue D1 - By
  Nissan\nAway Team: The Rally\nHome Score: 0\nAway Score: 1
END:VEVENT
BEGIN:VEVENT
UID:17058293@ezleagues.ezfacility.com
DTSTAMP:20260421T142140Z
CREATED:20260421T142140Z
DTSTART:20260319T003000Z
DTEND:20260319T013000Z
LOCATION:Davidson Chevrolet - Court #1
CONTACT:
SUMMARY:Accelerate Blue D1 - By Nissan VS. Balls Deep
DESCRIPTION:League Name: Adult COED Volleyball Advanced (1st Division)\nGam
 e Type: Regular\nGame Status: Complete\nHome Team: Accelerate Blue D1 - By
  Nissan\nAway Team: Balls Deep\nHome Score: 0\nAway Score: 1
END:VEVENT
BEGIN:VEVENT
UID:17067760@ezleagues.ezfacility.com
DTSTAMP:20260421T142140Z
CREATED:20260421T142140Z
DTSTART:20260326T013000Z
DTEND:20260326T023000Z
LOCATION:Davidson Chevrolet - Court #1
CONTACT:
SUMMARY:Holy Blockamole VS. Accelerate Blue D1 - By Nissan
DESCRIPTION:League Name: Adult COED Volleyball Advanced (1st Division)\nGam
 e Type: Regular\nGame Status: Complete\nHome Team: Holy Blockamole\nAway T
 eam: Accelerate Blue D1 - By Nissan\nHome Score: 1\nAway Score: 0
END:VEVENT
BEGIN:VEVENT
UID:17075616@ezleagues.ezfacility.com
DTSTAMP:20260421T142140Z
CREATED:20260421T142140Z
DTSTART:20260402T003000Z
DTEND:20260402T013000Z
LOCATION:Davidson Chevrolet - Court #1
CONTACT:
SUMMARY:Ace Down Pass Up VS. Accelerate Blue D1 - By Nissan
DESCRIPTION:League Name: Adult COED Volleyball Advanced (1st Division)\nGam
 e Type: Regular\nGame Status: Complete\nHome Team: Ace Down Pass Up\nAway 
 Team: Accelerate Blue D1 - By Nissan\nHome Score: 1\nAway Score: 0
END:VEVENT
BEGIN:VEVENT
UID:17085126@ezleagues.ezfacility.com
DTSTAMP:20260421T142140Z
CREATED:20260421T142140Z
DTSTART:20260409T013000Z
DTEND:20260409T023000Z
LOCATION:Davidson Chevrolet - Court #1
CONTACT:
SUMMARY:Accelerate Blue D1 - By Nissan VS. Ball Busters
DESCRIPTION:League Name: Adult COED Volleyball Advanced (1st Division)\nGam
 e Type: Regular\nGame Status: Complete\nHome Team: Accelerate Blue D1 - By
  Nissan\nAway Team: Ball Busters\nHome Score: 0\nAway Score: 1
END:VEVENT
BEGIN:VEVENT
UID:17094837@ezleagues.ezfacility.com
DTSTAMP:20260421T142140Z
CREATED:20260421T142140Z
DTSTART:20260416T003000Z
DTEND:20260416T013000Z
LOCATION:Davidson Chevrolet - Court #1
CONTACT:
SUMMARY:Accelerate Blue D1 - By Nissan VS. Unprotected Sets
DESCRIPTION:League Name: Adult COED Volleyball Advanced (1st Division)\nGam
 e Type: Regular\nGame Status: Complete\nHome Team: Accelerate Blue D1 - By
  Nissan\nAway Team: Unprotected Sets\nHome Score: 0\nAway Score: 1
END:VEVENT
BEGIN:VEVENT
UID:17103329@ezleagues.ezfacility.com
DTSTAMP:20260421T142140Z
CREATED:20260421T142140Z
DTSTART:20260422T221500Z
DTEND:20260422T231500Z
LOCATION:Volleyball Court #1 (Davison C
CONTACT:
SUMMARY:Accelerate Blue D1 - By Nissan VS. Do Better
DESCRIPTION:League Name: Adult COED Volleyball Advanced (1st Division)\nGam
 e Type: Regular\nGame Status: Pending\nHome Team: Accelerate Blue D1 - By 
 Nissan\nAway Team: Do Better\n
END:VEVENT
END:VCALENDAR
