BEGIN:VCALENDAR
VERSION:2.0
PRODID:-//EZFacility.com, Inc.//EZL 2.5.5.28621
BEGIN:VEVENT
UID:17032878@ezleagues.ezfacility.com
DTSTAMP:20260420T082419Z
CREATED:20260420T082419Z
DTSTART:20260303T020000Z
DTEND:20260303T030000Z
LOCATION:Court 3
CONTACT:
SUMMARY:I'd Hit That VS. Clever Beaches
DESCRIPTION:League Name: S2 Mon Coed 4's VB- March 2 \nGame Type: Regular\n
 Game Status: Complete\nHome Team: I'd Hit That\nAway Team: Clever Beaches\
 nHome Score: 0\nAway Score: 1
END:VEVENT
BEGIN:VEVENT
UID:17032884@ezleagues.ezfacility.com
DTSTAMP:20260420T082419Z
CREATED:20260420T082419Z
DTSTART:20260303T030000Z
DTEND:20260303T040000Z
LOCATION:Court 4
CONTACT:
SUMMARY:Spikological Warfare VS. Clever Beaches
DESCRIPTION:League Name: S2 Mon Coed 4's VB- March 2 \nGame Type: Regular\n
 Game Status: Complete\nHome Team: Spikological Warfare\nAway Team: Clever 
 Beaches\nHome Score: 0\nAway Score: 1
END:VEVENT
BEGIN:VEVENT
UID:17032890@ezleagues.ezfacility.com
DTSTAMP:20260420T082419Z
CREATED:20260420T082419Z
DTSTART:20260310T020000Z
DTEND:20260310T030000Z
LOCATION:Court 2
CONTACT:
SUMMARY:Gone Fishin' VS. Clever Beaches
DESCRIPTION:League Name: S2 Mon Coed 4's VB- March 2 \nGame Type: Regular\n
 Game Status: Complete\nHome Team: Gone Fishin'\nAway Team: Clever Beaches\
 nHome Score: 0\nAway Score: 1
END:VEVENT
BEGIN:VEVENT
UID:17032895@ezleagues.ezfacility.com
DTSTAMP:20260420T082419Z
CREATED:20260420T082419Z
DTSTART:20260310T030000Z
DTEND:20260310T040000Z
LOCATION:Court 5
CONTACT:
SUMMARY:Clever Beaches VS. Ball Droppers
DESCRIPTION:League Name: S2 Mon Coed 4's VB- March 2 \nGame Type: Regular\n
 Game Status: Complete\nHome Team: Clever Beaches\nAway Team: Ball Droppers
 \nHome Score: 1\nAway Score: 0
END:VEVENT
BEGIN:VEVENT
UID:17032899@ezleagues.ezfacility.com
DTSTAMP:20260420T082419Z
CREATED:20260420T082419Z
DTSTART:20260317T020000Z
DTEND:20260317T030000Z
LOCATION:Court 4
CONTACT:
SUMMARY:Clever Beaches VS. Cloud Surfers
DESCRIPTION:League Name: S2 Mon Coed 4's VB- March 2 \nGame Type: Regular\n
 Game Status: Complete\nHome Team: Clever Beaches\nAway Team: Cloud Surfers
 \nHome Score: 1\nAway Score: 0
END:VEVENT
BEGIN:VEVENT
UID:17032903@ezleagues.ezfacility.com
DTSTAMP:20260420T082419Z
CREATED:20260420T082419Z
DTSTART:20260317T030000Z
DTEND:20260317T040000Z
LOCATION:Court 3
CONTACT:
SUMMARY:Spike this VS. Clever Beaches
DESCRIPTION:League Name: S2 Mon Coed 4's VB- March 2 \nGame Type: Regular\n
 Game Status: Complete\nHome Team: Spike this\nAway Team: Clever Beaches\nH
 ome Score: 0\nAway Score: 1
END:VEVENT
BEGIN:VEVENT
UID:17032907@ezleagues.ezfacility.com
DTSTAMP:20260420T082419Z
CREATED:20260420T082419Z
DTSTART:20260324T020000Z
DTEND:20260324T030000Z
LOCATION:Court 2
CONTACT:
SUMMARY:Sets on the Beach VS. Clever Beaches
DESCRIPTION:League Name: S2 Mon Coed 4's VB- March 2 \nGame Type: Regular\n
 Game Status: Complete\nHome Team: Sets on the Beach\nAway Team: Clever Bea
 ches\nHome Score: 0\nAway Score: 1
END:VEVENT
BEGIN:VEVENT
UID:17032911@ezleagues.ezfacility.com
DTSTAMP:20260420T082419Z
CREATED:20260420T082419Z
DTSTART:20260324T030000Z
DTEND:20260324T040000Z
LOCATION:Court 1
CONTACT:
SUMMARY:Clever Beaches VS. Amped Gorillas
DESCRIPTION:League Name: S2 Mon Coed 4's VB- March 2 \nGame Type: Regular\n
 Game Status: Complete\nHome Team: Clever Beaches\nAway Team: Amped Gorilla
 s\nHome Score: 1\nAway Score: 0
END:VEVENT
BEGIN:VEVENT
UID:17032917@ezleagues.ezfacility.com
DTSTAMP:20260420T082419Z
CREATED:20260420T082419Z
DTSTART:20260331T020000Z
DTEND:20260331T030000Z
LOCATION:Court 1
CONTACT:
SUMMARY:Clever Beaches VS. Balls Deep
DESCRIPTION:League Name: S2 Mon Coed 4's VB- March 2 \nGame Type: Regular\n
 Game Status: Complete\nHome Team: Clever Beaches\nAway Team: Balls Deep\nH
 ome Score: 1\nAway Score: 0
END:VEVENT
BEGIN:VEVENT
UID:17032923@ezleagues.ezfacility.com
DTSTAMP:20260420T082419Z
CREATED:20260420T082419Z
DTSTART:20260331T030000Z
DTEND:20260331T040000Z
LOCATION:Court 5
CONTACT:
SUMMARY:Clever Beaches VS. I'd Hit That
DESCRIPTION:League Name: S2 Mon Coed 4's VB- March 2 \nGame Type: Regular\n
 Game Status: Complete\nHome Team: Clever Beaches\nAway Team: I'd Hit That\
 nHome Score: 1\nAway Score: 0
END:VEVENT
BEGIN:VEVENT
UID:17032929@ezleagues.ezfacility.com
DTSTAMP:20260420T082419Z
CREATED:20260420T082419Z
DTSTART:20260407T020000Z
DTEND:20260407T030000Z
LOCATION:Court 4
CONTACT:
SUMMARY:Clever Beaches VS. Spikological Warfare
DESCRIPTION:League Name: S2 Mon Coed 4's VB- March 2 \nGame Type: Regular\n
 Game Status: Complete\nHome Team: Clever Beaches\nAway Team: Spikological 
 Warfare\nHome Score: 1\nAway Score: 0
END:VEVENT
BEGIN:VEVENT
UID:17032935@ezleagues.ezfacility.com
DTSTAMP:20260420T082419Z
CREATED:20260420T082419Z
DTSTART:20260407T030000Z
DTEND:20260407T040000Z
LOCATION:Court 3
CONTACT:
SUMMARY:Clever Beaches VS. Gone Fishin'
DESCRIPTION:League Name: S2 Mon Coed 4's VB- March 2 \nGame Type: Regular\n
 Game Status: Complete\nHome Team: Clever Beaches\nAway Team: Gone Fishin'\
 nHome Score: 1\nAway Score: 0
END:VEVENT
BEGIN:VEVENT
UID:17032940@ezleagues.ezfacility.com
DTSTAMP:20260420T082419Z
CREATED:20260420T082419Z
DTSTART:20260414T020000Z
DTEND:20260414T030000Z
LOCATION:Court 5
CONTACT:
SUMMARY:Ball Droppers VS. Clever Beaches
DESCRIPTION:League Name: S2 Mon Coed 4's VB- March 2 \nGame Type: Regular\n
 Game Status: Complete\nHome Team: Ball Droppers\nAway Team: Clever Beaches
 \nHome Score: 0\nAway Score: 1
END:VEVENT
BEGIN:VEVENT
UID:17032944@ezleagues.ezfacility.com
DTSTAMP:20260420T082419Z
CREATED:20260420T082419Z
DTSTART:20260414T030000Z
DTEND:20260414T040000Z
LOCATION:Court 2
CONTACT:
SUMMARY:Cloud Surfers VS. Clever Beaches
DESCRIPTION:League Name: S2 Mon Coed 4's VB- March 2 \nGame Type: Regular\n
 Game Status: Complete\nHome Team: Cloud Surfers\nAway Team: Clever Beaches
 \nHome Score: 0\nAway Score: 1
END:VEVENT
BEGIN:VEVENT
UID:17101940@ezleagues.ezfacility.com
DTSTAMP:20260420T082419Z
CREATED:20260420T082419Z
DTSTART:20260421T020000Z
DTEND:20260421T030000Z
LOCATION:Court 1
CONTACT:
SUMMARY:Clever Beaches VS. Amped Gorillas
DESCRIPTION:League Name: S2 Mon Coed 4's VB- March 2 \nGame Type: Postseaso
 n\nGame Status: Pending\nHome Team: Clever Beaches\nAway Team: Amped Goril
 las\n
END:VEVENT
END:VCALENDAR
