BEGIN:VCALENDAR
VERSION:2.0
PRODID:-//EZFacility.com, Inc.//EZL 2.5.5.28621
BEGIN:VEVENT
UID:17035213@ezleagues.ezfacility.com
DTSTAMP:20260426T004255Z
CREATED:20260426T004255Z
DTSTART:20260309T002500Z
DTEND:20260309T012000Z
LOCATION: Field 3
CONTACT:
SUMMARY:Greenday VS. WWWD
DESCRIPTION:League Name: Sunday Women's Over 40\nGame Type: Regular\nGame S
 tatus: Complete\nHome Team: Greenday\nAway Team: WWWD\nHome Score: 10\nAwa
 y Score: 3
END:VEVENT
BEGIN:VEVENT
UID:17035218@ezleagues.ezfacility.com
DTSTAMP:20260426T004255Z
CREATED:20260426T004255Z
DTSTART:20260316T002500Z
DTEND:20260316T012000Z
LOCATION:VA Army National Guard Field 2
CONTACT:
SUMMARY:Reds VS. Greenday
DESCRIPTION:League Name: Sunday Women's Over 40\nGame Type: Regular\nGame S
 tatus: Complete\nHome Team: Reds\nAway Team: Greenday\nHome Score: 0\nAway
  Score: 3
END:VEVENT
BEGIN:VEVENT
UID:17035228@ezleagues.ezfacility.com
DTSTAMP:20260426T004255Z
CREATED:20260426T004255Z
DTSTART:20260329T235500Z
DTEND:20260330T005000Z
LOCATION:VA Army National Guard Field 2
CONTACT:
SUMMARY:Buzz Kill VS. Greenday
DESCRIPTION:League Name: Sunday Women's Over 40\nGame Type: Regular\nGame S
 tatus: Pending\nHome Team: Buzz Kill\nAway Team: Greenday\n
END:VEVENT
BEGIN:VEVENT
UID:17035242@ezleagues.ezfacility.com
DTSTAMP:20260426T004255Z
CREATED:20260426T004255Z
DTSTART:20260419T230000Z
DTEND:20260419T235500Z
LOCATION:VA Army National Guard Field 2
CONTACT:
SUMMARY:Greenday VS. Goaldiggers
DESCRIPTION:League Name: Sunday Women's Over 40\nGame Type: Regular\nGame S
 tatus: Pending\nHome Team: Greenday\nAway Team: Goaldiggers\n
END:VEVENT
BEGIN:VEVENT
UID:17035235@ezleagues.ezfacility.com
DTSTAMP:20260426T004255Z
CREATED:20260426T004255Z
DTSTART:20260420T004500Z
DTEND:20260420T014000Z
LOCATION:VA Army National Guard Field 2
CONTACT:
SUMMARY:Royals VS. Greenday
DESCRIPTION:League Name: Sunday Women's Over 40\nGame Type: Regular\nGame S
 tatus: Pending\nHome Team: Royals\nAway Team: Greenday\n
END:VEVENT
BEGIN:VEVENT
UID:17035223@ezleagues.ezfacility.com
DTSTAMP:20260426T004255Z
CREATED:20260426T004255Z
DTSTART:20260426T220000Z
DTEND:20260426T225500Z
LOCATION:VA Army National Guard Field 2
CONTACT:
SUMMARY:Greenday VS. Storm
DESCRIPTION:League Name: Sunday Women's Over 40\nGame Type: Regular\nGame S
 tatus: Pending\nHome Team: Greenday\nAway Team: Storm\n
END:VEVENT
END:VCALENDAR
