BEGIN:VCALENDAR
VERSION:2.0
PRODID:-//EZFacility.com, Inc.//EZL 2.5.5.28621
BEGIN:VEVENT
UID:17037908@ezleagues.ezfacility.com
DTSTAMP:20260424T044332Z
CREATED:20260424T044332Z
DTSTART:20260305T020000Z
DTEND:20260305T025500Z
LOCATION:Venue1
CONTACT:
SUMMARY:NEWMAN FC VS. CRUZ AZUL 
DESCRIPTION:League Name: MIERCOLES-VETERANOS /WEDNESDAY-VETERANS\nGame Type
 : Regular\nGame Status: Complete\nHome Team: NEWMAN FC\nAway Team: CRUZ AZ
 UL \nHome Score: 6\nAway Score: 3
END:VEVENT
BEGIN:VEVENT
UID:17045801@ezleagues.ezfacility.com
DTSTAMP:20260424T044332Z
CREATED:20260424T044332Z
DTSTART:20260312T010000Z
DTEND:20260312T015500Z
LOCATION:Venue1
CONTACT:
SUMMARY:REAL MADRID VS. CRUZ AZUL 
DESCRIPTION:League Name: MIERCOLES-VETERANOS /WEDNESDAY-VETERANS\nGame Type
 : Regular\nGame Status: Complete\nHome Team: REAL MADRID\nAway Team: CRUZ 
 AZUL \nHome Score: 7\nAway Score: 2
END:VEVENT
BEGIN:VEVENT
UID:17045805@ezleagues.ezfacility.com
DTSTAMP:20260424T044332Z
CREATED:20260424T044332Z
DTSTART:20260319T015500Z
DTEND:20260319T025000Z
LOCATION:Venue1
CONTACT:
SUMMARY:CALI FC  VS. CRUZ AZUL 
DESCRIPTION:League Name: MIERCOLES-VETERANOS /WEDNESDAY-VETERANS\nGame Type
 : Regular\nGame Status: Complete\nHome Team: CALI FC \nAway Team: CRUZ AZU
 L \nHome Score: 6\nAway Score: 3
END:VEVENT
BEGIN:VEVENT
UID:17052315@ezleagues.ezfacility.com
DTSTAMP:20260424T044332Z
CREATED:20260424T044332Z
DTSTART:20260326T034000Z
DTEND:20260326T043500Z
LOCATION:Venue1
CONTACT:
SUMMARY:PACHUCA VS. CRUZ AZUL 
DESCRIPTION:League Name: MIERCOLES-VETERANOS /WEDNESDAY-VETERANS\nGame Type
 : Regular\nGame Status: Complete\nHome Team: PACHUCA\nAway Team: CRUZ AZUL
  \nHome Score: 2\nAway Score: 4
END:VEVENT
BEGIN:VEVENT
UID:17052332@ezleagues.ezfacility.com
DTSTAMP:20260424T044332Z
CREATED:20260424T044332Z
DTSTART:20260402T043000Z
DTEND:20260402T052500Z
LOCATION:Venue1
CONTACT:
SUMMARY:C\,D\,L  VS. CRUZ AZUL 
DESCRIPTION:League Name: MIERCOLES-VETERANOS /WEDNESDAY-VETERANS\nGame Type
 : Regular\nGame Status: Complete\nHome Team: C,D,L \nAway Team: CRUZ AZUL 
 \nHome Score: 6\nAway Score: 5
END:VEVENT
BEGIN:VEVENT
UID:17078817@ezleagues.ezfacility.com
DTSTAMP:20260424T044332Z
CREATED:20260424T044332Z
DTSTART:20260409T034000Z
DTEND:20260409T043500Z
LOCATION:Venue1
CONTACT:
SUMMARY:CHELSEA FC  VS. CRUZ AZUL 
DESCRIPTION:League Name: MIERCOLES-VETERANOS /WEDNESDAY-VETERANS\nGame Type
 : Regular\nGame Status: Complete\nHome Team: CHELSEA FC \nAway Team: CRUZ 
 AZUL \nHome Score: 5\nAway Score: 6
END:VEVENT
BEGIN:VEVENT
UID:17078825@ezleagues.ezfacility.com
DTSTAMP:20260424T044332Z
CREATED:20260424T044332Z
DTSTART:20260416T010000Z
DTEND:20260416T015500Z
LOCATION:Venue1
CONTACT:
SUMMARY:CRUZ AZUL  VS. TAPATIO FC 
DESCRIPTION:League Name: MIERCOLES-VETERANOS /WEDNESDAY-VETERANS\nGame Type
 : Regular\nGame Status: Complete\nHome Team: CRUZ AZUL \nAway Team: TAPATI
 O FC \nHome Score: 3\nAway Score: 10
END:VEVENT
BEGIN:VEVENT
UID:17078831@ezleagues.ezfacility.com
DTSTAMP:20260424T044332Z
CREATED:20260424T044332Z
DTSTART:20260423T010000Z
DTEND:20260423T015500Z
LOCATION:Venue1
CONTACT:
SUMMARY:CRUZ AZUL  VS. LOS AMIGOS
DESCRIPTION:League Name: MIERCOLES-VETERANOS /WEDNESDAY-VETERANS\nGame Type
 : Regular\nGame Status: Complete\nHome Team: CRUZ AZUL \nAway Team: LOS AM
 IGOS\nHome Score: 4\nAway Score: 11
END:VEVENT
END:VCALENDAR
