BEGIN:VCALENDAR
VERSION:2.0
PRODID:-//EZFacility.com, Inc.//EZL 2.5.5.28621
BEGIN:VEVENT
UID:17036945@ezleagues.ezfacility.com
DTSTAMP:20260424T044106Z
CREATED:20260424T044106Z
DTSTART:20260324T030000Z
DTEND:20260324T040000Z
LOCATION:A3
CONTACT:
SUMMARY:Team 10 VS. Team 05
DESCRIPTION:League Name: Basketball Summer\nGame Type: Regular\nGame Status
 : Pending\nHome Team: Team 10\nAway Team: Team 05\n
END:VEVENT
END:VCALENDAR
