BEGIN:VCALENDAR
VERSION:2.0
PRODID:-//EZFacility.com, Inc.//EZL 2.5.5.28621
BEGIN:VEVENT
UID:17038347@ezleagues.ezfacility.com
DTSTAMP:20260426T033709Z
CREATED:20260426T033709Z
DTSTART:20260307T190000Z
DTEND:20260307T193000Z
LOCATION:Field B
CONTACT:
SUMMARY:Goofy VS. Mickey 
DESCRIPTION:League Name: Youth Soccer 2026 - Kindergarten\nGame Type: Regul
 ar\nGame Status: Pending\nHome Team: Goofy\nAway Team: Mickey \n
END:VEVENT
BEGIN:VEVENT
UID:17038349@ezleagues.ezfacility.com
DTSTAMP:20260426T033709Z
CREATED:20260426T033709Z
DTSTART:20260307T193000Z
DTEND:20260307T200000Z
LOCATION:Field A
CONTACT:
SUMMARY:Daisy VS. Goofy
DESCRIPTION:League Name: Youth Soccer 2026 - Kindergarten\nGame Type: Regul
 ar\nGame Status: Pending\nHome Team: Daisy\nAway Team: Goofy\n
END:VEVENT
BEGIN:VEVENT
UID:17038354@ezleagues.ezfacility.com
DTSTAMP:20260426T033709Z
CREATED:20260426T033709Z
DTSTART:20260314T180000Z
DTEND:20260314T183000Z
LOCATION:Field C
CONTACT:
SUMMARY:Donald VS. Goofy
DESCRIPTION:League Name: Youth Soccer 2026 - Kindergarten\nGame Type: Regul
 ar\nGame Status: Pending\nHome Team: Donald\nAway Team: Goofy\n
END:VEVENT
BEGIN:VEVENT
UID:17038356@ezleagues.ezfacility.com
DTSTAMP:20260426T033709Z
CREATED:20260426T033709Z
DTSTART:20260314T183000Z
DTEND:20260314T190000Z
LOCATION:Field B
CONTACT:
SUMMARY:Goofy VS. Pluto
DESCRIPTION:League Name: Youth Soccer 2026 - Kindergarten\nGame Type: Regul
 ar\nGame Status: Pending\nHome Team: Goofy\nAway Team: Pluto\n
END:VEVENT
BEGIN:VEVENT
UID:17038360@ezleagues.ezfacility.com
DTSTAMP:20260426T033709Z
CREATED:20260426T033709Z
DTSTART:20260321T180000Z
DTEND:20260321T183000Z
LOCATION:Field C
CONTACT:
SUMMARY:Donald VS. Goofy
DESCRIPTION:League Name: Youth Soccer 2026 - Kindergarten\nGame Type: Regul
 ar\nGame Status: Pending\nHome Team: Donald\nAway Team: Goofy\n
END:VEVENT
BEGIN:VEVENT
UID:17038361@ezleagues.ezfacility.com
DTSTAMP:20260426T033709Z
CREATED:20260426T033709Z
DTSTART:20260321T183000Z
DTEND:20260321T190000Z
LOCATION:Field A
CONTACT:
SUMMARY:Goofy VS. Minnie
DESCRIPTION:League Name: Youth Soccer 2026 - Kindergarten\nGame Type: Regul
 ar\nGame Status: Pending\nHome Team: Goofy\nAway Team: Minnie\n
END:VEVENT
BEGIN:VEVENT
UID:17038365@ezleagues.ezfacility.com
DTSTAMP:20260426T033709Z
CREATED:20260426T033709Z
DTSTART:20260404T180000Z
DTEND:20260404T183000Z
LOCATION:Field B
CONTACT:
SUMMARY:Daisy VS. Goofy
DESCRIPTION:League Name: Youth Soccer 2026 - Kindergarten\nGame Type: Regul
 ar\nGame Status: Pending\nHome Team: Daisy\nAway Team: Goofy\n
END:VEVENT
BEGIN:VEVENT
UID:17038368@ezleagues.ezfacility.com
DTSTAMP:20260426T033709Z
CREATED:20260426T033709Z
DTSTART:20260404T183000Z
DTEND:20260404T190000Z
LOCATION:Field B
CONTACT:
SUMMARY:Goofy VS. Pluto
DESCRIPTION:League Name: Youth Soccer 2026 - Kindergarten\nGame Type: Regul
 ar\nGame Status: Pending\nHome Team: Goofy\nAway Team: Pluto\n
END:VEVENT
BEGIN:VEVENT
UID:17038371@ezleagues.ezfacility.com
DTSTAMP:20260426T033709Z
CREATED:20260426T033709Z
DTSTART:20260411T180000Z
DTEND:20260411T183000Z
LOCATION:Field B
CONTACT:
SUMMARY:Goofy VS. Pluto
DESCRIPTION:League Name: Youth Soccer 2026 - Kindergarten\nGame Type: Regul
 ar\nGame Status: Pending\nHome Team: Goofy\nAway Team: Pluto\n
END:VEVENT
BEGIN:VEVENT
UID:17038375@ezleagues.ezfacility.com
DTSTAMP:20260426T033709Z
CREATED:20260426T033709Z
DTSTART:20260411T183000Z
DTEND:20260411T190000Z
LOCATION:Field C
CONTACT:
SUMMARY:Donald VS. Goofy
DESCRIPTION:League Name: Youth Soccer 2026 - Kindergarten\nGame Type: Regul
 ar\nGame Status: Pending\nHome Team: Donald\nAway Team: Goofy\n
END:VEVENT
BEGIN:VEVENT
UID:17038378@ezleagues.ezfacility.com
DTSTAMP:20260426T033709Z
CREATED:20260426T033709Z
DTSTART:20260418T180000Z
DTEND:20260418T183000Z
LOCATION:Field C
CONTACT:
SUMMARY:Goofy VS. Mickey 
DESCRIPTION:League Name: Youth Soccer 2026 - Kindergarten\nGame Type: Regul
 ar\nGame Status: Pending\nHome Team: Goofy\nAway Team: Mickey \n
END:VEVENT
BEGIN:VEVENT
UID:17038381@ezleagues.ezfacility.com
DTSTAMP:20260426T033709Z
CREATED:20260426T033709Z
DTSTART:20260418T183000Z
DTEND:20260418T190000Z
LOCATION:Field C
CONTACT:
SUMMARY:Daisy VS. Goofy
DESCRIPTION:League Name: Youth Soccer 2026 - Kindergarten\nGame Type: Regul
 ar\nGame Status: Pending\nHome Team: Daisy\nAway Team: Goofy\n
END:VEVENT
BEGIN:VEVENT
UID:17038382@ezleagues.ezfacility.com
DTSTAMP:20260426T033709Z
CREATED:20260426T033709Z
DTSTART:20260425T180000Z
DTEND:20260425T183000Z
LOCATION:Field A
CONTACT:
SUMMARY:Goofy VS. Minnie
DESCRIPTION:League Name: Youth Soccer 2026 - Kindergarten\nGame Type: Regul
 ar\nGame Status: Pending\nHome Team: Goofy\nAway Team: Minnie\n
END:VEVENT
BEGIN:VEVENT
UID:17038386@ezleagues.ezfacility.com
DTSTAMP:20260426T033709Z
CREATED:20260426T033709Z
DTSTART:20260425T183000Z
DTEND:20260425T190000Z
LOCATION:Field B
CONTACT:
SUMMARY:Goofy VS. Pluto
DESCRIPTION:League Name: Youth Soccer 2026 - Kindergarten\nGame Type: Regul
 ar\nGame Status: Pending\nHome Team: Goofy\nAway Team: Pluto\n
END:VEVENT
END:VCALENDAR
